PDS_VERSION_ID = PDS3
/* FILE DATA ELEMENTS */
RECORD_TYPE = UNDEFINED
/* POINTERS TO DATA OBJECTS */
^IMAGE = ("H2631_0001_GR4.TIF")
/* IDENTIFICATION DATA ELEMENTS */
DATA_SET_ID = "MEX-M-HRSC-4-REFDR-MAPPROJECT-EXT1-V4.0"
DATA_SET_NAME = "MARS EXPRESS HRSC MAP PROJECTED REFDR EXTENSION1 V4.0"
DETECTOR_ID = MEX_HRSC_GREEN
EVENT_TYPE = "MARS-REGIONAL-MAPPING-Vo-Fl-Lc"
INSTRUMENT_HOST_ID = MEX
INSTRUMENT_HOST_NAME = "MARS EXPRESS"
INSTRUMENT_ID = HRSC
INSTRUMENT_NAME = "HIGH RESOLUTION STEREO CAMERA"
MISSION_NAME = "MARS EXPRESS"
MISSION_PHASE_NAME = ME_Phase_2
PROCESSING_LEVEL_ID = 4
PRODUCT_CREATION_TIME = 2023-02-08T07:05:14.000Z
PRODUCT_ID = "H2631_0001_GR4.TIF"
RELEASE_ID = 0001
REVISION_ID = 0000
/* QUALITY DATA ELEMENTS */
DATA_QUALITY_ID = 1
DATA_QUALITY_DESC = "Data calculated based on original SPICE kernels"
/* TIME DATA ELEMENTS */
SPACECRAFT_CLOCK_START_COUNT = "1/0086607558.09057"
SPACECRAFT_CLOCK_STOP_COUNT = "1/0086608592.02954"
START_TIME = 2006-01-29T09:40:43.202Z
STOP_TIME = 2006-01-29T09:48:19.964Z
/* ORBITAL DATA ELEMENTS */
ASCENDING_NODE_LONGITUDE = 173.07
MAXIMUM_RESOLUTION = 0.1476
FOOTPRINT_POINT_LATITUDE = (-49.1794,-49.2127,-49.2635,-49.29, -49.3007,-49.3009,-49.2818,-48.5901, -47.8885,-47.1753,-46.4517,-45.7158, -44.9691,-44.2098,-43.4382,-42.6538, -42.2565,-41.8563,-41.4528,-41.0459, -40.6356,-40.2218,-39.8045,-39.3842, -38.9594,-38.5316,-38.0998,-37.663, -37.225,-36.5686,-36.1343,-35.7021, -35.2726,-34.8458,-34.4217,-33.9997, -33.5802,-33.163,-32.7484,-32.336, -31.926,-31.5183,-31.1129,-30.7099, -30.3093,-29.9109,-29.5148,-29.3179, -29.239,-29.2794,-29.2991,-29.3166, -29.3367,-29.3503,-29.3597,-29.3686, -29.3713,-29.3762,-29.3753,-29.375, -29.377,-30.1521,-30.9357,-31.3317, -31.7306,-32.3347,-32.7384,-33.1462, -33.5566,-33.9683,-34.383,-34.8004, -35.2202,-35.642,-36.0669,-36.4945, -36.9252,-37.3583,-38.0054,-38.4325, -38.8558,-39.2759,-39.692,-40.1052, -40.5141,-40.9204,-41.3236,-41.7234, -42.1198,-42.9038,-43.6752,-44.4334, -45.3663,-46.0991,-46.8205,-47.5312, -48.231,-48.9196,-49.0907,-49.1794)
FOOTPRINT_POINT_LONGITUDE = (83.5001,84.2635,85.7903,87.0929, 88.2655,88.3107,88.3743,88.424,88.4704, 88.5149,88.5582,88.6004,88.6404,88.6789 ,88.7152,88.7504,88.7675,88.7848, 88.8006,88.8167,88.8323,88.8477,88.8627 ,88.8764,88.8911,88.9044,88.918,88.9335 ,88.9431,88.9606,88.9715,88.9827,88.993 ,89.0023,89.0107,89.0192,89.0275, 89.0354,89.0426,89.0498,89.0566,89.063, 89.0694,89.0751,89.0804,89.0854,89.0902 ,89.0919,89.093,88.1701,87.6493,87.1293 ,86.379,85.8015,85.281,84.586,84.1213, 83.4299,82.9646,82.906,82.8864,82.9482, 83.0051,83.0342,83.0634,83.1088,83.1333 ,83.1609,83.1879,83.2113,83.2353, 83.2586,83.281,83.3011,83.3215,83.3414, 83.3614,83.3799,83.4055,83.4216,83.4363 ,83.4501,83.4621,83.4738,83.4831, 83.4924,83.5008,83.5081,83.514,83.5233, 83.5289,83.5278,83.5265,83.5197,83.5091 ,83.4947,83.4775,83.4547,83.4492, 83.5001)
ORBIT_NUMBER = 2631
ORBITAL_ECCENTRICITY = 0.571
ORBITAL_INCLINATION = 86.62
ORBITAL_SEMIMAJOR_AXIS = 8533.13
PERIAPSIS_ALTITUDE = 280.4
PERIAPSIS_ARGUMENT_ANGLE = 256.08
PERIAPSIS_TIME = 2006-01-29T09:25:48.000Z
SPACECRAFT_ORIENTATION = (0.0,-1.0,0.0)
^MEX_ORIENTATION_DESC = "MEX_ORIENTATION_DESC.TXT"
SPACECRAFT_POINTING_MODE = NADIR
^MEX_POINTING_DESC = "MEX_POINTING_DESC.TXT"
RIGHT_ASCENSION = -1e+32
DECLINATION = -1e+32
OFFSET_ANGLE = -1e+32
SPACECRAFT_SOLAR_DISTANCE = 2.34411e+08
TARGET_NAME = MARS
/* CAMERA DATA ELEMENTS */
DETECTOR_TEMPERATURE = 19.39
FOCAL_PLANE_TEMPERATURE = 8.7872
INST_CMPRS_NAME = "DISCRETE COSINE TRANSFORMATION (DCT)"
INST_CMPRS_RATIO = 10.4562
INST_CMPRS_QUALITY = 0
INST_CMPRS_QUANTZ_TBL_ID = 0
INSTRUMENT_TEMPERATURE = 13.0691
LENS_TEMPERATURE = 9.3989
MACROPIXEL_SIZE = 4
MISSING_FRAMES = 0
PIXEL_SUBSAMPLING_FLAG = N
SIGNAL_CHAIN_ID = 2
/* RADIOMETRIC DATA ELEMENTS */
BANDWIDTH = 88.0
CENTER_FILTER_WAVELENGTH = 538.0
RADIANCE_OFFSET = 0.917399
RADIANCE_SCALING_FACTOR = 0.0044251
REFLECTANCE_SCALING_FACTOR = 0.000209351
MEX:REFLECTANCE_OFFSET = 0.0434021
/* IMAGE OBJECT DEFINITIONS */
OBJECT = IMAGE
  INTERCHANGE_FORMAT = BINARY
  LINES = 5944
  LINE_SAMPLES = 1679
  SAMPLE_TYPE = UNSIGNED_INTEGER
  SAMPLE_BITS = 8
  BANDS = 1
  BAND_STORAGE_TYPE = BAND_SEQUENTIAL
  MAXIMUM = 255
  MEAN = 121.606
  MINIMUM = 1
  STANDARD_DEVIATION = 23.0788
END_OBJECT = IMAGE
/* MAP OBJECT DEFINITIONS */
OBJECT = IMAGE_MAP_PROJECTION
  ^DATA_SET_MAP_PROJECTION_CATALOG= "DSMAP.CAT"
  A_AXIS_RADIUS = 3396.0
  B_AXIS_RADIUS = 3396.0
  C_AXIS_RADIUS = 3396.0
  CENTER_LATITUDE = 0.0
  CENTER_LONGITUDE = 86.0
  COORDINATE_SYSTEM_NAME = PLANETOGRAPHIC
  COORDINATE_SYSTEM_TYPE = "BODY-FIXED ROTATING"
  EASTERNMOST_LONGITUDE = 89.093
  FIRST_STANDARD_PARALLEL = "N/A"
  LINE_FIRST_PIXEL = 1
  LINE_LAST_PIXEL = 5944
  LINE_PROJECTION_OFFSET = -8662.125
  MAP_PROJECTION_ROTATION = 0.0
  MAP_PROJECTION_TYPE = SINUSOIDAL
  MAP_RESOLUTION = 296.356901933333
  MAP_SCALE = 0.2
  MAXIMUM_LATITUDE = -29.239
  MINIMUM_LATITUDE = -49.3009
  POSITIVE_LONGITUDE_DIRECTION = EAST
  REFERENCE_LATITUDE = "N/A"
  REFERENCE_LONGITUDE = "N/A"
  SAMPLE_FIRST_PIXEL = 1
  SAMPLE_LAST_PIXEL = 1679
  SAMPLE_PROJECTION_OFFSET = 838.625
  SECOND_STANDARD_PARALLEL = "N/A"
  WESTERNMOST_LONGITUDE = 82.88639999999999
END_OBJECT = IMAGE_MAP_PROJECTION
END
