PDS_VERSION_ID = PDS3
/* FILE DATA ELEMENTS */
RECORD_TYPE = UNDEFINED
/* POINTERS TO DATA OBJECTS */
^IMAGE = ("H2631_0000_P14.TIF")
/* IDENTIFICATION DATA ELEMENTS */
DATA_SET_ID = "MEX-M-HRSC-4-REFDR-MAPPROJECT-EXT1-V4.0"
DATA_SET_NAME = "MARS EXPRESS HRSC MAP PROJECTED REFDR EXTENSION1 V4.0"
DETECTOR_ID = MEX_HRSC_P1
EVENT_TYPE = "MARS-TERMINATOR-VARIABLE-Gl-Eo-At"
INSTRUMENT_HOST_ID = MEX
INSTRUMENT_HOST_NAME = "MARS EXPRESS"
INSTRUMENT_ID = HRSC
INSTRUMENT_NAME = "HIGH RESOLUTION STEREO CAMERA"
MISSION_NAME = "MARS EXPRESS"
MISSION_PHASE_NAME = ME_Phase_2
PROCESSING_LEVEL_ID = 4
PRODUCT_CREATION_TIME = 2023-02-08T07:05:14.000Z
PRODUCT_ID = "H2631_0000_P14.TIF"
RELEASE_ID = 0001
REVISION_ID = 0000
/* QUALITY DATA ELEMENTS */
DATA_QUALITY_ID = 1
DATA_QUALITY_DESC = "Data calculated based on original SPICE kernels"
/* TIME DATA ELEMENTS */
SPACECRAFT_CLOCK_START_COUNT = "1/0086607004.08255"
SPACECRAFT_CLOCK_STOP_COUNT = "1/0086607230.50979"
START_TIME = 2006-01-29T09:30:20.168Z
STOP_TIME = 2006-01-29T09:32:39.891Z
/* ORBITAL DATA ELEMENTS */
ASCENDING_NODE_LONGITUDE = 173.07
MAXIMUM_RESOLUTION = 0.0565
FOOTPRINT_POINT_LATITUDE = (-83.345,-83.4817,-83.6357,-83.7915, -83.9463,-83.9513,-83.9111,-83.7668, -83.4773,-83.3308,-83.0369,-82.8148, -82.5913,-82.4417,-82.2916,-82.1412, -81.9902,-81.688,-81.4255,-81.2441, -81.0624,-80.88,-80.6976,-80.5151, -80.3316,-80.1481,-79.9647,-79.6897, -79.5061,-79.3225,-79.1386,-78.8626, -78.6785,-78.4943,-78.3103,-78.1263, -77.9438,-77.7596,-77.4838,-77.2013, -76.9167,-76.7265,-76.5377,-76.3448, -76.1513,-75.9585,-75.6696,-75.4729, -75.2724,-75.1725,-75.1661,-75.0987, -75.046,-74.9985,-74.9435,-74.8493, -74.8456,-74.8454,-75.0414,-75.2366, -75.4278,-75.6191,-75.9052,-76.0967, -76.2832,-76.4697,-76.6558,-76.9283, -77.1117,-77.2923,-77.4724,-77.6524, -77.9223,-78.192,-78.4602,-78.6387, -78.8176,-78.996,-79.1741,-79.352, -79.5293,-79.7063,-79.8832,-80.0597, -80.2359,-80.4985,-80.6727,-80.8466, -81.0205,-81.2579,-81.5451,-81.8304, -82.1131,-82.3928,-82.6,-82.8727, -83.0075,-83.2075,-83.2736,-83.345)
FOOTPRINT_POINT_LONGITUDE = (56.0519,57.7202,59.7826,62.1139, 64.7446,64.8346,65.3582,66.0543,67.3362 ,67.9404,69.0643,69.8465,70.5833, 71.0497,71.499,71.9293,72.3454,73.1253, 73.7537,74.1648,74.5589,74.9386,75.3016 ,75.6497,75.9877,76.3119,76.6228,77.065 ,77.3469,77.6185,77.8809,78.258,78.4983 ,78.7311,78.9551,79.1717,79.3759, 79.5793,79.8713,80.1587,80.4359,80.6152 ,80.7848,80.9567,81.1199,81.2766, 81.5026,81.6563,81.8094,81.8834,81.8881 ,80.4465,79.4382,78.5944,77.7039, 76.3038,76.2522,76.234,76.0469,75.8549, 75.6617,75.4628,75.153,74.9391,74.724, 74.5029,74.2749,73.9158,73.6713,73.4242 ,73.1692,72.9062,72.4961,72.0659, 71.6139,71.2998,70.9755,70.6398,70.2924 ,69.9327,69.5601,69.174,68.7738,68.3586 ,67.9277,67.25,66.7761,66.2833,65.7707, 65.0315,64.0724,63.0434,61.9377,60.7476 ,59.7949,58.4367,57.717,56.5828,56.1895 ,56.0519)
ORBIT_NUMBER = 2631
ORBITAL_ECCENTRICITY = 0.571
ORBITAL_INCLINATION = 86.62
ORBITAL_SEMIMAJOR_AXIS = 8533.13
PERIAPSIS_ALTITUDE = 280.4
PERIAPSIS_ARGUMENT_ANGLE = 256.08
PERIAPSIS_TIME = 2006-01-29T09:25:48.000Z
SPACECRAFT_ORIENTATION = (0.0,-1.0,0.0)
^MEX_ORIENTATION_DESC = "MEX_ORIENTATION_DESC.TXT"
SPACECRAFT_POINTING_MODE = NADIR
^MEX_POINTING_DESC = "MEX_POINTING_DESC.TXT"
RIGHT_ASCENSION = -1e+32
DECLINATION = -1e+32
OFFSET_ANGLE = -1e+32
SPACECRAFT_SOLAR_DISTANCE = 2.34411e+08
TARGET_NAME = MARS
/* CAMERA DATA ELEMENTS */
DETECTOR_TEMPERATURE = 17.7588
FOCAL_PLANE_TEMPERATURE = 8.5833
INST_CMPRS_NAME = "DISCRETE COSINE TRANSFORMATION (DCT)"
INST_CMPRS_RATIO = 33.6729
INST_CMPRS_QUALITY = 0
INST_CMPRS_QUANTZ_TBL_ID = 0
INSTRUMENT_TEMPERATURE = 11.0301
LENS_TEMPERATURE = 8.7872
MACROPIXEL_SIZE = 4
MISSING_FRAMES = 0
PIXEL_SUBSAMPLING_FLAG = N
SIGNAL_CHAIN_ID = 1
/* RADIOMETRIC DATA ELEMENTS */
BANDWIDTH = 174.0
CENTER_FILTER_WAVELENGTH = 675.0
RADIANCE_OFFSET = 0.128915
RADIANCE_SCALING_FACTOR = 0.0041455
REFLECTANCE_SCALING_FACTOR = 0.000122524
MEX:REFLECTANCE_OFFSET = 0.0038102
/* IMAGE OBJECT DEFINITIONS */
OBJECT = IMAGE
  INTERCHANGE_FORMAT = BINARY
  LINES = 10765
  LINE_SAMPLES = 5097
  SAMPLE_TYPE = UNSIGNED_INTEGER
  SAMPLE_BITS = 8
  BANDS = 1
  BAND_STORAGE_TYPE = BAND_SEQUENTIAL
  MAXIMUM = 255
  MEAN = 93.3762
  MINIMUM = 2
  STANDARD_DEVIATION = 41.4813
END_OBJECT = IMAGE
/* MAP OBJECT DEFINITIONS */
OBJECT = IMAGE_MAP_PROJECTION
  ^DATA_SET_MAP_PROJECTION_CATALOG= "DSMAP.CAT"
  A_AXIS_RADIUS = 3396.0
  B_AXIS_RADIUS = 3396.0
  C_AXIS_RADIUS = 3396.0
  CENTER_LATITUDE = 0.0
  CENTER_LONGITUDE = 73.0
  COORDINATE_SYSTEM_NAME = PLANETOGRAPHIC
  COORDINATE_SYSTEM_TYPE = "BODY-FIXED ROTATING"
  EASTERNMOST_LONGITUDE = 81.88809999999999
  FIRST_STANDARD_PARALLEL = "N/A"
  LINE_FIRST_PIXEL = 1
  LINE_LAST_PIXEL = 10765
  LINE_PROJECTION_OFFSET = -88705.25
  MAP_PROJECTION_ROTATION = 0.0
  MAP_PROJECTION_TYPE = SINUSOIDAL
  MAP_RESOLUTION = 1185.42760773333
  MAP_SCALE = 0.05
  MAXIMUM_LATITUDE = -74.8454
  MINIMUM_LATITUDE = -83.9513
  POSITIVE_LONGITUDE_DIRECTION = EAST
  REFERENCE_LATITUDE = "N/A"
  REFERENCE_LONGITUDE = "N/A"
  SAMPLE_FIRST_PIXEL = 1
  SAMPLE_LAST_PIXEL = 5097
  SAMPLE_PROJECTION_OFFSET = 2354.75
  SECOND_STANDARD_PARALLEL = "N/A"
  WESTERNMOST_LONGITUDE = 56.0519
END_OBJECT = IMAGE_MAP_PROJECTION
END
