PDS_VERSION_ID = PDS3
/* FILE DATA ELEMENTS */
RECORD_TYPE = UNDEFINED
/* POINTERS TO DATA OBJECTS */
^IMAGE = ("H2630_0001_IR4.TIF")
/* IDENTIFICATION DATA ELEMENTS */
DATA_SET_ID = "MEX-M-HRSC-4-REFDR-MAPPROJECT-EXT1-V4.0"
DATA_SET_NAME = "MARS EXPRESS HRSC MAP PROJECTED REFDR EXTENSION1 V4.0"
DETECTOR_ID = MEX_HRSC_IR
EVENT_TYPE = "MARS-REGIONAL-MAPPING-Te-Im-Mw"
INSTRUMENT_HOST_ID = MEX
INSTRUMENT_HOST_NAME = "MARS EXPRESS"
INSTRUMENT_ID = HRSC
INSTRUMENT_NAME = "HIGH RESOLUTION STEREO CAMERA"
MISSION_NAME = "MARS EXPRESS"
MISSION_PHASE_NAME = ME_Phase_2
PROCESSING_LEVEL_ID = 4
PRODUCT_CREATION_TIME = 2023-02-08T07:05:14.000Z
PRODUCT_ID = "H2630_0001_IR4.TIF"
RELEASE_ID = 0001
REVISION_ID = 0000
/* QUALITY DATA ELEMENTS */
DATA_QUALITY_ID = 1
DATA_QUALITY_DESC = "Data calculated based on original SPICE kernels"
/* TIME DATA ELEMENTS */
SPACECRAFT_CLOCK_START_COUNT = "1/0086583368.08253"
SPACECRAFT_CLOCK_STOP_COUNT = "1/0086584307.22778"
START_TIME = 2006-01-29T02:56:28.644Z
STOP_TIME = 2006-01-29T03:02:18.439Z
/* ORBITAL DATA ELEMENTS */
ASCENDING_NODE_LONGITUDE = 173.09
MAXIMUM_RESOLUTION = 0.141
FOOTPRINT_POINT_LATITUDE = (-48.8386,-48.8821,-48.9097,-48.9396, -48.9546,-48.9658,-48.9721,-48.9723, -48.9171,-48.316,-47.7048,-47.0837, -46.4534,-45.8145,-45.1672,-44.348, -43.6817,-43.3369,-42.6503,-42.3038, -41.9535,-41.602,-41.2487,-40.8941, -40.538,-40.1783,-39.8169,-39.4516, -39.0807,-38.7046,-38.142,-37.5711, -37.1873,-36.7947,-36.4007,-36.0067, -35.4181,-34.8103,-34.4043,-33.9924, -33.579,-33.1626,-32.7418,-32.3158, -31.8872,-31.4565,-31.0275,-30.8136, -30.7382,-30.7652,-30.7814,-30.7906, -30.7913,-30.7907,-30.7872,-30.7828, -30.772,-30.752,-30.7505,-30.7529, -31.1764,-31.6031,-32.0313,-32.4555, -32.8694,-33.2821,-33.6921,-34.0996, -34.5041,-34.9051,-35.3043,-35.7011, -36.0956,-36.4884,-37.0665,-37.4481, -37.8271,-38.2037,-38.578,-39.125, -39.5024,-39.8639,-40.3963,-40.7601, -41.1141,-41.8046,-42.1593,-42.5019, -43.1827,-43.8523,-44.5121,-45.1627, -45.8059,-46.2855,-46.7527,-47.3725, -47.9831,-48.5873,-48.7352,-48.8386)
FOOTPRINT_POINT_LONGITUDE = (182.022,182.889,183.55,184.46,185.081, 185.744,186.409,186.451,186.493,186.53, 186.568,186.605,186.641,186.675,186.708 ,186.746,186.775,186.793,186.823, 186.837,186.851,186.864,186.877,186.889 ,186.899,186.91,186.92,186.93,186.942, 186.954,186.968,186.982,186.99,187.001, 187.011,187.019,187.027,187.039,187.046 ,187.052,187.058,187.064,187.069, 187.075,187.079,187.084,187.087,187.089 ,187.089,186.29,185.44,185.039,184.34, 183.789,183.338,182.888,182.386,181.782 ,181.731,181.715,181.741,181.766, 181.792,181.816,181.836,181.856,181.876 ,181.895,181.913,181.93,181.946,181.963 ,181.978,181.994,182.013,182.024, 182.035,182.046,182.056,182.065,182.077 ,182.083,182.089,182.097,182.101, 182.103,182.109,182.109,182.11,182.108, 182.103,182.095,182.086,182.078,182.066 ,182.049,182.03,182.008,182.002, 182.022)
ORBIT_NUMBER = 2630
ORBITAL_ECCENTRICITY = 0.571
ORBITAL_INCLINATION = 86.61
ORBITAL_SEMIMAJOR_AXIS = 8535.32
PERIAPSIS_ALTITUDE = 281.31
PERIAPSIS_ARGUMENT_ANGLE = 256.26
PERIAPSIS_TIME = 2006-01-29T02:42:34.000Z
SPACECRAFT_ORIENTATION = (0.0,-1.0,0.0)
^MEX_ORIENTATION_DESC = "MEX_ORIENTATION_DESC.TXT"
SPACECRAFT_POINTING_MODE = NADIR
^MEX_POINTING_DESC = "MEX_POINTING_DESC.TXT"
RIGHT_ASCENSION = -1e+32
DECLINATION = -1e+32
OFFSET_ANGLE = -1e+32
SPACECRAFT_SOLAR_DISTANCE = 2.34361e+08
TARGET_NAME = MARS
/* CAMERA DATA ELEMENTS */
DETECTOR_TEMPERATURE = 18.9822
FOCAL_PLANE_TEMPERATURE = 8.7872
INST_CMPRS_NAME = "DISCRETE COSINE TRANSFORMATION (DCT)"
INST_CMPRS_RATIO = 9.50273
INST_CMPRS_QUALITY = 0
INST_CMPRS_QUANTZ_TBL_ID = 0
INSTRUMENT_TEMPERATURE = 13.273
LENS_TEMPERATURE = 8.9911
MACROPIXEL_SIZE = 4
MISSING_FRAMES = 0
PIXEL_SUBSAMPLING_FLAG = N
SIGNAL_CHAIN_ID = 2
/* RADIOMETRIC DATA ELEMENTS */
BANDWIDTH = 81.0
CENTER_FILTER_WAVELENGTH = 955.5
RADIANCE_OFFSET = 0.434052
RADIANCE_SCALING_FACTOR = 0.00346512
REFLECTANCE_SCALING_FACTOR = 0.000410603
MEX:REFLECTANCE_OFFSET = 0.0514334
/* IMAGE OBJECT DEFINITIONS */
OBJECT = IMAGE
  INTERCHANGE_FORMAT = BINARY
  LINES = 5395
  LINE_SAMPLES = 1608
  SAMPLE_TYPE = UNSIGNED_INTEGER
  SAMPLE_BITS = 8
  BANDS = 1
  BAND_STORAGE_TYPE = BAND_SEQUENTIAL
  MAXIMUM = 255
  MEAN = 107.939
  MINIMUM = 1
  STANDARD_DEVIATION = 24.8237
END_OBJECT = IMAGE
/* MAP OBJECT DEFINITIONS */
OBJECT = IMAGE_MAP_PROJECTION
  ^DATA_SET_MAP_PROJECTION_CATALOG= "DSMAP.CAT"
  A_AXIS_RADIUS = 3396.0
  B_AXIS_RADIUS = 3396.0
  C_AXIS_RADIUS = 3396.0
  CENTER_LATITUDE = 0.0
  CENTER_LONGITUDE = 184.0
  COORDINATE_SYSTEM_NAME = PLANETOGRAPHIC
  COORDINATE_SYSTEM_TYPE = "BODY-FIXED ROTATING"
  EASTERNMOST_LONGITUDE = 187.089
  FIRST_STANDARD_PARALLEL = "N/A"
  LINE_FIRST_PIXEL = 1
  LINE_LAST_PIXEL = 5395
  LINE_PROJECTION_OFFSET = -9097.375
  MAP_PROJECTION_ROTATION = 0.0
  MAP_PROJECTION_TYPE = SINUSOIDAL
  MAP_RESOLUTION = 296.356901933333
  MAP_SCALE = 0.2
  MAXIMUM_LATITUDE = -30.7382
  MINIMUM_LATITUDE = -48.9723
  POSITIVE_LONGITUDE_DIRECTION = EAST
  REFERENCE_LATITUDE = "N/A"
  REFERENCE_LONGITUDE = "N/A"
  SAMPLE_FIRST_PIXEL = 1
  SAMPLE_LAST_PIXEL = 1608
  SAMPLE_PROJECTION_OFFSET = 717.875
  SECOND_STANDARD_PARALLEL = "N/A"
  WESTERNMOST_LONGITUDE = 181.715
END_OBJECT = IMAGE_MAP_PROJECTION
END
