PDS_VERSION_ID = PDS3
/* FILE DATA ELEMENTS */
RECORD_TYPE = UNDEFINED
/* POINTERS TO DATA OBJECTS */
^IMAGE = ("H2630_0000_BL4.TIF")
/* IDENTIFICATION DATA ELEMENTS */
DATA_SET_ID = "MEX-M-HRSC-4-REFDR-MAPPROJECT-EXT1-V4.0"
DATA_SET_NAME = "MARS EXPRESS HRSC MAP PROJECTED REFDR EXTENSION1 V4.0"
DETECTOR_ID = MEX_HRSC_BLUE
EVENT_TYPE = "MARS-TERMINATOR-VARIABLE-Gl-Eo-At"
INSTRUMENT_HOST_ID = MEX
INSTRUMENT_HOST_NAME = "MARS EXPRESS"
INSTRUMENT_ID = HRSC
INSTRUMENT_NAME = "HIGH RESOLUTION STEREO CAMERA"
MISSION_NAME = "MARS EXPRESS"
MISSION_PHASE_NAME = ME_Phase_2
PROCESSING_LEVEL_ID = 4
PRODUCT_CREATION_TIME = 2023-02-08T07:05:14.000Z
PRODUCT_ID = "H2630_0000_BL4.TIF"
RELEASE_ID = 0001
REVISION_ID = 0000
/* QUALITY DATA ELEMENTS */
DATA_QUALITY_ID = 1
DATA_QUALITY_DESC = "Data calculated based on original SPICE kernels"
/* TIME DATA ELEMENTS */
SPACECRAFT_CLOCK_START_COUNT = "1/0086582813.07303"
SPACECRAFT_CLOCK_STOP_COUNT = "1/0086583033.42979"
START_TIME = 2006-01-29T02:47:36.038Z
STOP_TIME = 2006-01-29T02:49:57.684Z
/* ORBITAL DATA ELEMENTS */
ASCENDING_NODE_LONGITUDE = 173.09
MAXIMUM_RESOLUTION = 0.0576
FOOTPRINT_POINT_LATITUDE = (-82.911,-83.0212,-83.1732,-83.2785, -83.4977,-83.5025,-83.5301,-83.2003, -82.9715,-82.8119,-82.6511,-82.4904, -82.3293,-82.1679,-82.0062,-81.8441, -81.6818,-81.5194,-81.3567,-81.1937, -81.0304,-80.8671,-80.5396,-80.2118, -79.8838,-79.5554,-79.2269,-79.0599, -78.8914,-78.6386,-78.4697,-78.301, -78.1289,-77.9558,-77.7827,-77.6098, -77.437,-77.261,-77.0837,-76.9065, -76.7296,-76.5526,-76.3717,-76.1906, -76.0098,-75.8287,-75.6453,-75.4603, -75.2755,-75.1831,-75.1301,-75.0636, -75.0239,-74.9628,-74.9236,-74.8578, -74.8025,-74.7987,-74.7985,-75.0713, -75.253,-75.4345,-75.6123,-75.7901, -76.0564,-76.2334,-76.4069,-76.5804, -76.7538,-76.9273,-77.0986,-77.2676, -77.4367,-77.6056,-77.7745,-77.9414, -78.1059,-78.2703,-78.4343,-78.5984, -78.7618,-79.0806,-79.3986,-79.7158, -80.0319,-80.3468,-80.5821,-80.8164, -81.1272,-81.2818,-81.4359,-81.5894, -81.8185,-81.9703,-82.1213,-82.2715, -82.5675,-82.8138,-82.8749,-82.911)
FOOTPRINT_POINT_LONGITUDE = (156.45,157.826,159.888,161.452,165.17, 165.259,165.438,166.785,167.639,168.196 ,168.724,169.231,169.717,170.183,170.63 ,171.058,171.47,171.865,172.246,172.611 ,172.962,173.302,173.941,174.536, 175.093,175.612,176.098,176.334,176.565 ,176.898,177.111,177.317,177.521,177.72 ,177.913,178.101,178.283,178.463, 178.639,178.809,178.976,179.137,179.299 ,179.456,179.609,179.755,179.901, 180.045,180.184,180.252,180.291,178.83, 178.048,176.939,176.277,175.236,174.419 ,174.365,174.346,174.084,173.905,173.72 ,173.532,173.34,173.047,172.843,172.637 ,172.425,172.207,171.983,171.754, 171.524,171.285,171.039,170.786,170.527 ,170.264,169.992,169.718,169.431, 169.136,168.531,167.887,167.2,166.466, 165.68,165.053,164.394,163.46,162.967, 162.455,161.922,161.076,160.475,159.864 ,159.24,157.909,156.694,156.375,156.45)
ORBIT_NUMBER = 2630
ORBITAL_ECCENTRICITY = 0.571
ORBITAL_INCLINATION = 86.61
ORBITAL_SEMIMAJOR_AXIS = 8535.32
PERIAPSIS_ALTITUDE = 281.31
PERIAPSIS_ARGUMENT_ANGLE = 256.26
PERIAPSIS_TIME = 2006-01-29T02:42:34.000Z
SPACECRAFT_ORIENTATION = (0.0,-1.0,0.0)
^MEX_ORIENTATION_DESC = "MEX_ORIENTATION_DESC.TXT"
SPACECRAFT_POINTING_MODE = NADIR
^MEX_POINTING_DESC = "MEX_POINTING_DESC.TXT"
RIGHT_ASCENSION = -1e+32
DECLINATION = -1e+32
OFFSET_ANGLE = -1e+32
SPACECRAFT_SOLAR_DISTANCE = 2.34361e+08
TARGET_NAME = MARS
/* CAMERA DATA ELEMENTS */
DETECTOR_TEMPERATURE = 17.9627
FOCAL_PLANE_TEMPERATURE = 8.5833
INST_CMPRS_NAME = "DISCRETE COSINE TRANSFORMATION (DCT)"
INST_CMPRS_RATIO = 4.29211
INST_CMPRS_QUALITY = 0
INST_CMPRS_QUANTZ_TBL_ID = 0
INSTRUMENT_TEMPERATURE = 11.0301
LENS_TEMPERATURE = 8.7872
MACROPIXEL_SIZE = 4
MISSING_FRAMES = 0
PIXEL_SUBSAMPLING_FLAG = N
SIGNAL_CHAIN_ID = 2
/* RADIOMETRIC DATA ELEMENTS */
BANDWIDTH = 76.0
CENTER_FILTER_WAVELENGTH = 444.0
RADIANCE_OFFSET = 0.0
RADIANCE_SCALING_FACTOR = 0.00106856
REFLECTANCE_SCALING_FACTOR = 6.03011e-05
MEX:REFLECTANCE_OFFSET = 0.0
/* IMAGE OBJECT DEFINITIONS */
OBJECT = IMAGE
  INTERCHANGE_FORMAT = BINARY
  LINES = 10361
  LINE_SAMPLES = 4830
  SAMPLE_TYPE = UNSIGNED_INTEGER
  SAMPLE_BITS = 8
  BANDS = 1
  BAND_STORAGE_TYPE = BAND_SEQUENTIAL
  MAXIMUM = 253
  MEAN = 119.186
  MINIMUM = 1
  STANDARD_DEVIATION = 47.9846
END_OBJECT = IMAGE
/* MAP OBJECT DEFINITIONS */
OBJECT = IMAGE_MAP_PROJECTION
  ^DATA_SET_MAP_PROJECTION_CATALOG= "DSMAP.CAT"
  A_AXIS_RADIUS = 3396.0
  B_AXIS_RADIUS = 3396.0
  C_AXIS_RADIUS = 3396.0
  CENTER_LATITUDE = 0.0
  CENTER_LONGITUDE = 172.0
  COORDINATE_SYSTEM_NAME = PLANETOGRAPHIC
  COORDINATE_SYSTEM_TYPE = "BODY-FIXED ROTATING"
  EASTERNMOST_LONGITUDE = 180.291
  FIRST_STANDARD_PARALLEL = "N/A"
  LINE_FIRST_PIXEL = 1
  LINE_LAST_PIXEL = 10361
  LINE_PROJECTION_OFFSET = -88677.75
  MAP_PROJECTION_ROTATION = 0.0
  MAP_PROJECTION_TYPE = SINUSOIDAL
  MAP_RESOLUTION = 1185.42760773333
  MAP_SCALE = 0.05
  MAXIMUM_LATITUDE = -74.7985
  MINIMUM_LATITUDE = -83.5301
  POSITIVE_LONGITUDE_DIRECTION = EAST
  REFERENCE_LATITUDE = "N/A"
  REFERENCE_LONGITUDE = "N/A"
  SAMPLE_FIRST_PIXEL = 1
  SAMPLE_LAST_PIXEL = 4830
  SAMPLE_PROJECTION_OFFSET = 2312.75
  SECOND_STANDARD_PARALLEL = "N/A"
  WESTERNMOST_LONGITUDE = 156.375
END_OBJECT = IMAGE_MAP_PROJECTION
END
