PDS_VERSION_ID = PDS3
/* FILE DATA ELEMENTS */
RECORD_TYPE = UNDEFINED
/* POINTERS TO DATA OBJECTS */
^IMAGE = ("H2629_0001_IR4.TIF")
/* IDENTIFICATION DATA ELEMENTS */
DATA_SET_ID = "MEX-M-HRSC-4-REFDR-MAPPROJECT-EXT1-V4.0"
DATA_SET_NAME = "MARS EXPRESS HRSC MAP PROJECTED REFDR EXTENSION1 V4.0"
DETECTOR_ID = MEX_HRSC_IR
EVENT_TYPE = "MARS-REGIONAL-MAPPING-Im-Pf"
INSTRUMENT_HOST_ID = MEX
INSTRUMENT_HOST_NAME = "MARS EXPRESS"
INSTRUMENT_ID = HRSC
INSTRUMENT_NAME = "HIGH RESOLUTION STEREO CAMERA"
MISSION_NAME = "MARS EXPRESS"
MISSION_PHASE_NAME = ME_Phase_2
PROCESSING_LEVEL_ID = 4
PRODUCT_CREATION_TIME = 2023-02-08T07:05:14.000Z
PRODUCT_ID = "H2629_0001_IR4.TIF"
RELEASE_ID = 0001
REVISION_ID = 0000
/* QUALITY DATA ELEMENTS */
DATA_QUALITY_ID = 1
DATA_QUALITY_DESC = "Data calculated based on original SPICE kernels"
/* TIME DATA ELEMENTS */
SPACECRAFT_CLOCK_START_COUNT = "1/0086558910.09038"
SPACECRAFT_CLOCK_STOP_COUNT = "1/0086559255.65107"
START_TIME = 2006-01-28T20:08:44.547Z
STOP_TIME = 2006-01-28T20:11:24.552Z
/* ORBITAL DATA ELEMENTS */
ASCENDING_NODE_LONGITUDE = 173.12
MAXIMUM_RESOLUTION = 0.0921
FOOTPRINT_POINT_LATITUDE = (-64.7773,-64.8217,-64.8758,-64.9174, -64.9469,-64.9933,-64.9947,-64.9223, -64.6656,-64.324,-64.0633,-63.716, -63.3645,-63.0113,-62.5617,-62.2896, -61.9262,-61.7415,-61.5564,-61.3717, -61.1847,-60.9968,-60.8094,-60.62, -60.4307,-60.2417,-59.9537,-59.7615, -59.555,-59.2633,-59.0674,-58.8701, -58.6729,-58.3737,-58.1743,-57.8716, -57.6695,-57.3634,-57.056,-56.8508, -56.6436,-56.4346,-56.2269,-56.0152, -55.6972,-55.3732,-55.2662,-55.2434, -55.2313,-55.2235,-55.2146,-55.2001, -55.1774,-55.1587,-55.1414,-55.1036, -55.0775,-55.0753,-55.0762,-55.2889, -55.5023,-55.7127,-56.0282,-56.2363, -56.4447,-56.6504,-56.8574,-57.0632, -57.2641,-57.4674,-57.6681,-57.9694, -58.1681,-58.3667,-58.564,-58.76, -58.9566,-59.1504,-59.3435,-59.5493, -59.7401,-59.9312,-60.2157,-60.4984, -60.7784,-60.9645,-61.151,-61.3352, -61.5188,-61.7027,-62.0646,-62.3356, -62.6915,-63.1335,-63.4767,-63.8282, -64.1716,-64.596,-64.6812,-64.7773)
FOOTPRINT_POINT_LONGITUDE = (278.197,278.888,279.826,280.645, 281.302,282.539,282.58,282.669,282.728, 282.806,282.863,282.938,283.01,283.081, 283.17,283.222,283.289,283.323,283.356, 283.389,283.421,283.454,283.485,283.517 ,283.547,283.577,283.622,283.652, 283.683,283.726,283.754,283.783,283.81, 283.852,283.879,283.919,283.945,283.984 ,284.023,284.046,284.071,284.096, 284.119,284.144,284.18,284.217,284.228, 284.231,283.619,283.292,282.966,282.517 ,281.906,281.458,281.092,280.362, 279.915,279.875,279.861,279.839,279.817 ,279.794,279.759,279.736,279.711, 279.687,279.662,279.637,279.61,279.584, 279.557,279.515,279.488,279.459,279.43, 279.401,279.371,279.341,279.31,279.276, 279.245,279.212,279.163,279.112,279.061 ,279.026,278.991,278.955,278.919, 278.882,278.806,278.748,278.668,278.566 ,278.477,278.394,278.303,278.188, 278.164,278.197)
ORBIT_NUMBER = 2629
ORBITAL_ECCENTRICITY = 0.571
ORBITAL_INCLINATION = 86.61
ORBITAL_SEMIMAJOR_AXIS = 8535.86
PERIAPSIS_ALTITUDE = 281.19
PERIAPSIS_ARGUMENT_ANGLE = 256.43
PERIAPSIS_TIME = 2006-01-28T19:59:23.000Z
SPACECRAFT_ORIENTATION = (0.0,-1.0,0.0)
^MEX_ORIENTATION_DESC = "MEX_ORIENTATION_DESC.TXT"
SPACECRAFT_POINTING_MODE = NADIR
^MEX_POINTING_DESC = "MEX_POINTING_DESC.TXT"
RIGHT_ASCENSION = -1e+32
DECLINATION = -1e+32
OFFSET_ANGLE = -1e+32
SPACECRAFT_SOLAR_DISTANCE = 2.3431e+08
TARGET_NAME = MARS
/* CAMERA DATA ELEMENTS */
DETECTOR_TEMPERATURE = 18.5744
FOCAL_PLANE_TEMPERATURE = 10.0106
INST_CMPRS_NAME = "DISCRETE COSINE TRANSFORMATION (DCT)"
INST_CMPRS_RATIO = 26.8173
INST_CMPRS_QUALITY = 0
INST_CMPRS_QUANTZ_TBL_ID = 0
INSTRUMENT_TEMPERATURE = 12.6613
LENS_TEMPERATURE = 8.9911
MACROPIXEL_SIZE = 4
MISSING_FRAMES = 1
PIXEL_SUBSAMPLING_FLAG = N
SIGNAL_CHAIN_ID = 2
/* RADIOMETRIC DATA ELEMENTS */
BANDWIDTH = 81.0
CENTER_FILTER_WAVELENGTH = 955.5
RADIANCE_OFFSET = 0.257187
RADIANCE_SCALING_FACTOR = 0.00173893
REFLECTANCE_SCALING_FACTOR = 0.000205967
MEX:REFLECTANCE_OFFSET = 0.0304625
/* IMAGE OBJECT DEFINITIONS */
OBJECT = IMAGE
  INTERCHANGE_FORMAT = BINARY
  LINES = 5826
  LINE_SAMPLES = 1929
  SAMPLE_TYPE = UNSIGNED_INTEGER
  SAMPLE_BITS = 8
  BANDS = 1
  BAND_STORAGE_TYPE = BAND_SEQUENTIAL
  MAXIMUM = 255
  MEAN = 113.496
  MINIMUM = 1
  STANDARD_DEVIATION = 34.1733
END_OBJECT = IMAGE
/* MAP OBJECT DEFINITIONS */
OBJECT = IMAGE_MAP_PROJECTION
  ^DATA_SET_MAP_PROJECTION_CATALOG= "DSMAP.CAT"
  A_AXIS_RADIUS = 3396.0
  B_AXIS_RADIUS = 3396.0
  C_AXIS_RADIUS = 3396.0
  CENTER_LATITUDE = 0.0
  CENTER_LONGITUDE = 281.0
  COORDINATE_SYSTEM_NAME = PLANETOGRAPHIC
  COORDINATE_SYSTEM_TYPE = "BODY-FIXED ROTATING"
  EASTERNMOST_LONGITUDE = 284.231
  FIRST_STANDARD_PARALLEL = "N/A"
  LINE_FIRST_PIXEL = 1
  LINE_LAST_PIXEL = 5826
  LINE_PROJECTION_OFFSET = -32650.625
  MAP_PROJECTION_ROTATION = 0.0
  MAP_PROJECTION_TYPE = SINUSOIDAL
  MAP_RESOLUTION = 592.713803866667
  MAP_SCALE = 0.1
  MAXIMUM_LATITUDE = -55.0753
  MINIMUM_LATITUDE = -64.99469999999999
  POSITIVE_LONGITUDE_DIRECTION = EAST
  REFERENCE_LATITUDE = "N/A"
  REFERENCE_LONGITUDE = "N/A"
  SAMPLE_FIRST_PIXEL = 1
  SAMPLE_LAST_PIXEL = 1929
  SAMPLE_PROJECTION_OFFSET = 767.375
  SECOND_STANDARD_PARALLEL = "N/A"
  WESTERNMOST_LONGITUDE = 278.164
END_OBJECT = IMAGE_MAP_PROJECTION
END
