PDS_VERSION_ID = PDS3
/* FILE DATA ELEMENTS */
RECORD_TYPE = UNDEFINED
/* POINTERS TO DATA OBJECTS */
^IMAGE = ("H2626_0001_S14.TIF")
/* IDENTIFICATION DATA ELEMENTS */
DATA_SET_ID = "MEX-M-HRSC-4-REFDR-MAPPROJECT-EXT1-V4.0"
DATA_SET_NAME = "MARS EXPRESS HRSC MAP PROJECTED REFDR EXTENSION1 V4.0"
DETECTOR_ID = MEX_HRSC_S1
EVENT_TYPE = "MARS-REGIONAL-MAPPING-Im-Fl"
INSTRUMENT_HOST_ID = MEX
INSTRUMENT_HOST_NAME = "MARS EXPRESS"
INSTRUMENT_ID = HRSC
INSTRUMENT_NAME = "HIGH RESOLUTION STEREO CAMERA"
MISSION_NAME = "MARS EXPRESS"
MISSION_PHASE_NAME = ME_Phase_2
PROCESSING_LEVEL_ID = 4
PRODUCT_CREATION_TIME = 2023-02-08T07:05:14.000Z
PRODUCT_ID = "H2626_0001_S14.TIF"
RELEASE_ID = 0001
REVISION_ID = 0000
/* QUALITY DATA ELEMENTS */
DATA_QUALITY_ID = 1
DATA_QUALITY_DESC = "Data calculated based on original SPICE kernels"
/* TIME DATA ELEMENTS */
SPACECRAFT_CLOCK_START_COUNT = "1/0086486264.08248"
SPACECRAFT_CLOCK_STOP_COUNT = "1/0086486699.16590"
START_TIME = 2006-01-27T23:59:59.071Z
STOP_TIME = 2006-01-28T00:01:48.316Z
/* ORBITAL DATA ELEMENTS */
ASCENDING_NODE_LONGITUDE = 173.18
MAXIMUM_RESOLUTION = 0.0511
FOOTPRINT_POINT_LATITUDE = (-60.3572,-60.3873,-60.4108,-60.4264, -60.4434,-60.4594,-60.4851,-60.4985, -60.5109,-60.5209,-60.5329,-60.5458, -60.5469,-60.4691,-60.2253,-59.9079, -59.5965,-59.3444,-59.1569,-58.8965, -58.6476,-58.3889,-58.0648,-57.8724, -57.7409,-57.6087,-57.4771,-57.277, -57.1434,-57.0085,-56.8072,-56.6728, -56.5375,-56.3987,-56.2621,-56.1241, -55.9206,-55.718,-55.5788,-55.4403, -55.2306,-55.0906,-54.8808,-54.668, -54.5257,-54.3838,-54.2405,-54.0972, -53.8825,-53.8099,-53.8045,-53.7947, -53.7854,-53.7764,-53.7668,-53.7561, -53.744,-53.7255,-53.7072,-53.6863, -53.6679,-53.6481,-53.6456,-53.6456, -53.7904,-53.9339,-54.0766,-54.2195, -54.3596,-54.5694,-54.7096,-54.8488, -54.988,-55.1275,-55.2665,-55.4038, -55.5413,-55.6791,-55.8159,-56.082, -56.2823,-56.4165,-56.5512,-56.6869, -56.8266,-56.9595,-57.0911,-57.2226, -57.4839,-57.7458,-58.0042,-58.3905, -58.6453,-58.9626,-59.3405,-59.6523, -59.9622,-60.2064,-60.2674,-60.3572)
FOOTPRINT_POINT_LONGITUDE = (214.142,214.624,215.026,215.308,215.63 ,215.953,216.518,216.842,217.166, 217.449,217.815,218.262,218.303,218.374 ,218.412,218.465,218.512,218.549, 218.575,218.616,218.647,218.683,218.726 ,218.75,218.767,218.784,218.801,218.826 ,218.843,218.861,218.885,218.901, 218.917,218.936,218.952,218.968,218.99, 219.011,219.027,219.042,219.065,219.079 ,219.101,219.123,219.138,219.153, 219.167,219.181,219.202,219.209,219.209 ,218.673,218.26,217.93,217.601,217.271, 216.942,216.49,216.079,215.669,215.341, 215.013,214.972,214.957,214.945,214.932 ,214.92,214.907,214.893,214.873,214.859 ,214.845,214.831,214.817,214.803, 214.789,214.774,214.759,214.744,214.712 ,214.688,214.672,214.656,214.64,214.626 ,214.61,214.593,214.575,214.541,214.506 ,214.47,214.415,214.377,214.329,214.269 ,214.218,214.166,214.123,214.112, 214.142)
ORBIT_NUMBER = 2626
ORBITAL_ECCENTRICITY = 0.571
ORBITAL_INCLINATION = 86.62
ORBITAL_SEMIMAJOR_AXIS = 8534.54
PERIAPSIS_ALTITUDE = 280.26
PERIAPSIS_ARGUMENT_ANGLE = 256.96
PERIAPSIS_TIME = 2006-01-27T23:49:44.000Z
SPACECRAFT_ORIENTATION = (0.0,-1.0,0.0)
^MEX_ORIENTATION_DESC = "MEX_ORIENTATION_DESC.TXT"
SPACECRAFT_POINTING_MODE = NADIR
^MEX_POINTING_DESC = "MEX_POINTING_DESC.TXT"
RIGHT_ASCENSION = -1e+32
DECLINATION = -1e+32
OFFSET_ANGLE = -1e+32
SPACECRAFT_SOLAR_DISTANCE = 2.34158e+08
TARGET_NAME = MARS
/* CAMERA DATA ELEMENTS */
DETECTOR_TEMPERATURE = 17.9627
FOCAL_PLANE_TEMPERATURE = 8.1755
INST_CMPRS_NAME = "DISCRETE COSINE TRANSFORMATION (DCT)"
INST_CMPRS_RATIO = 11.8512
INST_CMPRS_QUALITY = 0
INST_CMPRS_QUANTZ_TBL_ID = 0
INSTRUMENT_TEMPERATURE = 12.0496
LENS_TEMPERATURE = 8.7872
MACROPIXEL_SIZE = 2
MISSING_FRAMES = 0
PIXEL_SUBSAMPLING_FLAG = N
SIGNAL_CHAIN_ID = 1
/* RADIOMETRIC DATA ELEMENTS */
BANDWIDTH = 180.0
CENTER_FILTER_WAVELENGTH = 677.0
RADIANCE_OFFSET = 1.60214
RADIANCE_SCALING_FACTOR = 0.00765371
REFLECTANCE_SCALING_FACTOR = 0.000218945
MEX:REFLECTANCE_OFFSET = 0.0458314
/* IMAGE OBJECT DEFINITIONS */
OBJECT = IMAGE
  INTERCHANGE_FORMAT = BINARY
  LINES = 10801
  LINE_SAMPLES = 3504
  SAMPLE_TYPE = UNSIGNED_INTEGER
  SAMPLE_BITS = 8
  BANDS = 1
  BAND_STORAGE_TYPE = BAND_SEQUENTIAL
  MAXIMUM = 255
  MEAN = 102.477
  MINIMUM = 1
  STANDARD_DEVIATION = 25.3768
END_OBJECT = IMAGE
/* MAP OBJECT DEFINITIONS */
OBJECT = IMAGE_MAP_PROJECTION
  ^DATA_SET_MAP_PROJECTION_CATALOG= "DSMAP.CAT"
  A_AXIS_RADIUS = 3396.0
  B_AXIS_RADIUS = 3396.0
  C_AXIS_RADIUS = 3396.0
  CENTER_LATITUDE = 0.0
  CENTER_LONGITUDE = 216.0
  COORDINATE_SYSTEM_NAME = PLANETOGRAPHIC
  COORDINATE_SYSTEM_TYPE = "BODY-FIXED ROTATING"
  EASTERNMOST_LONGITUDE = 219.209
  FIRST_STANDARD_PARALLEL = "N/A"
  LINE_FIRST_PIXEL = 1
  LINE_LAST_PIXEL = 10801
  LINE_PROJECTION_OFFSET = -70550.75
  MAP_PROJECTION_ROTATION = 0.0
  MAP_PROJECTION_TYPE = SINUSOIDAL
  MAP_RESOLUTION = 1185.42760773333
  MAP_SCALE = 0.05
  MAXIMUM_LATITUDE = -53.6456
  MINIMUM_LATITUDE = -60.5469
  POSITIVE_LONGITUDE_DIRECTION = EAST
  REFERENCE_LATITUDE = "N/A"
  REFERENCE_LONGITUDE = "N/A"
  SAMPLE_FIRST_PIXEL = 1
  SAMPLE_LAST_PIXEL = 3504
  SAMPLE_PROJECTION_OFFSET = 1895.75
  SECOND_STANDARD_PARALLEL = "N/A"
  WESTERNMOST_LONGITUDE = 214.112
END_OBJECT = IMAGE_MAP_PROJECTION
END
