PDS_VERSION_ID = PDS3
/* FILE DATA ELEMENTS */
RECORD_TYPE = UNDEFINED
/* POINTERS TO DATA OBJECTS */
^IMAGE = ("H2626_0001_RE4.TIF")
/* IDENTIFICATION DATA ELEMENTS */
DATA_SET_ID = "MEX-M-HRSC-4-REFDR-MAPPROJECT-EXT1-V4.0"
DATA_SET_NAME = "MARS EXPRESS HRSC MAP PROJECTED REFDR EXTENSION1 V4.0"
DETECTOR_ID = MEX_HRSC_RED
EVENT_TYPE = "MARS-REGIONAL-MAPPING-Im-Fl"
INSTRUMENT_HOST_ID = MEX
INSTRUMENT_HOST_NAME = "MARS EXPRESS"
INSTRUMENT_ID = HRSC
INSTRUMENT_NAME = "HIGH RESOLUTION STEREO CAMERA"
MISSION_NAME = "MARS EXPRESS"
MISSION_PHASE_NAME = ME_Phase_2
PROCESSING_LEVEL_ID = 4
PRODUCT_CREATION_TIME = 2023-02-08T07:05:14.000Z
PRODUCT_ID = "H2626_0001_RE4.TIF"
RELEASE_ID = 0001
REVISION_ID = 0000
/* QUALITY DATA ELEMENTS */
DATA_QUALITY_ID = 1
DATA_QUALITY_DESC = "Data calculated based on original SPICE kernels"
/* TIME DATA ELEMENTS */
SPACECRAFT_CLOCK_START_COUNT = "1/0086486264.08248"
SPACECRAFT_CLOCK_STOP_COUNT = "1/0086486699.16590"
START_TIME = 2006-01-27T23:59:59.164Z
STOP_TIME = 2006-01-28T00:04:39.459Z
/* ORBITAL DATA ELEMENTS */
ASCENDING_NODE_LONGITUDE = 173.18
MAXIMUM_RESOLUTION = 0.1009
FOOTPRINT_POINT_LATITUDE = (-66.5728,-66.6145,-66.6655,-66.7222, -66.7747,-66.8062,-66.8077,-66.8837, -66.4304,-65.9719,-65.508,-65.1574, -64.6835,-64.2028,-63.8396,-63.5968, -63.3506,-62.9811,-62.6076,-62.23, -61.8495,-61.5939,-61.3362,-61.0764, -60.6839,-60.2881,-60.0235,-59.7592, -59.4873,-59.2185,-58.9524,-58.6749, -58.4007,-57.9832,-57.7044,-57.4238, -57.1426,-56.8576,-56.5697,-56.1382, -55.8468,-55.4086,-54.9665,-54.6702, -54.3701,-53.917,-53.7646,-53.7611, -53.7566,-53.7463,-53.7349,-53.7139, -53.6921,-53.6767,-53.6585,-53.6346, -53.6325,-53.6335,-53.9333,-54.3822, -54.6789,-54.9725,-55.2646,-55.5552, -55.8431,-56.128,-56.5563,-56.9817, -57.2625,-57.5407,-57.8174,-58.0925, -58.3655,-58.6371,-58.907,-59.1753, -59.4409,-59.8382,-60.1002,-60.3618, -60.6218,-60.8787,-61.2633,-61.5182, -61.7721,-62.0233,-62.3986,-62.7704, -63.1383,-63.382,-63.6235,-63.9833, -64.3408,-64.812,-65.2783,-65.7391, -66.0811,-66.5319,-66.6438,-66.5728)
FOOTPRINT_POINT_LONGITUDE = (212.196,212.916,213.876,215.082,216.39 ,217.315,217.364,217.431,217.561, 217.689,217.812,217.902,218.019,218.132 ,218.214,218.269,218.323,218.403,218.48 ,218.556,218.631,218.679,218.728, 218.774,218.844,218.912,218.957,219.003 ,219.046,219.09,219.136,219.176,219.219 ,219.28,219.321,219.362,219.403,219.442 ,219.481,219.539,219.577,219.635, 219.691,219.729,219.765,219.819,219.837 ,219.837,219.276,218.457,217.794, 216.876,216.111,215.602,215.041,214.429 ,214.378,214.361,214.341,214.308, 214.284,214.261,214.236,214.21,214.185, 214.159,214.115,214.068,214.036,214.004 ,213.971,213.936,213.901,213.865, 213.828,213.79,213.752,213.691,213.65, 213.607,213.563,213.519,213.45,213.402, 213.352,213.303,213.225,213.145,213.063 ,213.007,212.95,212.863,212.772,212.647 ,212.517,212.381,212.277,212.133, 212.096,212.196)
ORBIT_NUMBER = 2626
ORBITAL_ECCENTRICITY = 0.571
ORBITAL_INCLINATION = 86.62
ORBITAL_SEMIMAJOR_AXIS = 8534.54
PERIAPSIS_ALTITUDE = 280.26
PERIAPSIS_ARGUMENT_ANGLE = 256.96
PERIAPSIS_TIME = 2006-01-27T23:49:44.000Z
SPACECRAFT_ORIENTATION = (0.0,-1.0,0.0)
^MEX_ORIENTATION_DESC = "MEX_ORIENTATION_DESC.TXT"
SPACECRAFT_POINTING_MODE = NADIR
^MEX_POINTING_DESC = "MEX_POINTING_DESC.TXT"
RIGHT_ASCENSION = -1e+32
DECLINATION = -1e+32
OFFSET_ANGLE = -1e+32
SPACECRAFT_SOLAR_DISTANCE = 2.34158e+08
TARGET_NAME = MARS
/* CAMERA DATA ELEMENTS */
DETECTOR_TEMPERATURE = 19.39
FOCAL_PLANE_TEMPERATURE = 8.1755
INST_CMPRS_NAME = "DISCRETE COSINE TRANSFORMATION (DCT)"
INST_CMPRS_RATIO = 27.7494
INST_CMPRS_QUALITY = 0
INST_CMPRS_QUANTZ_TBL_ID = 0
INSTRUMENT_TEMPERATURE = 12.0496
LENS_TEMPERATURE = 8.7872
MACROPIXEL_SIZE = 4
MISSING_FRAMES = 0
PIXEL_SUBSAMPLING_FLAG = N
SIGNAL_CHAIN_ID = 2
/* RADIOMETRIC DATA ELEMENTS */
BANDWIDTH = 48.0
CENTER_FILTER_WAVELENGTH = 748.0
RADIANCE_OFFSET = 0.299938
RADIANCE_SCALING_FACTOR = 0.0023223
REFLECTANCE_SCALING_FACTOR = 0.000290581
MEX:REFLECTANCE_OFFSET = 0.0375302
/* IMAGE OBJECT DEFINITIONS */
OBJECT = IMAGE
  INTERCHANGE_FORMAT = BINARY
  LINES = 5401
  LINE_SAMPLES = 1752
  SAMPLE_TYPE = UNSIGNED_INTEGER
  SAMPLE_BITS = 8
  BANDS = 1
  BAND_STORAGE_TYPE = BAND_SEQUENTIAL
  MAXIMUM = 255
  MEAN = 82.4746
  MINIMUM = 1
  STANDARD_DEVIATION = 37.2482
END_OBJECT = IMAGE
/* MAP OBJECT DEFINITIONS */
OBJECT = IMAGE_MAP_PROJECTION
  ^DATA_SET_MAP_PROJECTION_CATALOG= "DSMAP.CAT"
  A_AXIS_RADIUS = 3396.0
  B_AXIS_RADIUS = 3396.0
  C_AXIS_RADIUS = 3396.0
  CENTER_LATITUDE = 0.0
  CENTER_LONGITUDE = 216.0
  COORDINATE_SYSTEM_NAME = PLANETOGRAPHIC
  COORDINATE_SYSTEM_TYPE = "BODY-FIXED ROTATING"
  EASTERNMOST_LONGITUDE = 219.837
  FIRST_STANDARD_PARALLEL = "N/A"
  LINE_FIRST_PIXEL = 1
  LINE_LAST_PIXEL = 5401
  LINE_PROJECTION_OFFSET = -35275.625
  MAP_PROJECTION_ROTATION = 0.0
  MAP_PROJECTION_TYPE = SINUSOIDAL
  MAP_RESOLUTION = 592.713803866667
  MAP_SCALE = 0.1
  MAXIMUM_LATITUDE = -53.6325
  MINIMUM_LATITUDE = -66.8837
  POSITIVE_LONGITUDE_DIRECTION = EAST
  REFERENCE_LATITUDE = "N/A"
  REFERENCE_LONGITUDE = "N/A"
  SAMPLE_FIRST_PIXEL = 1
  SAMPLE_LAST_PIXEL = 1752
  SAMPLE_PROJECTION_OFFSET = 947.625
  SECOND_STANDARD_PARALLEL = "N/A"
  WESTERNMOST_LONGITUDE = 212.096
END_OBJECT = IMAGE_MAP_PROJECTION
END
