PDS_VERSION_ID = PDS3
/* FILE DATA ELEMENTS */
RECORD_TYPE = UNDEFINED
/* POINTERS TO DATA OBJECTS */
^IMAGE = ("H2625_0000_BL4.TIF")
/* IDENTIFICATION DATA ELEMENTS */
DATA_SET_ID = "MEX-M-HRSC-4-REFDR-MAPPROJECT-EXT1-V4.0"
DATA_SET_NAME = "MARS EXPRESS HRSC MAP PROJECTED REFDR EXTENSION1 V4.0"
DETECTOR_ID = MEX_HRSC_BLUE
EVENT_TYPE = "MARS-REGIONAL-MAPPING-Im-Fl-Mw"
INSTRUMENT_HOST_ID = MEX
INSTRUMENT_HOST_NAME = "MARS EXPRESS"
INSTRUMENT_ID = HRSC
INSTRUMENT_NAME = "HIGH RESOLUTION STEREO CAMERA"
MISSION_NAME = "MARS EXPRESS"
MISSION_PHASE_NAME = ME_Phase_2
PROCESSING_LEVEL_ID = 4
PRODUCT_CREATION_TIME = 2023-02-08T07:05:14.000Z
PRODUCT_ID = "H2625_0000_BL4.TIF"
RELEASE_ID = 0001
REVISION_ID = 0000
/* QUALITY DATA ELEMENTS */
DATA_QUALITY_ID = 1
DATA_QUALITY_DESC = "Data calculated based on original SPICE kernels"
/* TIME DATA ELEMENTS */
SPACECRAFT_CLOCK_START_COUNT = "1/0086462318.09068"
SPACECRAFT_CLOCK_STOP_COUNT = "1/0086463177.30513"
START_TIME = 2006-01-27T17:20:21.921Z
STOP_TIME = 2006-01-27T17:28:09.196Z
/* ORBITAL DATA ELEMENTS */
ASCENDING_NODE_LONGITUDE = 173.2
MAXIMUM_RESOLUTION = 0.134
FOOTPRINT_POINT_LATITUDE = (-53.1643,-53.2406,-53.2648,-53.2821, -53.3036,-53.3041,-53.3225,-52.6187, -51.9039,-51.1774,-50.4386,-49.6876, -48.9243,-48.5377,-48.1479,-47.7545, -47.3584,-46.9584,-46.5553,-46.1485, -45.7387,-45.3246,-44.9073,-44.486, -44.0607,-43.6313,-43.1983,-42.7616, -42.326,-41.894,-41.4638,-41.0375, -40.6131,-40.1923,-39.7734,-39.3573, -38.9426,-38.5313,-38.1231,-37.5158, -37.1153,-36.7167,-36.3203,-35.9264, -35.5358,-35.1471,-34.7591,-34.3734, -33.6135,-33.4251,-33.3216,-33.3508, -33.3802,-33.398,-33.4149,-33.425, -33.4316,-33.4313,-33.4311,-33.4329, -34.1741,-34.9252,-35.6875,-36.4615, -36.8509,-37.2446,-37.6391,-38.0365, -38.4379,-39.0468,-39.4553,-39.864, -40.278,-40.6945,-41.114,-41.5353, -41.9609,-42.3884,-42.8185,-43.2493, -43.6766,-44.0995,-44.519,-44.9354, -45.3478,-45.7565,-46.1622,-46.564, -46.9623,-47.3567,-47.7492,-48.5229, -49.2844,-50.0335,-50.7705,-51.4957, -52.2093,-52.9117,-53.0854,-53.1643)
FOOTPRINT_POINT_LONGITUDE = (312.961,314.825,315.625,316.336, 317.674,317.719,317.781,317.85,317.916, 317.981,318.043,318.103,318.162,318.191 ,318.219,318.247,318.275,318.301, 318.328,318.354,318.38,318.405,318.43, 318.454,318.477,318.499,318.521,318.542 ,318.563,318.585,318.604,318.624, 318.643,318.663,318.68,318.697,318.711, 318.726,318.741,318.764,318.781,318.796 ,318.81,318.823,318.837,318.85,318.859, 318.867,318.891,318.897,318.9,318.105, 317.136,316.396,315.485,314.687,313.545 ,312.858,312.801,312.781,312.832, 312.881,312.926,312.965,312.987,313.004 ,313.025,313.044,313.06,313.079,313.092 ,313.109,313.121,313.132,313.141, 313.152,313.158,313.166,313.172,313.177 ,313.179,313.182,313.182,313.182,313.18 ,313.178,313.174,313.169,313.164, 313.159,313.15,313.132,313.109,313.081, 313.048,313.012,312.971,312.926,312.914 ,312.961)
ORBIT_NUMBER = 2625
ORBITAL_ECCENTRICITY = 0.571
ORBITAL_INCLINATION = 86.62
ORBITAL_SEMIMAJOR_AXIS = 8534.15
PERIAPSIS_ALTITUDE = 281.08
PERIAPSIS_ARGUMENT_ANGLE = 257.15
PERIAPSIS_TIME = 2006-01-27T17:06:35.000Z
SPACECRAFT_ORIENTATION = (0.0,-1.0,0.0)
^MEX_ORIENTATION_DESC = "MEX_ORIENTATION_DESC.TXT"
SPACECRAFT_POINTING_MODE = NADIR
^MEX_POINTING_DESC = "MEX_POINTING_DESC.TXT"
RIGHT_ASCENSION = -1e+32
DECLINATION = -1e+32
OFFSET_ANGLE = -1e+32
SPACECRAFT_SOLAR_DISTANCE = 2.34107e+08
TARGET_NAME = MARS
/* CAMERA DATA ELEMENTS */
DETECTOR_TEMPERATURE = 18.1666
FOCAL_PLANE_TEMPERATURE = 8.5833
INST_CMPRS_NAME = "DISCRETE COSINE TRANSFORMATION (DCT)"
INST_CMPRS_RATIO = 15.2711
INST_CMPRS_QUALITY = 0
INST_CMPRS_QUANTZ_TBL_ID = 0
INSTRUMENT_TEMPERATURE = 11.0301
LENS_TEMPERATURE = 8.5833
MACROPIXEL_SIZE = 4
MISSING_FRAMES = 0
PIXEL_SUBSAMPLING_FLAG = N
SIGNAL_CHAIN_ID = 2
/* RADIOMETRIC DATA ELEMENTS */
BANDWIDTH = 76.0
CENTER_FILTER_WAVELENGTH = 444.0
RADIANCE_OFFSET = 0.477918
RADIANCE_SCALING_FACTOR = 0.00141984
REFLECTANCE_SCALING_FACTOR = 7.99521e-05
MEX:REFLECTANCE_OFFSET = 0.0269119
/* IMAGE OBJECT DEFINITIONS */
OBJECT = IMAGE
  INTERCHANGE_FORMAT = BINARY
  LINES = 11851
  LINE_SAMPLES = 2930
  SAMPLE_TYPE = UNSIGNED_INTEGER
  SAMPLE_BITS = 8
  BANDS = 1
  BAND_STORAGE_TYPE = BAND_SEQUENTIAL
  MAXIMUM = 255
  MEAN = 146.358
  MINIMUM = 1
  STANDARD_DEVIATION = 27.6559
END_OBJECT = IMAGE
/* MAP OBJECT DEFINITIONS */
OBJECT = IMAGE_MAP_PROJECTION
  ^DATA_SET_MAP_PROJECTION_CATALOG= "DSMAP.CAT"
  A_AXIS_RADIUS = 3396.0
  B_AXIS_RADIUS = 3396.0
  C_AXIS_RADIUS = 3396.0
  CENTER_LATITUDE = 0.0
  CENTER_LONGITUDE = 316.0
  COORDINATE_SYSTEM_NAME = PLANETOGRAPHIC
  COORDINATE_SYSTEM_TYPE = "BODY-FIXED ROTATING"
  EASTERNMOST_LONGITUDE = 318.9
  FIRST_STANDARD_PARALLEL = "N/A"
  LINE_FIRST_PIXEL = 1
  LINE_LAST_PIXEL = 11851
  LINE_PROJECTION_OFFSET = -19758.125
  MAP_PROJECTION_ROTATION = 0.0
  MAP_PROJECTION_TYPE = SINUSOIDAL
  MAP_RESOLUTION = 592.713803866667
  MAP_SCALE = 0.1
  MAXIMUM_LATITUDE = -33.3216
  MINIMUM_LATITUDE = -53.3225
  POSITIVE_LONGITUDE_DIRECTION = EAST
  REFERENCE_LATITUDE = "N/A"
  REFERENCE_LONGITUDE = "N/A"
  SAMPLE_FIRST_PIXEL = 1
  SAMPLE_LAST_PIXEL = 2930
  SAMPLE_PROJECTION_OFFSET = 1534.875
  SECOND_STANDARD_PARALLEL = "N/A"
  WESTERNMOST_LONGITUDE = 312.781
END_OBJECT = IMAGE_MAP_PROJECTION
END
