PDS_VERSION_ID = PDS3
/* FILE DATA ELEMENTS */
RECORD_TYPE = UNDEFINED
/* POINTERS TO DATA OBJECTS */
^IMAGE = ("H2617_0000_IR4.TIF")
/* IDENTIFICATION DATA ELEMENTS */
DATA_SET_ID = "MEX-M-HRSC-4-REFDR-MAPPROJECT-EXT1-V4.0"
DATA_SET_NAME = "MARS EXPRESS HRSC MAP PROJECTED REFDR EXTENSION1 V4.0"
DETECTOR_ID = MEX_HRSC_IR
EVENT_TYPE = "MARS-REGIONAL-MAPPING-Vo-Gl-Eo"
INSTRUMENT_HOST_ID = MEX
INSTRUMENT_HOST_NAME = "MARS EXPRESS"
INSTRUMENT_ID = HRSC
INSTRUMENT_NAME = "HIGH RESOLUTION STEREO CAMERA"
MISSION_NAME = "MARS EXPRESS"
MISSION_PHASE_NAME = ME_Phase_2
PROCESSING_LEVEL_ID = 4
PRODUCT_CREATION_TIME = 2023-02-08T07:05:14.000Z
PRODUCT_ID = "H2617_0000_IR4.TIF"
RELEASE_ID = 0001
REVISION_ID = 0000
/* QUALITY DATA ELEMENTS */
DATA_QUALITY_ID = 1
DATA_QUALITY_DESC = "Data calculated based on original SPICE kernels"
/* TIME DATA ELEMENTS */
SPACECRAFT_CLOCK_START_COUNT = "1/0086268369.07274"
SPACECRAFT_CLOCK_STOP_COUNT = "1/0086268719.45655"
START_TIME = 2006-01-25T11:26:20.447Z
STOP_TIME = 2006-01-25T11:30:10.461Z
/* ORBITAL DATA ELEMENTS */
ASCENDING_NODE_LONGITUDE = 173.36
MAXIMUM_RESOLUTION = 0.0612
FOOTPRINT_POINT_LATITUDE = (-78.2818,-78.4246,-78.545,-78.6316, -78.6343,-78.5662,-78.303,-77.9082, -77.2528,-76.9886,-76.7243,-76.4589, -75.9326,-75.5363,-75.2718,-74.6124, -74.2085,-73.938,-73.6679,-73.2545, -72.9778,-72.7004,-72.4185,-72.1344, -71.8522,-71.5638,-71.273,-70.9838, -70.5386,-70.2435,-69.9471,-69.4937, -69.0368,-68.7273,-68.2607,-67.947, -67.6318,-67.3126,-66.9927,-66.6677, -66.3408,-65.8439,-65.5106,-65.1711, -64.8317,-64.4884,-64.1424,-63.9674, -63.8445,-63.8129,-63.752,-63.6889, -63.6507,-63.6486,-63.6491,-64.3312, -64.6731,-65.0104,-65.3447,-65.6756, -66.0057,-66.3314,-66.6566,-66.976, -67.2913,-67.6086,-67.9212,-68.2328, -68.5391,-68.8456,-69.1481,-69.4481, -69.8959,-70.1897,-70.4873,-70.78, -71.0651,-71.3484,-71.7716,-72.0522, -72.3326,-72.608,-72.8817,-73.1556, -73.5595,-73.8266,-74.0936,-74.3576, -74.8771,-75.3971,-75.9159,-76.1758, -76.4348,-76.6929,-76.9524,-77.34, -77.7244,-77.981,-78.1093,-78.2818)
FOOTPRINT_POINT_LONGITUDE = (8.14808,10.2421,12.2746,13.9545,14.011 ,14.2573,14.5865,15.0514,15.7505, 16.0147,16.2682,16.5139,16.9649,17.2843 ,17.4879,17.9611,18.2297,18.4018, 18.5673,18.81,18.9652,19.1163,19.2635, 19.408,19.5447,19.6827,19.8168,19.9441, 20.1374,20.2565,20.3719,20.5433,20.7086 ,20.8167,20.9731,21.0727,21.171,21.2654 ,21.3581,21.4501,21.5401,21.6718, 21.7573,21.8419,21.9238,22.003,22.0822, 22.1209,22.1481,21.2406,19.8626,18.6868 ,17.9869,17.9482,17.9349,17.7514,17.658 ,17.5624,17.4629,17.362,17.2576,17.1518 ,17.0418,16.9303,16.8128,16.6956,16.574 ,16.4486,16.3211,16.189,16.0542,15.9157 ,15.6999,15.5522,15.4009,15.246,15.0846 ,14.9165,14.6601,14.4827,14.2988, 14.1126,13.9199,13.7202,13.412,13.1988, 12.9777,12.7505,12.2774,11.7675,11.2159 ,10.9234,10.6186,10.3007,9.96966,9.4455 ,8.88556,8.49112,8.28713,8.14808)
ORBIT_NUMBER = 2617
ORBITAL_ECCENTRICITY = 0.571
ORBITAL_INCLINATION = 86.6
ORBITAL_SEMIMAJOR_AXIS = 8532.62
PERIAPSIS_ALTITUDE = 280.47
PERIAPSIS_ARGUMENT_ANGLE = 258.5
PERIAPSIS_TIME = 2006-01-25T11:21:05.000Z
SPACECRAFT_ORIENTATION = (0.0,-1.0,0.0)
^MEX_ORIENTATION_DESC = "MEX_ORIENTATION_DESC.TXT"
SPACECRAFT_POINTING_MODE = NADIR
^MEX_POINTING_DESC = "MEX_POINTING_DESC.TXT"
RIGHT_ASCENSION = -1e+32
DECLINATION = -1e+32
OFFSET_ANGLE = -1e+32
SPACECRAFT_SOLAR_DISTANCE = 2.33699e+08
TARGET_NAME = MARS
/* CAMERA DATA ELEMENTS */
DETECTOR_TEMPERATURE = 17.351
FOCAL_PLANE_TEMPERATURE = 8.5833
INST_CMPRS_NAME = "DISCRETE COSINE TRANSFORMATION (DCT)"
INST_CMPRS_RATIO = 15.0516
INST_CMPRS_QUALITY = 0
INST_CMPRS_QUANTZ_TBL_ID = 0
INSTRUMENT_TEMPERATURE = 11.234
LENS_TEMPERATURE = 10.0106
MACROPIXEL_SIZE = 4
MISSING_FRAMES = 0
PIXEL_SUBSAMPLING_FLAG = N
SIGNAL_CHAIN_ID = 2
/* RADIOMETRIC DATA ELEMENTS */
BANDWIDTH = 81.0
CENTER_FILTER_WAVELENGTH = 955.5
RADIANCE_OFFSET = 0.0957359
RADIANCE_SCALING_FACTOR = 0.00254141
REFLECTANCE_SCALING_FACTOR = 0.000299445
MEX:REFLECTANCE_OFFSET = 0.0112802
/* IMAGE OBJECT DEFINITIONS */
OBJECT = IMAGE
  INTERCHANGE_FORMAT = BINARY
  LINES = 17705
  LINE_SAMPLES = 4956
  SAMPLE_TYPE = UNSIGNED_INTEGER
  SAMPLE_BITS = 8
  BANDS = 1
  BAND_STORAGE_TYPE = BAND_SEQUENTIAL
  MAXIMUM = 255
  MEAN = 96.3229
  MINIMUM = 1
  STANDARD_DEVIATION = 41.316
END_OBJECT = IMAGE
/* MAP OBJECT DEFINITIONS */
OBJECT = IMAGE_MAP_PROJECTION
  ^DATA_SET_MAP_PROJECTION_CATALOG= "DSMAP.CAT"
  A_AXIS_RADIUS = 3396.0
  B_AXIS_RADIUS = 3396.0
  C_AXIS_RADIUS = 3396.0
  CENTER_LATITUDE = 0.0
  CENTER_LONGITUDE = 17.0
  COORDINATE_SYSTEM_NAME = PLANETOGRAPHIC
  COORDINATE_SYSTEM_TYPE = "BODY-FIXED ROTATING"
  EASTERNMOST_LONGITUDE = 22.1481
  FIRST_STANDARD_PARALLEL = "N/A"
  LINE_FIRST_PIXEL = 1
  LINE_LAST_PIXEL = 17705
  LINE_PROJECTION_OFFSET = -75434.125
  MAP_PROJECTION_ROTATION = 0.0
  MAP_PROJECTION_TYPE = SINUSOIDAL
  MAP_RESOLUTION = 1185.42760773333
  MAP_SCALE = 0.05
  MAXIMUM_LATITUDE = -63.6486
  MINIMUM_LATITUDE = -78.6343
  POSITIVE_LONGITUDE_DIRECTION = EAST
  REFERENCE_LATITUDE = "N/A"
  REFERENCE_LONGITUDE = "N/A"
  SAMPLE_FIRST_PIXEL = 1
  SAMPLE_LAST_PIXEL = 4956
  SAMPLE_PROJECTION_OFFSET = 2182.875
  SECOND_STANDARD_PARALLEL = "N/A"
  WESTERNMOST_LONGITUDE = 8.14808
END_OBJECT = IMAGE_MAP_PROJECTION
END
