PDS_VERSION_ID = PDS3
/* FILE DATA ELEMENTS */
RECORD_TYPE = UNDEFINED
/* POINTERS TO DATA OBJECTS */
^IMAGE = ("H2607_0000_S14.TIF")
/* IDENTIFICATION DATA ELEMENTS */
DATA_SET_ID = "MEX-M-HRSC-4-REFDR-MAPPROJECT-EXT1-V4.0"
DATA_SET_NAME = "MARS EXPRESS HRSC MAP PROJECTED REFDR EXTENSION1 V4.0"
DETECTOR_ID = MEX_HRSC_S1
EVENT_TYPE = "MARS-REGIONAL-MAPPING-Te-Fl"
INSTRUMENT_HOST_ID = MEX
INSTRUMENT_HOST_NAME = "MARS EXPRESS"
INSTRUMENT_ID = HRSC
INSTRUMENT_NAME = "HIGH RESOLUTION STEREO CAMERA"
MISSION_NAME = "MARS EXPRESS"
MISSION_PHASE_NAME = ME_Phase_2
PROCESSING_LEVEL_ID = 4
PRODUCT_CREATION_TIME = 2023-02-08T07:05:14.000Z
PRODUCT_ID = "H2607_0000_S14.TIF"
RELEASE_ID = 0001
REVISION_ID = 0000
/* QUALITY DATA ELEMENTS */
DATA_QUALITY_ID = 1
DATA_QUALITY_DESC = "Data calculated based on original SPICE kernels"
/* TIME DATA ELEMENTS */
SPACECRAFT_CLOCK_START_COUNT = "1/0086026640.08264"
SPACECRAFT_CLOCK_STOP_COUNT = "1/0086027333.63899"
START_TIME = 2006-01-22T16:17:25.859Z
STOP_TIME = 2006-01-22T16:24:08.371Z
/* ORBITAL DATA ELEMENTS */
ASCENDING_NODE_LONGITUDE = 173.58
MAXIMUM_RESOLUTION = 0.0407
FOOTPRINT_POINT_LATITUDE = (-65.6905,-65.7818,-65.8336,-65.8887, -65.8901,-65.803,-65.0631,-64.3091, -63.534,-62.9547,-62.1566,-61.5471, -60.7183,-59.8757,-59.4473,-59.0148, -58.3563,-57.9128,-57.4634,-57.0082, -56.3173,-55.8558,-55.3777,-54.8979, -54.4153,-53.9264,-53.4319,-52.9309, -52.4269,-51.9145,-51.396,-50.8702, -50.3376,-49.7973,-49.2502,-48.695, -48.1314,-47.5613,-46.9862,-46.4035, -45.8137,-45.21,-44.5968,-43.978, -43.3506,-42.7158,-41.7453,-41.4154, -41.3878,-41.3888,-41.3826,-41.3617, -41.325,-41.3015,-41.2996,-41.3,-42.277 ,-42.9122,-43.5412,-44.161,-44.7712, -45.3732,-45.9678,-46.5534,-47.1312, -47.7013,-48.2643,-48.8199,-49.368, -49.9081,-50.4409,-50.9691,-51.4924, -52.0108,-52.5202,-53.0205,-53.5139, -54.0024,-54.4845,-54.9636,-55.4373, -55.9066,-56.3685,-56.8259,-57.279, -57.7275,-58.1693,-58.6072,-59.0413, -59.4695,-59.8931,-60.7304,-61.3472, -62.3524,-63.1375,-63.9037,-64.4723, -65.3968,-65.5799,-65.6905)
FOOTPRINT_POINT_LONGITUDE = (280.296,281.813,282.843,284.186, 284.224,284.323,284.508,284.684,284.857 ,284.972,285.129,285.242,285.388, 285.525,285.59,285.655,285.749,285.81, 285.869,285.927,286.012,286.062,286.119 ,286.172,286.222,286.272,286.319, 286.366,286.41,286.455,286.497,286.54, 286.581,286.621,286.661,286.7,286.738, 286.775,286.809,286.842,286.874,286.908 ,286.94,286.971,287.0,287.028,287.068, 287.081,287.082,286.347,285.572,284.472 ,283.655,282.923,282.882,282.867, 282.868,282.864,282.858,282.851,282.84, 282.828,282.814,282.798,282.779,282.759 ,282.736,282.712,282.685,282.656, 282.625,282.593,282.56,282.524,282.486, 282.445,282.402,282.357,282.31,282.262, 282.211,282.16,282.105,282.048,281.99, 281.929,281.867,281.802,281.735,281.665 ,281.594,281.444,281.326,281.115, 280.935,280.742,280.591,280.323,280.268 ,280.296)
ORBIT_NUMBER = 2607
ORBITAL_ECCENTRICITY = 0.571
ORBITAL_INCLINATION = 86.61
ORBITAL_SEMIMAJOR_AXIS = 8532.61
PERIAPSIS_ALTITUDE = 279.95
PERIAPSIS_ARGUMENT_ANGLE = 260.27
PERIAPSIS_TIME = 2006-01-22T16:09:27.000Z
SPACECRAFT_ORIENTATION = (0.0,-1.0,0.0)
^MEX_ORIENTATION_DESC = "MEX_ORIENTATION_DESC.TXT"
SPACECRAFT_POINTING_MODE = NADIR
^MEX_POINTING_DESC = "MEX_POINTING_DESC.TXT"
RIGHT_ASCENSION = -1e+32
DECLINATION = -1e+32
OFFSET_ANGLE = -1e+32
SPACECRAFT_SOLAR_DISTANCE = 2.33184e+08
TARGET_NAME = MARS
/* CAMERA DATA ELEMENTS */
DETECTOR_TEMPERATURE = 17.5549
FOCAL_PLANE_TEMPERATURE = 8.5833
INST_CMPRS_NAME = "DISCRETE COSINE TRANSFORMATION (DCT)"
INST_CMPRS_RATIO = 11.3538
INST_CMPRS_QUALITY = 0
INST_CMPRS_QUANTZ_TBL_ID = 0
INSTRUMENT_TEMPERATURE = 11.0301
LENS_TEMPERATURE = 9.3989
MACROPIXEL_SIZE = 2
MISSING_FRAMES = 0
PIXEL_SUBSAMPLING_FLAG = N
SIGNAL_CHAIN_ID = 1
/* RADIOMETRIC DATA ELEMENTS */
BANDWIDTH = 180.0
CENTER_FILTER_WAVELENGTH = 677.0
RADIANCE_OFFSET = 1.75851
RADIANCE_SCALING_FACTOR = 0.00986675
REFLECTANCE_SCALING_FACTOR = 0.00027991
MEX:REFLECTANCE_OFFSET = 0.0498872
/* IMAGE OBJECT DEFINITIONS */
OBJECT = IMAGE
  INTERCHANGE_FORMAT = BINARY
  LINES = 29023
  LINE_SAMPLES = 4893
  SAMPLE_TYPE = UNSIGNED_INTEGER
  SAMPLE_BITS = 8
  BANDS = 1
  BAND_STORAGE_TYPE = BAND_SEQUENTIAL
  MAXIMUM = 255
  MEAN = 111.163
  MINIMUM = 1
  STANDARD_DEVIATION = 33.9829
END_OBJECT = IMAGE
/* MAP OBJECT DEFINITIONS */
OBJECT = IMAGE_MAP_PROJECTION
  ^DATA_SET_MAP_PROJECTION_CATALOG= "DSMAP.CAT"
  A_AXIS_RADIUS = 3396.0
  B_AXIS_RADIUS = 3396.0
  C_AXIS_RADIUS = 3396.0
  CENTER_LATITUDE = 0.0
  CENTER_LONGITUDE = 284.0
  COORDINATE_SYSTEM_NAME = PLANETOGRAPHIC
  COORDINATE_SYSTEM_TYPE = "BODY-FIXED ROTATING"
  EASTERNMOST_LONGITUDE = 287.082
  FIRST_STANDARD_PARALLEL = "N/A"
  LINE_FIRST_PIXEL = 1
  LINE_LAST_PIXEL = 29023
  LINE_PROJECTION_OFFSET = -48968.75
  MAP_PROJECTION_ROTATION = 0.0
  MAP_PROJECTION_TYPE = SINUSOIDAL
  MAP_RESOLUTION = 1185.42760773333
  MAP_SCALE = 0.05
  MAXIMUM_LATITUDE = -41.2996
  MINIMUM_LATITUDE = -65.8901
  POSITIVE_LONGITUDE_DIRECTION = EAST
  REFERENCE_LATITUDE = "N/A"
  REFERENCE_LONGITUDE = "N/A"
  SAMPLE_FIRST_PIXEL = 1
  SAMPLE_LAST_PIXEL = 4893
  SAMPLE_PROJECTION_OFFSET = 1916.25
  SECOND_STANDARD_PARALLEL = "N/A"
  WESTERNMOST_LONGITUDE = 280.268
END_OBJECT = IMAGE_MAP_PROJECTION
END
