PDS_VERSION_ID = PDS3
/* FILE DATA ELEMENTS */
RECORD_TYPE = UNDEFINED
/* POINTERS TO DATA OBJECTS */
^IMAGE = ("H2598_0002_P24.TIF")
/* IDENTIFICATION DATA ELEMENTS */
DATA_SET_ID = "MEX-M-HRSC-4-REFDR-MAPPROJECT-EXT1-V4.0"
DATA_SET_NAME = "MARS EXPRESS HRSC MAP PROJECTED REFDR EXTENSION1 V4.0"
DETECTOR_ID = MEX_HRSC_P2
EVENT_TYPE = "MARS-TERMINATOR-CARTOGRAPHY-Ot-At"
INSTRUMENT_HOST_ID = MEX
INSTRUMENT_HOST_NAME = "MARS EXPRESS"
INSTRUMENT_ID = HRSC
INSTRUMENT_NAME = "HIGH RESOLUTION STEREO CAMERA"
MISSION_NAME = "MARS EXPRESS"
MISSION_PHASE_NAME = ME_Phase_2
PROCESSING_LEVEL_ID = 4
PRODUCT_CREATION_TIME = 2023-02-08T07:05:14.000Z
PRODUCT_ID = "H2598_0002_P24.TIF"
RELEASE_ID = 0001
REVISION_ID = 0000
/* QUALITY DATA ELEMENTS */
DATA_QUALITY_ID = 1
DATA_QUALITY_DESC = "Data calculated based on original SPICE kernels"
/* TIME DATA ELEMENTS */
SPACECRAFT_CLOCK_START_COUNT = "1/0085810025.07297"
SPACECRAFT_CLOCK_STOP_COUNT = "1/0085811454.08933"
START_TIME = 2006-01-20T04:24:03.010Z
STOP_TIME = 2006-01-20T04:30:57.842Z
/* ORBITAL DATA ELEMENTS */
ASCENDING_NODE_LONGITUDE = 173.78
MAXIMUM_RESOLUTION = 0.2905
FOOTPRINT_POINT_LATITUDE = (-6.35332,-6.21591,-6.12662,-6.03927, -5.95373,-5.86983,-5.78756,-5.70704, -5.62825,-5.551,-5.47527,-5.4011, -5.32857,-5.25762,-5.18833,-5.12052, -5.05424,-4.98947,-4.92614,-4.86426, -4.80386,-4.74481,-4.68714,-4.63097, -4.57632,-4.52313,-4.51006,-4.49188, -4.15697,-3.67076,-3.34844,-2.92689, -2.56514,-2.05042,-1.67442,-1.31751, -0.850452,-0.457247,0.0462986,0.443446, 0.487113,0.490464,0.444303,0.395559, 0.363808,0.329316,0.286758,0.237287, 0.215525,0.166323,0.129062,0.088697, 0.050722,0.0114395,-0.0480507, -0.0870941,-0.149589,-0.265701, -0.307021,-0.350096,-0.398417,-0.472561 ,-0.520284,-0.56776,-0.616053,-0.715388 ,-0.78746,-0.84381,-0.896814,-0.955472, -1.00964,-1.06442,-1.14199,-1.19852, -1.26311,-1.32314,-1.38378,-1.45169, -1.50755,-1.57638,-1.63589,-1.72503, -1.79986,-1.85942,-1.92322,-1.99799, -2.0338,-2.04418,-2.50334,-3.01137, -3.33345,-3.91304,-4.25326,-4.69579, -5.19378,-5.5196,-5.89987,-6.28876, -6.33795,-6.35332)
FOOTPRINT_POINT_LONGITUDE = (82.0691,82.7952,83.2771,83.7572, 84.2358,84.7135,85.1906,85.6668,86.1423 ,86.6177,87.0931,87.5684,88.0436, 88.5186,88.9938,89.4694,89.9454,90.422, 90.8994,91.3779,91.8578,92.3391,92.822, 93.3064,93.7925,94.2806,94.4029,94.4329 ,94.4745,94.542,94.5845,94.6421,94.6931 ,94.7608,94.8335,94.8745,94.9557, 95.0024,95.0844,95.1554,95.1633,95.1638 ,94.734,94.3003,94.0112,93.724,93.4414, 93.01,92.7172,92.4386,92.1541,91.8714, 91.5879,91.3052,90.8819,90.5997,90.1782 ,89.4797,89.1989,88.9188,88.64,88.222, 87.943,87.6639,87.3849,86.8272,86.4087, 86.1305,85.852,85.5737,85.2952,85.0167, 84.599,84.3204,84.0411,83.7618,83.4823, 83.2019,82.9226,82.6416,82.3615,81.9408 ,81.6572,81.376,81.0939,80.8088,80.6665 ,80.616,80.7868,80.9743,81.0901,81.2939 ,81.4112,81.5565,81.7179,81.8207, 81.9385,82.0567,82.0715,82.0691)
ORBIT_NUMBER = 2598
ORBITAL_ECCENTRICITY = 0.571
ORBITAL_INCLINATION = 86.63
ORBITAL_SEMIMAJOR_AXIS = 8529.89
PERIAPSIS_ALTITUDE = 279.86
PERIAPSIS_ARGUMENT_ANGLE = 261.83
PERIAPSIS_TIME = 2006-01-20T03:40:57.000Z
SPACECRAFT_ORIENTATION = (0.0,-1.0,0.0)
^MEX_ORIENTATION_DESC = "MEX_ORIENTATION_DESC.TXT"
SPACECRAFT_POINTING_MODE = ALONGTRACK
^MEX_POINTING_DESC = "MEX_POINTING_DESC.TXT"
RIGHT_ASCENSION = -1e+32
DECLINATION = -1e+32
OFFSET_ANGLE = 0.7
SPACECRAFT_SOLAR_DISTANCE = 2.32717e+08
TARGET_NAME = MARS
/* CAMERA DATA ELEMENTS */
DETECTOR_TEMPERATURE = 22.6524
FOCAL_PLANE_TEMPERATURE = 9.3989
INST_CMPRS_NAME = "DISCRETE COSINE TRANSFORMATION (DCT)"
INST_CMPRS_RATIO = 9.1429
INST_CMPRS_QUALITY = 0
INST_CMPRS_QUANTZ_TBL_ID = 0
INSTRUMENT_TEMPERATURE = 15.312
LENS_TEMPERATURE = 9.8067
MACROPIXEL_SIZE = 2
MISSING_FRAMES = 0
PIXEL_SUBSAMPLING_FLAG = N
SIGNAL_CHAIN_ID = 3
/* RADIOMETRIC DATA ELEMENTS */
BANDWIDTH = 177.0
CENTER_FILTER_WAVELENGTH = 676.5
RADIANCE_OFFSET = 3.86751
RADIANCE_SCALING_FACTOR = 0.0218151
REFLECTANCE_SCALING_FACTOR = 0.000626451
MEX:REFLECTANCE_OFFSET = 0.111061
/* IMAGE OBJECT DEFINITIONS */
OBJECT = IMAGE
  INTERCHANGE_FORMAT = BINARY
  LINES = 2454
  LINE_SAMPLES = 3087
  SAMPLE_TYPE = UNSIGNED_INTEGER
  SAMPLE_BITS = 8
  BANDS = 1
  BAND_STORAGE_TYPE = BAND_SEQUENTIAL
  MAXIMUM = 228
  MEAN = 106.743
  MINIMUM = 1
  STANDARD_DEVIATION = 39.704
END_OBJECT = IMAGE
/* MAP OBJECT DEFINITIONS */
OBJECT = IMAGE_MAP_PROJECTION
  ^DATA_SET_MAP_PROJECTION_CATALOG= "DSMAP.CAT"
  A_AXIS_RADIUS = 3396.0
  B_AXIS_RADIUS = 3396.0
  C_AXIS_RADIUS = 3396.0
  CENTER_LATITUDE = 0.0
  CENTER_LONGITUDE = 88.0
  COORDINATE_SYSTEM_NAME = PLANETOGRAPHIC
  COORDINATE_SYSTEM_TYPE = "BODY-FIXED ROTATING"
  EASTERNMOST_LONGITUDE = 95.16379999999999
  FIRST_STANDARD_PARALLEL = "N/A"
  LINE_FIRST_PIXEL = 1
  LINE_LAST_PIXEL = 2454
  LINE_PROJECTION_OFFSET = 757.25
  MAP_PROJECTION_ROTATION = 0.0
  MAP_PROJECTION_TYPE = SINUSOIDAL
  MAP_RESOLUTION = 296.356901933333
  MAP_SCALE = 0.2
  MAXIMUM_LATITUDE = 0.490464
  MINIMUM_LATITUDE = -6.35332
  POSITIVE_LONGITUDE_DIRECTION = EAST
  REFERENCE_LATITUDE = "N/A"
  REFERENCE_LONGITUDE = "N/A"
  SAMPLE_FIRST_PIXEL = 1
  SAMPLE_LAST_PIXEL = 3087
  SAMPLE_PROJECTION_OFFSET = 1809.25
  SECOND_STANDARD_PARALLEL = "N/A"
  WESTERNMOST_LONGITUDE = 80.616
END_OBJECT = IMAGE_MAP_PROJECTION
END
