PDS_VERSION_ID = PDS3
/* FILE DATA ELEMENTS */
RECORD_TYPE = UNDEFINED
/* POINTERS TO DATA OBJECTS */
^IMAGE = ("H2598_0001_P24.TIF")
/* IDENTIFICATION DATA ELEMENTS */
DATA_SET_ID = "MEX-M-HRSC-4-REFDR-MAPPROJECT-EXT1-V4.0"
DATA_SET_NAME = "MARS EXPRESS HRSC MAP PROJECTED REFDR EXTENSION1 V4.0"
DETECTOR_ID = MEX_HRSC_P2
EVENT_TYPE = "MARS-REGIONAL-MAPPING-Vo-Fl"
INSTRUMENT_HOST_ID = MEX
INSTRUMENT_HOST_NAME = "MARS EXPRESS"
INSTRUMENT_ID = HRSC
INSTRUMENT_NAME = "HIGH RESOLUTION STEREO CAMERA"
MISSION_NAME = "MARS EXPRESS"
MISSION_PHASE_NAME = ME_Phase_2
PROCESSING_LEVEL_ID = 4
PRODUCT_CREATION_TIME = 2023-02-08T07:05:14.000Z
PRODUCT_ID = "H2598_0001_P24.TIF"
RELEASE_ID = 0001
REVISION_ID = 0000
/* QUALITY DATA ELEMENTS */
DATA_QUALITY_ID = 1
DATA_QUALITY_DESC = "Data calculated based on original SPICE kernels"
/* TIME DATA ELEMENTS */
SPACECRAFT_CLOCK_START_COUNT = "1/0085809242.09080"
SPACECRAFT_CLOCK_STOP_COUNT = "1/0085809885.19445"
START_TIME = 2006-01-20T03:57:04.080Z
STOP_TIME = 2006-01-20T04:02:54.182Z
/* ORBITAL DATA ELEMENTS */
ASCENDING_NODE_LONGITUDE = 173.78
MAXIMUM_RESOLUTION = 0.0829
FOOTPRINT_POINT_LATITUDE = (-44.0438,-44.0575,-44.0647,-44.075, -44.0797,-44.0851,-44.0886,-44.0896, -44.0897,-44.0888,-44.0865,-44.0862, -44.141,-43.7749,-43.2837,-42.7864, -42.2837,-41.777,-41.3918,-41.0044, -40.7452,-40.4843,-40.2218,-39.9578, -39.6926,-39.4265,-39.1624,-38.891, -38.6185,-38.2095,-37.9358,-37.6641, -37.3937,-37.1243,-36.8567,-36.591, -36.3265,-36.0633,-35.8016,-35.5421, -35.0302,-34.7717,-34.3902,-33.896, -33.3861,-32.8934,-32.4047,-31.9223, -31.4448,-31.3263,-31.3245,-31.3488, -31.3669,-31.3879,-31.4037,-31.4167, -31.4274,-31.4443,-31.4582,-31.4673, -31.4789,-31.4945,-31.5062,-31.5072, -31.5085,-31.9709,-32.4403,-32.9149, -33.2749,-33.758,-34.3754,-34.873, -35.3768,-35.7553,-36.0125,-36.2738, -36.6614,-36.9236,-37.1861,-37.4496, -37.7151,-37.9823,-38.2513,-38.52, -38.7866,-39.0519,-39.3181,-39.5794, -39.9716,-40.2317,-40.7472,-41.258, -41.7641,-42.2652,-42.6384,-43.0081, -43.4973,-43.9803,-44.101,-44.0438)
FOOTPRINT_POINT_LONGITUDE = (86.9945,87.6054,87.9803,88.6361, 89.0109,89.5731,90.1818,90.5565,90.9318 ,91.3077,91.7781,91.8252,91.8845, 91.9089,91.9421,91.974,92.0054,92.0374, 92.0601,92.0831,92.0988,92.1143,92.1295 ,92.1446,92.1596,92.1751,92.1932, 92.2067,92.2203,92.2427,92.2573,92.2721 ,92.2865,92.3004,92.3145,92.3287, 92.3424,92.356,92.3695,92.3833,92.4125, 92.4236,92.4427,92.4742,92.4906,92.5147 ,92.5375,92.5605,92.5829,92.5886, 92.5886,91.9908,91.5113,90.913,90.4353, 90.0174,89.6593,89.1812,88.7024,88.2838 ,87.8045,87.0841,86.4808,86.4203, 86.3987,86.4362,86.472,86.5072,86.5327, 86.567,86.605,86.636,86.6656,86.6892, 86.7025,86.7138,86.735,86.7474,86.7603, 86.7732,86.7854,86.7972,86.8084,86.8192 ,86.8298,86.8402,86.8485,86.8589, 86.8716,86.8793,86.894,86.9066,86.9175, 86.9264,86.9316,86.9362,86.9409,86.9449 ,86.9453,86.9945)
ORBIT_NUMBER = 2598
ORBITAL_ECCENTRICITY = 0.571
ORBITAL_INCLINATION = 86.63
ORBITAL_SEMIMAJOR_AXIS = 8529.89
PERIAPSIS_ALTITUDE = 279.86
PERIAPSIS_ARGUMENT_ANGLE = 261.83
PERIAPSIS_TIME = 2006-01-20T03:40:57.000Z
SPACECRAFT_ORIENTATION = (0.0,-1.0,0.0)
^MEX_ORIENTATION_DESC = "MEX_ORIENTATION_DESC.TXT"
SPACECRAFT_POINTING_MODE = ALONGTRACK
^MEX_POINTING_DESC = "MEX_POINTING_DESC.TXT"
RIGHT_ASCENSION = -1e+32
DECLINATION = -1e+32
OFFSET_ANGLE = 0.7
SPACECRAFT_SOLAR_DISTANCE = 2.32717e+08
TARGET_NAME = MARS
/* CAMERA DATA ELEMENTS */
DETECTOR_TEMPERATURE = 20.6134
FOCAL_PLANE_TEMPERATURE = 8.7872
INST_CMPRS_NAME = "DISCRETE COSINE TRANSFORMATION (DCT)"
INST_CMPRS_RATIO = 6.43921
INST_CMPRS_QUALITY = 0
INST_CMPRS_QUANTZ_TBL_ID = 0
INSTRUMENT_TEMPERATURE = 13.273
LENS_TEMPERATURE = 9.195
MACROPIXEL_SIZE = 2
MISSING_FRAMES = 0
PIXEL_SUBSAMPLING_FLAG = N
SIGNAL_CHAIN_ID = 3
/* RADIOMETRIC DATA ELEMENTS */
BANDWIDTH = 177.0
CENTER_FILTER_WAVELENGTH = 676.5
RADIANCE_OFFSET = 3.04642
RADIANCE_SCALING_FACTOR = 0.0134011
REFLECTANCE_SCALING_FACTOR = 0.000384825
MEX:REFLECTANCE_OFFSET = 0.0874805
/* IMAGE OBJECT DEFINITIONS */
OBJECT = IMAGE
  INTERCHANGE_FORMAT = BINARY
  LINES = 15128
  LINE_SAMPLES = 5343
  SAMPLE_TYPE = UNSIGNED_INTEGER
  SAMPLE_BITS = 8
  BANDS = 1
  BAND_STORAGE_TYPE = BAND_SEQUENTIAL
  MAXIMUM = 255
  MEAN = 118.863
  MINIMUM = 1
  STANDARD_DEVIATION = 29.121
END_OBJECT = IMAGE
/* MAP OBJECT DEFINITIONS */
OBJECT = IMAGE_MAP_PROJECTION
  ^DATA_SET_MAP_PROJECTION_CATALOG= "DSMAP.CAT"
  A_AXIS_RADIUS = 3396.0
  B_AXIS_RADIUS = 3396.0
  C_AXIS_RADIUS = 3396.0
  CENTER_LATITUDE = 0.0
  CENTER_LONGITUDE = 89.0
  COORDINATE_SYSTEM_NAME = PLANETOGRAPHIC
  COORDINATE_SYSTEM_TYPE = "BODY-FIXED ROTATING"
  EASTERNMOST_LONGITUDE = 92.5886
  FIRST_STANDARD_PARALLEL = "N/A"
  LINE_FIRST_PIXEL = 1
  LINE_LAST_PIXEL = 15128
  LINE_PROJECTION_OFFSET = -37192.25
  MAP_PROJECTION_ROTATION = 0.0
  MAP_PROJECTION_TYPE = SINUSOIDAL
  MAP_RESOLUTION = 1185.42760773333
  MAP_SCALE = 0.05
  MAXIMUM_LATITUDE = -31.3245
  MINIMUM_LATITUDE = -44.141
  POSITIVE_LONGITUDE_DIRECTION = EAST
  REFERENCE_LATITUDE = "N/A"
  REFERENCE_LONGITUDE = "N/A"
  SAMPLE_FIRST_PIXEL = 1
  SAMPLE_LAST_PIXEL = 5343
  SAMPLE_PROJECTION_OFFSET = 2222.25
  SECOND_STANDARD_PARALLEL = "N/A"
  WESTERNMOST_LONGITUDE = 86.39870000000001
END_OBJECT = IMAGE_MAP_PROJECTION
END
