PDS_VERSION_ID = PDS3
/* FILE DATA ELEMENTS */
RECORD_TYPE = UNDEFINED
/* POINTERS TO DATA OBJECTS */
^IMAGE = ("H2596_0000_BL4.TIF")
/* IDENTIFICATION DATA ELEMENTS */
DATA_SET_ID = "MEX-M-HRSC-4-REFDR-MAPPROJECT-EXT1-V4.0"
DATA_SET_NAME = "MARS EXPRESS HRSC MAP PROJECTED REFDR EXTENSION1 V4.0"
DETECTOR_ID = MEX_HRSC_BLUE
EVENT_TYPE = "MARS-REGIONAL-MAPPING-Im-Fl-Gl"
INSTRUMENT_HOST_ID = MEX
INSTRUMENT_HOST_NAME = "MARS EXPRESS"
INSTRUMENT_ID = HRSC
INSTRUMENT_NAME = "HIGH RESOLUTION STEREO CAMERA"
MISSION_NAME = "MARS EXPRESS"
MISSION_PHASE_NAME = ME_Phase_2
PROCESSING_LEVEL_ID = 4
PRODUCT_CREATION_TIME = 2023-02-08T07:05:14.000Z
PRODUCT_ID = "H2596_0000_BL4.TIF"
RELEASE_ID = 0001
REVISION_ID = 0000
/* QUALITY DATA ELEMENTS */
DATA_QUALITY_ID = 1
DATA_QUALITY_DESC = "Data calculated based on original SPICE kernels"
/* TIME DATA ELEMENTS */
SPACECRAFT_CLOCK_START_COUNT = "1/0085760374.09051"
SPACECRAFT_CLOCK_STOP_COUNT = "1/0085760649.17002"
START_TIME = 2006-01-19T14:20:19.178Z
STOP_TIME = 2006-01-19T14:23:24.740Z
/* ORBITAL DATA ELEMENTS */
ASCENDING_NODE_LONGITUDE = 173.82
MAXIMUM_RESOLUTION = 0.0615
FOOTPRINT_POINT_LATITUDE = (-74.7947,-74.8502,-74.9469,-75.0283, -75.0788,-75.081,-75.0999,-74.8967, -74.4912,-74.1856,-73.7807,-73.1754, -72.7713,-72.4622,-72.2554,-72.0491, -71.8428,-71.6319,-71.4203,-71.2089, -70.9973,-70.7833,-70.5673,-70.3506, -70.1353,-69.8055,-69.5856,-69.3658, -69.0303,-68.8058,-68.5817,-68.2395, -68.0108,-67.7825,-67.5498,-67.3168, -67.0842,-66.848,-66.6109,-66.3741, -66.1337,-65.8922,-65.6514,-65.2838, -65.0387,-64.6658,-64.4167,-64.1648, -64.038,-64.0163,-63.9879,-63.9672, -63.9394,-63.8845,-63.8505,-63.8201, -63.8177,-63.8181,-64.1936,-64.4411, -64.8121,-65.0555,-65.2992,-65.6604, -65.9,-66.1392,-66.3743,-66.6098, -66.8447,-67.0757,-67.3069,-67.5382, -67.7649,-67.9918,-68.3318,-68.5542, -68.7769,-69.1101,-69.4372,-69.6555, -69.8733,-70.1937,-70.4074,-70.7274, -70.9363,-71.1459,-71.3554,-71.5645, -71.871,-72.0754,-72.2801,-72.6831, -73.082,-73.4818,-73.8819,-74.2823, -74.4826,-74.6829,-74.783,-74.7947)
FOOTPRINT_POINT_LONGITUDE = (275.485,276.286,277.808,279.248, 280.244,280.289,280.36,280.521,280.832, 281.048,281.329,281.726,281.97,282.15, 282.266,282.38,282.491,282.601,282.708, 282.813,282.914,283.018,283.117,283.212 ,283.308,283.449,283.542,283.632, 283.765,283.851,283.936,284.061,284.143 ,284.223,284.302,284.379,284.455, 284.531,284.605,284.677,284.749,284.818 ,284.887,284.99,285.056,285.154,285.218 ,285.281,285.312,285.317,284.553, 284.054,283.442,282.368,281.749,281.249 ,281.21,281.197,281.101,281.029,280.919 ,280.844,280.768,280.651,280.571, 280.489,280.407,280.322,280.236,280.148 ,280.059,279.967,279.875,279.78,279.634 ,279.534,279.432,279.275,279.115, 279.005,278.896,278.724,278.608,278.425 ,278.303,278.17,278.038,277.902,277.701 ,277.563,277.421,277.133,276.84,276.518 ,276.178,275.819,275.631,275.438,275.34 ,275.485)
ORBIT_NUMBER = 2596
ORBITAL_ECCENTRICITY = 0.571
ORBITAL_INCLINATION = 86.61
ORBITAL_SEMIMAJOR_AXIS = 8531.92
PERIAPSIS_ALTITUDE = 280.55
PERIAPSIS_ARGUMENT_ANGLE = 262.18
PERIAPSIS_TIME = 2006-01-19T14:14:33.000Z
SPACECRAFT_ORIENTATION = (0.0,-1.0,0.0)
^MEX_ORIENTATION_DESC = "MEX_ORIENTATION_DESC.TXT"
SPACECRAFT_POINTING_MODE = ACROSSTRACK
^MEX_POINTING_DESC = "MEX_POINTING_DESC.TXT"
RIGHT_ASCENSION = -1e+32
DECLINATION = -1e+32
OFFSET_ANGLE = 0.22
SPACECRAFT_SOLAR_DISTANCE = 2.32613e+08
TARGET_NAME = MARS
/* CAMERA DATA ELEMENTS */
DETECTOR_TEMPERATURE = 18.5744
FOCAL_PLANE_TEMPERATURE = 8.9911
INST_CMPRS_NAME = "DISCRETE COSINE TRANSFORMATION (DCT)"
INST_CMPRS_RATIO = 6.63903
INST_CMPRS_QUALITY = 0
INST_CMPRS_QUANTZ_TBL_ID = 0
INSTRUMENT_TEMPERATURE = 11.4379
LENS_TEMPERATURE = 9.3989
MACROPIXEL_SIZE = 4
MISSING_FRAMES = 0
PIXEL_SUBSAMPLING_FLAG = N
SIGNAL_CHAIN_ID = 2
/* RADIOMETRIC DATA ELEMENTS */
BANDWIDTH = 76.0
CENTER_FILTER_WAVELENGTH = 444.0
RADIANCE_OFFSET = 0.22779
RADIANCE_SCALING_FACTOR = 0.00124753
REFLECTANCE_SCALING_FACTOR = 6.93551e-05
MEX:REFLECTANCE_OFFSET = 0.0126637
/* IMAGE OBJECT DEFINITIONS */
OBJECT = IMAGE
  INTERCHANGE_FORMAT = BINARY
  LINES = 13394
  LINE_SAMPLES = 3999
  SAMPLE_TYPE = UNSIGNED_INTEGER
  SAMPLE_BITS = 8
  BANDS = 1
  BAND_STORAGE_TYPE = BAND_SEQUENTIAL
  MAXIMUM = 254
  MEAN = 137.052
  MINIMUM = 1
  STANDARD_DEVIATION = 47.1516
END_OBJECT = IMAGE
/* MAP OBJECT DEFINITIONS */
OBJECT = IMAGE_MAP_PROJECTION
  ^DATA_SET_MAP_PROJECTION_CATALOG= "DSMAP.CAT"
  A_AXIS_RADIUS = 3396.0
  B_AXIS_RADIUS = 3396.0
  C_AXIS_RADIUS = 3396.0
  CENTER_LATITUDE = 0.0
  CENTER_LONGITUDE = 281.0
  COORDINATE_SYSTEM_NAME = PLANETOGRAPHIC
  COORDINATE_SYSTEM_TYPE = "BODY-FIXED ROTATING"
  EASTERNMOST_LONGITUDE = 285.317
  FIRST_STANDARD_PARALLEL = "N/A"
  LINE_FIRST_PIXEL = 1
  LINE_LAST_PIXEL = 13394
  LINE_PROJECTION_OFFSET = -75637.125
  MAP_PROJECTION_ROTATION = 0.0
  MAP_PROJECTION_TYPE = SINUSOIDAL
  MAP_RESOLUTION = 1185.42760773333
  MAP_SCALE = 0.05
  MAXIMUM_LATITUDE = -63.8177
  MINIMUM_LATITUDE = -75.09990000000001
  POSITIVE_LONGITUDE_DIRECTION = EAST
  REFERENCE_LATITUDE = "N/A"
  REFERENCE_LONGITUDE = "N/A"
  SAMPLE_FIRST_PIXEL = 1
  SAMPLE_LAST_PIXEL = 3999
  SAMPLE_PROJECTION_OFFSET = 1756.375
  SECOND_STANDARD_PARALLEL = "N/A"
  WESTERNMOST_LONGITUDE = 275.34
END_OBJECT = IMAGE_MAP_PROJECTION
END
