PDS_VERSION_ID = PDS3
/* FILE DATA ELEMENTS */
RECORD_TYPE = UNDEFINED
/* POINTERS TO DATA OBJECTS */
^IMAGE = ("H2595_0001_P24.TIF")
/* IDENTIFICATION DATA ELEMENTS */
DATA_SET_ID = "MEX-M-HRSC-4-REFDR-MAPPROJECT-EXT1-V4.0"
DATA_SET_NAME = "MARS EXPRESS HRSC MAP PROJECTED REFDR EXTENSION1 V4.0"
DETECTOR_ID = MEX_HRSC_P2
EVENT_TYPE = "MARS-REGIONAL-MAPPING-Te-Fl-Eo"
INSTRUMENT_HOST_ID = MEX
INSTRUMENT_HOST_NAME = "MARS EXPRESS"
INSTRUMENT_ID = HRSC
INSTRUMENT_NAME = "HIGH RESOLUTION STEREO CAMERA"
MISSION_NAME = "MARS EXPRESS"
MISSION_PHASE_NAME = ME_Phase_2
PROCESSING_LEVEL_ID = 4
PRODUCT_CREATION_TIME = 2023-02-08T07:05:14.000Z
PRODUCT_ID = "H2595_0001_P24.TIF"
RELEASE_ID = 0001
REVISION_ID = 0000
/* QUALITY DATA ELEMENTS */
DATA_QUALITY_ID = 1
DATA_QUALITY_DESC = "Data calculated based on original SPICE kernels"
/* TIME DATA ELEMENTS */
SPACECRAFT_CLOCK_START_COUNT = "1/0085736545.07304"
SPACECRAFT_CLOCK_STOP_COUNT = "1/0085737269.47674"
START_TIME = 2006-01-19T07:44:41.154Z
STOP_TIME = 2006-01-19T07:52:43.299Z
/* ORBITAL DATA ELEMENTS */
ASCENDING_NODE_LONGITUDE = 173.84
MAXIMUM_RESOLUTION = 0.0663
FOOTPRINT_POINT_LATITUDE = (-51.3358,-51.3596,-51.3869,-51.4074, -51.4321,-51.4431,-51.4435,-51.4847, -50.78,-50.0603,-49.3285,-48.9584, -48.585,-48.2079,-47.8283,-47.4458, -47.0584,-46.6694,-46.0796,-45.6848, -45.2837,-44.8769,-44.4685,-44.0623, -43.646,-43.2242,-42.8083,-42.1939, -41.7843,-41.377,-40.9756,-40.5781, -40.1835,-39.7923,-39.4031,-39.0167, -38.6327,-38.2542,-37.8739,-37.5003, -37.1278,-36.7579,-36.0282,-35.3096, -34.7755,-34.0794,-33.3904,-32.7066, -32.5388,-32.4977,-32.5214,-32.5437, -32.557,-32.5779,-32.5928,-32.6084, -32.6205,-32.6313,-32.6463,-32.6544, -32.6551,-32.6561,-33.6527,-34.3241, -34.8423,-35.5356,-36.2431,-36.9623, -37.693,-38.4352,-38.8107,-39.1888, -39.5694,-40.147,-40.5368,-40.9304, -41.3254,-41.7224,-42.1261,-42.5322, -42.9414,-43.3532,-43.7648,-44.1726, -44.5761,-44.9762,-45.3741,-45.7695, -46.1609,-46.5513,-46.9368,-47.3175, -47.8892,-48.2635,-49.006,-49.7351, -50.4518,-51.1584,-51.3363,-51.3358)
FOOTPRINT_POINT_LONGITUDE = (21.6645,22.3134,23.1771,23.9552, 25.2093,26.0774,26.1209,26.1648,26.2361 ,26.3038,26.3694,26.4018,26.4339, 26.4653,26.4966,26.5275,26.5576,26.5881 ,26.6332,26.6648,26.6937,26.7213, 26.7496,26.7816,26.8093,26.8347,26.8619 ,26.9041,26.9288,26.9527,26.9777, 27.0029,27.0274,27.0518,27.0751,27.0979 ,27.1199,27.1432,27.1631,27.1851, 27.2056,27.2256,27.2659,27.3049,27.3321 ,27.3715,27.4078,27.44,27.4489,27.4511, 26.742,26.1523,25.6802,24.9146,24.4437, 23.7951,23.088,22.5567,21.9634,21.4287, 21.3692,21.3478,21.4168,21.464,21.4941, 21.5365,21.5751,21.6112,21.6449,21.676, 21.6906,21.7047,21.7183,21.7367,21.7473 ,21.7567,21.7662,21.7755,21.7816, 21.7871,21.7917,21.7956,21.799,21.8013, 21.8031,21.8041,21.8027,21.8001,21.7967 ,21.791,21.785,21.7797,21.7646,21.7555, 21.7318,21.7058,21.6758,21.641,21.6296, 21.6645)
ORBIT_NUMBER = 2595
ORBITAL_ECCENTRICITY = 0.571
ORBITAL_INCLINATION = 86.61
ORBITAL_SEMIMAJOR_AXIS = 8530.91
PERIAPSIS_ALTITUDE = 280.64
PERIAPSIS_ARGUMENT_ANGLE = 262.34
PERIAPSIS_TIME = 2006-01-19T07:31:17.000Z
SPACECRAFT_ORIENTATION = (0.0,-1.0,0.0)
^MEX_ORIENTATION_DESC = "MEX_ORIENTATION_DESC.TXT"
SPACECRAFT_POINTING_MODE = NADIR
^MEX_POINTING_DESC = "MEX_POINTING_DESC.TXT"
RIGHT_ASCENSION = -1e+32
DECLINATION = -1e+32
OFFSET_ANGLE = -1e+32
SPACECRAFT_SOLAR_DISTANCE = 2.32561e+08
TARGET_NAME = MARS
/* CAMERA DATA ELEMENTS */
DETECTOR_TEMPERATURE = 20.8173
FOCAL_PLANE_TEMPERATURE = 9.3989
INST_CMPRS_NAME = "DISCRETE COSINE TRANSFORMATION (DCT)"
INST_CMPRS_RATIO = 7.88022
INST_CMPRS_QUALITY = 0
INST_CMPRS_QUANTZ_TBL_ID = 0
INSTRUMENT_TEMPERATURE = 12.2535
LENS_TEMPERATURE = 9.8067
MACROPIXEL_SIZE = 2
MISSING_FRAMES = 0
PIXEL_SUBSAMPLING_FLAG = N
SIGNAL_CHAIN_ID = 3
/* RADIOMETRIC DATA ELEMENTS */
BANDWIDTH = 177.0
CENTER_FILTER_WAVELENGTH = 676.5
RADIANCE_OFFSET = 2.05167
RADIANCE_SCALING_FACTOR = 0.0137927
REFLECTANCE_SCALING_FACTOR = 0.000395538
MEX:REFLECTANCE_OFFSET = 0.0588362
/* IMAGE OBJECT DEFINITIONS */
OBJECT = IMAGE
  INTERCHANGE_FORMAT = BINARY
  LINES = 22466
  LINE_SAMPLES = 5177
  SAMPLE_TYPE = UNSIGNED_INTEGER
  SAMPLE_BITS = 8
  BANDS = 1
  BAND_STORAGE_TYPE = BAND_SEQUENTIAL
  MAXIMUM = 255
  MEAN = 130.087
  MINIMUM = 1
  STANDARD_DEVIATION = 25.3653
END_OBJECT = IMAGE
/* MAP OBJECT DEFINITIONS */
OBJECT = IMAGE_MAP_PROJECTION
  ^DATA_SET_MAP_PROJECTION_CATALOG= "DSMAP.CAT"
  A_AXIS_RADIUS = 3396.0
  B_AXIS_RADIUS = 3396.0
  C_AXIS_RADIUS = 3396.0
  CENTER_LATITUDE = 0.0
  CENTER_LONGITUDE = 24.0
  COORDINATE_SYSTEM_NAME = PLANETOGRAPHIC
  COORDINATE_SYSTEM_TYPE = "BODY-FIXED ROTATING"
  EASTERNMOST_LONGITUDE = 27.4511
  FIRST_STANDARD_PARALLEL = "N/A"
  LINE_FIRST_PIXEL = 1
  LINE_LAST_PIXEL = 22466
  LINE_PROJECTION_OFFSET = -38554.25
  MAP_PROJECTION_ROTATION = 0.0
  MAP_PROJECTION_TYPE = SINUSOIDAL
  MAP_RESOLUTION = 1185.42760773333
  MAP_SCALE = 0.05
  MAXIMUM_LATITUDE = -32.4977
  MINIMUM_LATITUDE = -51.4847
  POSITIVE_LONGITUDE_DIRECTION = EAST
  REFERENCE_LATITUDE = "N/A"
  REFERENCE_LONGITUDE = "N/A"
  SAMPLE_FIRST_PIXEL = 1
  SAMPLE_LAST_PIXEL = 5177
  SAMPLE_PROJECTION_OFFSET = 2251.75
  SECOND_STANDARD_PARALLEL = "N/A"
  WESTERNMOST_LONGITUDE = 21.3478
END_OBJECT = IMAGE_MAP_PROJECTION
END
