PDS_VERSION_ID = PDS3
/* FILE DATA ELEMENTS */
RECORD_TYPE = UNDEFINED
/* POINTERS TO DATA OBJECTS */
^IMAGE = ("H2594_0000_IR4.TIF")
/* IDENTIFICATION DATA ELEMENTS */
DATA_SET_ID = "MEX-M-HRSC-4-REFDR-MAPPROJECT-EXT1-V4.0"
DATA_SET_NAME = "MARS EXPRESS HRSC MAP PROJECTED REFDR EXTENSION1 V4.0"
DETECTOR_ID = MEX_HRSC_IR
EVENT_TYPE = "MARS-TERMINATOR-VARIABLE-Gl-At"
INSTRUMENT_HOST_ID = MEX
INSTRUMENT_HOST_NAME = "MARS EXPRESS"
INSTRUMENT_ID = HRSC
INSTRUMENT_NAME = "HIGH RESOLUTION STEREO CAMERA"
MISSION_NAME = "MARS EXPRESS"
MISSION_PHASE_NAME = ME_Phase_2
PROCESSING_LEVEL_ID = 4
PRODUCT_CREATION_TIME = 2023-02-08T07:05:14.000Z
PRODUCT_ID = "H2594_0000_IR4.TIF"
RELEASE_ID = 0001
REVISION_ID = 0000
/* QUALITY DATA ELEMENTS */
DATA_QUALITY_ID = 1
DATA_QUALITY_DESC = "Data calculated based on original SPICE kernels"
/* TIME DATA ELEMENTS */
SPACECRAFT_CLOCK_START_COUNT = "1/0085711794.09062"
SPACECRAFT_CLOCK_STOP_COUNT = "1/0085711938.52800"
START_TIME = 2006-01-19T00:50:04.180Z
STOP_TIME = 2006-01-19T00:51:29.002Z
/* ORBITAL DATA ELEMENTS */
ASCENDING_NODE_LONGITUDE = 173.86
MAXIMUM_RESOLUTION = 0.0481
FOOTPRINT_POINT_LATITUDE = (-86.0349,-86.1629,-86.2903,-86.4171, -86.5431,-86.6679,-86.8685,-86.8761, -86.8719,-86.7478,-86.6137,-86.4714, -86.3213,-86.0839,-85.9987,-85.9121, -85.8238,-85.7348,-85.6442,-85.5057, -85.412,-85.3172,-85.2209,-85.125, -85.0286,-84.9317,-84.8339,-84.7352, -84.6361,-84.5367,-84.4365,-84.3358, -84.1353,-84.0336,-83.9313,-83.8272, -83.7204,-83.6131,-83.5056,-83.3434, -83.2348,-83.0711,-82.9616,-82.852, -82.7419,-82.6319,-82.5217,-82.356, -82.1899,-82.1344,-82.1086,-82.0563, -81.9971,-81.9186,-81.8288,-81.7627, -81.707,-81.7026,-81.7019,-81.8075, -81.913,-82.0182,-82.1229,-82.2269, -82.3273,-82.4308,-82.5343,-82.6886, -82.7909,-82.8927,-82.9941,-83.0949, -83.1953,-83.3447,-83.4404,-83.5822, -83.6759,-83.7712,-83.9122,-84.0042, -84.0954,-84.1854,-84.2742,-84.3623, -84.4926,-84.5781,-84.7041,-84.8277, -84.9484,-85.0272,-85.1045,-85.1804, -85.2547,-85.3966,-85.5289,-85.6236, -85.7434,-85.9566,-85.981,-86.0349)
FOOTPRINT_POINT_LONGITUDE = (62.9943,63.8804,64.8313,65.855,66.9583 ,68.1498,70.3037,70.3924,71.9517, 75.2139,78.2375,80.9903,83.5387,86.9813 ,88.0737,89.1231,90.1375,91.0934, 92.0247,93.3633,94.2108,95.0273,95.8255 ,96.5622,97.2667,97.9408,98.5921, 99.2242,99.8291,100.408,100.968,101.509 ,102.505,102.987,103.456,103.916, 104.369,104.807,105.23,105.842,106.234, 106.801,107.163,107.515,107.856,108.185 ,108.504,108.964,109.404,109.547, 109.613,108.475,107.283,105.846,104.304 ,103.259,102.425,102.362,102.338, 101.986,101.623,101.251,100.869,100.477 ,100.082,99.668,99.2412,98.578,98.1197, 97.6483,97.1624,96.6624,96.1471,95.3447 ,94.807,93.9739,93.3973,92.7941,91.8553 ,91.21,90.5442,89.8598,89.1549,88.4264, 87.2904,86.5037,85.2763,83.9883,82.6389 ,81.7026,80.7371,79.7402,78.7123, 76.5885,74.3823,72.6395,70.1948,64.9098 ,64.2044,62.9943)
ORBIT_NUMBER = 2594
ORBITAL_ECCENTRICITY = 0.571
ORBITAL_INCLINATION = 86.62
ORBITAL_SEMIMAJOR_AXIS = 8530.31
PERIAPSIS_ALTITUDE = 280.37
PERIAPSIS_ARGUMENT_ANGLE = 262.52
PERIAPSIS_TIME = 2006-01-19T00:48:08.000Z
SPACECRAFT_ORIENTATION = (0.0,-1.0,0.0)
^MEX_ORIENTATION_DESC = "MEX_ORIENTATION_DESC.TXT"
SPACECRAFT_POINTING_MODE = ACROSSTRACK
^MEX_POINTING_DESC = "MEX_POINTING_DESC.TXT"
RIGHT_ASCENSION = -1e+32
DECLINATION = -1e+32
OFFSET_ANGLE = -0.23
SPACECRAFT_SOLAR_DISTANCE = 2.32509e+08
TARGET_NAME = MARS
/* CAMERA DATA ELEMENTS */
DETECTOR_TEMPERATURE = 17.351
FOCAL_PLANE_TEMPERATURE = 9.195
INST_CMPRS_NAME = "DISCRETE COSINE TRANSFORMATION (DCT)"
INST_CMPRS_RATIO = 7.745
INST_CMPRS_QUALITY = 0
INST_CMPRS_QUANTZ_TBL_ID = 0
INSTRUMENT_TEMPERATURE = 11.234
LENS_TEMPERATURE = 9.6028
MACROPIXEL_SIZE = 4
MISSING_FRAMES = 0
PIXEL_SUBSAMPLING_FLAG = N
SIGNAL_CHAIN_ID = 2
/* RADIOMETRIC DATA ELEMENTS */
BANDWIDTH = 81.0
CENTER_FILTER_WAVELENGTH = 955.5
RADIANCE_OFFSET = 0.0
RADIANCE_SCALING_FACTOR = 0.000943404
REFLECTANCE_SCALING_FACTOR = 0.000110029
MEX:REFLECTANCE_OFFSET = 0.0
/* IMAGE OBJECT DEFINITIONS */
OBJECT = IMAGE
  INTERCHANGE_FORMAT = BINARY
  LINES = 6154
  LINE_SAMPLES = 5047
  SAMPLE_TYPE = UNSIGNED_INTEGER
  SAMPLE_BITS = 8
  BANDS = 1
  BAND_STORAGE_TYPE = BAND_SEQUENTIAL
  MAXIMUM = 254
  MEAN = 104.97
  MINIMUM = 1
  STANDARD_DEVIATION = 45.4381
END_OBJECT = IMAGE
/* MAP OBJECT DEFINITIONS */
OBJECT = IMAGE_MAP_PROJECTION
  ^DATA_SET_MAP_PROJECTION_CATALOG= "DSMAP.CAT"
  A_AXIS_RADIUS = 3396.0
  B_AXIS_RADIUS = 3396.0
  C_AXIS_RADIUS = 3396.0
  CENTER_LATITUDE = 0.0
  CENTER_LONGITUDE = 94.0
  COORDINATE_SYSTEM_NAME = PLANETOGRAPHIC
  COORDINATE_SYSTEM_TYPE = "BODY-FIXED ROTATING"
  EASTERNMOST_LONGITUDE = 109.613
  FIRST_STANDARD_PARALLEL = "N/A"
  LINE_FIRST_PIXEL = 1
  LINE_LAST_PIXEL = 6154
  LINE_PROJECTION_OFFSET = -96832.25
  MAP_PROJECTION_ROTATION = 0.0
  MAP_PROJECTION_TYPE = SINUSOIDAL
  MAP_RESOLUTION = 1185.42760773333
  MAP_SCALE = 0.05
  MAXIMUM_LATITUDE = -81.70189999999999
  MINIMUM_LATITUDE = -86.87609999999999
  POSITIVE_LONGITUDE_DIRECTION = EAST
  REFERENCE_LATITUDE = "N/A"
  REFERENCE_LONGITUDE = "N/A"
  SAMPLE_FIRST_PIXEL = 1
  SAMPLE_LAST_PIXEL = 5047
  SAMPLE_PROJECTION_OFFSET = 2495.75
  SECOND_STANDARD_PARALLEL = "N/A"
  WESTERNMOST_LONGITUDE = 62.9943
END_OBJECT = IMAGE_MAP_PROJECTION
END
