PDS_VERSION_ID = PDS3
/* FILE DATA ELEMENTS */
RECORD_TYPE = UNDEFINED
/* POINTERS TO DATA OBJECTS */
^IMAGE = ("H2587_0000_S14.TIF")
/* IDENTIFICATION DATA ELEMENTS */
DATA_SET_ID = "MEX-M-HRSC-4-REFDR-MAPPROJECT-EXT1-V4.0"
DATA_SET_NAME = "MARS EXPRESS HRSC MAP PROJECTED REFDR EXTENSION1 V4.0"
DETECTOR_ID = MEX_HRSC_S1
EVENT_TYPE = "MARS-TERMINATOR-VARIABLE-Gl-Eo-At"
INSTRUMENT_HOST_ID = MEX
INSTRUMENT_HOST_NAME = "MARS EXPRESS"
INSTRUMENT_ID = HRSC
INSTRUMENT_NAME = "HIGH RESOLUTION STEREO CAMERA"
MISSION_NAME = "MARS EXPRESS"
MISSION_PHASE_NAME = ME_Phase_2
PROCESSING_LEVEL_ID = 4
PRODUCT_CREATION_TIME = 2023-02-08T07:05:14.000Z
PRODUCT_ID = "H2587_0000_S14.TIF"
RELEASE_ID = 0001
REVISION_ID = 0000
/* QUALITY DATA ELEMENTS */
DATA_QUALITY_ID = 1
DATA_QUALITY_DESC = "Data calculated based on original SPICE kernels"
/* TIME DATA ELEMENTS */
SPACECRAFT_CLOCK_START_COUNT = "1/0085542426.09086"
SPACECRAFT_CLOCK_STOP_COUNT = "1/0085542597.08619"
START_TIME = 2006-01-17T01:47:11.955Z
STOP_TIME = 2006-01-17T01:49:03.049Z
/* ORBITAL DATA ELEMENTS */
ASCENDING_NODE_LONGITUDE = 174.01
MAXIMUM_RESOLUTION = 0.0476
FOOTPRINT_POINT_LATITUDE = (-86.0731,-86.3694,-86.6641,-86.9655, -86.9738,-86.9753,-86.9034,-86.8468, -86.784,-86.7162,-86.5663,-86.4422, -86.3545,-86.2631,-86.0704,-85.9687, -85.759,-85.6503,-85.5397,-85.4269, -85.2542,-85.137,-85.0182,-84.8977, -84.775,-84.6521,-84.4632,-84.2677, -84.1357,-83.936,-83.7344,-83.5987, -83.4623,-83.3253,-83.1879,-83.0495, -82.9105,-82.7011,-82.5607,-82.4204, -82.2792,-82.0602,-81.9127,-81.7646, -81.6164,-81.4684,-81.3197,-81.1709, -81.0963,-81.0394,-80.9369,-80.8726, -80.8129,-80.7382,-80.6464,-80.6423, -80.6418,-80.928,-81.07,-81.213,-81.355 ,-81.4961,-81.6368,-81.7767,-81.911, -82.045,-82.1782,-82.3104,-82.4421, -82.6382,-82.7665,-82.8949,-83.0236, -83.1504,-83.2749,-83.399,-83.5829, -83.7642,-83.8843,-83.9995,-84.1111, -84.2217,-84.3303,-84.4898,-84.5936, -84.7454,-84.8922,-84.9871,-85.0796, -85.1695,-85.3402,-85.4209,-85.5719, -85.6424,-85.7407,-85.8011,-85.8835, -85.9971,-86.0154,-86.0731)
FOOTPRINT_POINT_LONGITUDE = (19.3889,20.4072,21.6131,23.1076, 23.1535,24.8356,28.6092,31.082,33.5194, 35.8084,40.0709,43.0222,44.8776,46.6449 ,49.9227,51.4619,54.2749,55.585,56.8235 ,58.006,59.6728,60.717,61.7121,62.6643, 63.5826,64.445,65.6812,66.8558,67.5986, 68.6518,69.6364,70.2607,70.8589,71.4314 ,71.9792,72.5076,73.016,73.7402,74.202, 74.6425,75.0695,75.7016,76.1048,76.4946 ,76.8697,77.2282,77.5769,77.9122, 78.0759,78.1988,76.3028,75.2211,74.2712 ,73.1608,71.8987,71.8418,71.8207,71.019 ,70.5988,70.1629,69.713,69.248,68.7667, 68.2692,67.7725,67.2581,66.7261,66.1759 ,65.6056,64.7113,64.0909,63.4454, 62.7727,62.0767,61.3576,60.6091,59.4316 ,58.1832,57.3057,56.4172,55.509,54.5634 ,53.5821,52.0385,50.9601,49.2629, 47.4666,46.2106,44.905,43.5495,40.6897, 39.1807,36.0065,34.3341,31.7251,29.9211 ,27.1211,22.2312,21.2618,19.3889)
ORBIT_NUMBER = 2587
ORBITAL_ECCENTRICITY = 0.571
ORBITAL_INCLINATION = 86.63
ORBITAL_SEMIMAJOR_AXIS = 8529.24
PERIAPSIS_ALTITUDE = 279.67
PERIAPSIS_ARGUMENT_ANGLE = 263.74
PERIAPSIS_TIME = 2006-01-17T01:45:49.000Z
SPACECRAFT_ORIENTATION = (0.0,-1.0,0.0)
^MEX_ORIENTATION_DESC = "MEX_ORIENTATION_DESC.TXT"
SPACECRAFT_POINTING_MODE = NADIR
^MEX_POINTING_DESC = "MEX_POINTING_DESC.TXT"
RIGHT_ASCENSION = -1e+32
DECLINATION = -1e+32
OFFSET_ANGLE = -1e+32
SPACECRAFT_SOLAR_DISTANCE = 2.32142e+08
TARGET_NAME = MARS
/* CAMERA DATA ELEMENTS */
DETECTOR_TEMPERATURE = 17.5549
FOCAL_PLANE_TEMPERATURE = 8.3794
INST_CMPRS_NAME = "DISCRETE COSINE TRANSFORMATION (DCT)"
INST_CMPRS_RATIO = 38.2481
INST_CMPRS_QUALITY = 0
INST_CMPRS_QUANTZ_TBL_ID = 0
INSTRUMENT_TEMPERATURE = 10.2145
LENS_TEMPERATURE = 8.5833
MACROPIXEL_SIZE = 4
MISSING_FRAMES = 0
PIXEL_SUBSAMPLING_FLAG = N
SIGNAL_CHAIN_ID = 1
/* RADIOMETRIC DATA ELEMENTS */
BANDWIDTH = 180.0
CENTER_FILTER_WAVELENGTH = 677.0
RADIANCE_OFFSET = 0.184646
RADIANCE_SCALING_FACTOR = 0.00362052
REFLECTANCE_SCALING_FACTOR = 0.000101794
MEX:REFLECTANCE_OFFSET = 0.0051915
/* IMAGE OBJECT DEFINITIONS */
OBJECT = IMAGE
  INTERCHANGE_FORMAT = BINARY
  LINES = 7517
  LINE_SAMPLES = 6512
  SAMPLE_TYPE = UNSIGNED_INTEGER
  SAMPLE_BITS = 8
  BANDS = 1
  BAND_STORAGE_TYPE = BAND_SEQUENTIAL
  MAXIMUM = 255
  MEAN = 132.845
  MINIMUM = 9
  STANDARD_DEVIATION = 51.3242
END_OBJECT = IMAGE
/* MAP OBJECT DEFINITIONS */
OBJECT = IMAGE_MAP_PROJECTION
  ^DATA_SET_MAP_PROJECTION_CATALOG= "DSMAP.CAT"
  A_AXIS_RADIUS = 3396.0
  B_AXIS_RADIUS = 3396.0
  C_AXIS_RADIUS = 3396.0
  CENTER_LATITUDE = 0.0
  CENTER_LONGITUDE = 61.0
  COORDINATE_SYSTEM_NAME = PLANETOGRAPHIC
  COORDINATE_SYSTEM_TYPE = "BODY-FIXED ROTATING"
  EASTERNMOST_LONGITUDE = 78.19880000000001
  FIRST_STANDARD_PARALLEL = "N/A"
  LINE_FIRST_PIXEL = 1
  LINE_LAST_PIXEL = 7517
  LINE_PROJECTION_OFFSET = -95585.25
  MAP_PROJECTION_ROTATION = 0.0
  MAP_PROJECTION_TYPE = SINUSOIDAL
  MAP_RESOLUTION = 1185.42760773333
  MAP_SCALE = 0.05
  MAXIMUM_LATITUDE = -80.6418
  MINIMUM_LATITUDE = -86.9753
  POSITIVE_LONGITUDE_DIRECTION = EAST
  REFERENCE_LATITUDE = "N/A"
  REFERENCE_LONGITUDE = "N/A"
  SAMPLE_FIRST_PIXEL = 1
  SAMPLE_LAST_PIXEL = 6512
  SAMPLE_PROJECTION_OFFSET = 3316.25
  SECOND_STANDARD_PARALLEL = "N/A"
  WESTERNMOST_LONGITUDE = 19.3889
END_OBJECT = IMAGE_MAP_PROJECTION
END
