PDS_VERSION_ID = PDS3
/* FILE DATA ELEMENTS */
RECORD_TYPE = UNDEFINED
/* POINTERS TO DATA OBJECTS */
^IMAGE = ("H2586_0001_P24.TIF")
/* IDENTIFICATION DATA ELEMENTS */
DATA_SET_ID = "MEX-M-HRSC-4-REFDR-MAPPROJECT-EXT1-V4.0"
DATA_SET_NAME = "MARS EXPRESS HRSC MAP PROJECTED REFDR EXTENSION1 V4.0"
DETECTOR_ID = MEX_HRSC_P2
EVENT_TYPE = "MARS-REGIONAL-MAPPING-Te-Im-Mw"
INSTRUMENT_HOST_ID = MEX
INSTRUMENT_HOST_NAME = "MARS EXPRESS"
INSTRUMENT_ID = HRSC
INSTRUMENT_NAME = "HIGH RESOLUTION STEREO CAMERA"
MISSION_NAME = "MARS EXPRESS"
MISSION_PHASE_NAME = ME_Phase_2
PROCESSING_LEVEL_ID = 4
PRODUCT_CREATION_TIME = 2023-02-08T07:05:14.000Z
PRODUCT_ID = "H2586_0001_P24.TIF"
RELEASE_ID = 0001
REVISION_ID = 0000
/* QUALITY DATA ELEMENTS */
DATA_QUALITY_ID = 1
DATA_QUALITY_DESC = "Data calculated based on original SPICE kernels"
/* TIME DATA ELEMENTS */
SPACECRAFT_CLOCK_START_COUNT = "1/0085519046.09037"
SPACECRAFT_CLOCK_STOP_COUNT = "1/0085519724.30261"
START_TIME = 2006-01-16T19:21:12.687Z
STOP_TIME = 2006-01-16T19:26:20.832Z
/* ORBITAL DATA ELEMENTS */
ASCENDING_NODE_LONGITUDE = 174.03
MAXIMUM_RESOLUTION = 0.1005
FOOTPRINT_POINT_LATITUDE = (-36.8769,-36.8775,-36.8769,-36.8747, -36.8721,-36.8667,-36.8622,-36.8569, -36.8508,-36.8438,-36.836,-36.8239, -36.8227,-36.8555,-36.6285,-36.2893, -35.9507,-35.6131,-35.3925,-35.1722, -34.9532,-34.7351,-34.5181,-34.3015, -34.0859,-33.7631,-33.5495,-33.3365, -32.9144,-32.2904,-31.8821,-31.4748, -31.0712,-30.6705,-30.0741,-29.5864, -29.1999,-28.9129,-28.531,-28.1559, -27.8773,-27.5074,-27.1411,-26.7777, -26.689,-26.6318,-26.6437,-26.6585, -26.6786,-26.6953,-26.706,-26.7181, -26.7325,-26.7491,-26.7656,-26.7773, -26.7865,-26.7975,-26.8087,-26.8253, -26.8514,-26.8634,-26.8665,-26.8766, -26.8921,-26.9011,-26.9134,-26.9156, -26.9174,-27.4544,-27.7188,-27.9862, -28.4349,-28.8026,-29.2657,-29.6419, -30.1195,-30.4074,-30.7931,-31.1815, -31.575,-31.875,-32.2763,-32.681, -33.1891,-33.4964,-33.8091,-34.2336, -34.5424,-34.7563,-34.9706,-35.1855, -35.4023,-35.6206,-35.8406,-36.1704, -36.501,-36.7249,-36.8369,-36.8769)
FOOTPRINT_POINT_LONGITUDE = (186.054,186.676,187.089,187.656, 188.067,188.684,189.095,189.505,189.916 ,190.326,190.738,191.304,191.355, 191.391,191.404,191.423,191.44,191.457, 191.47,191.482,191.494,191.506,191.518, 191.53,191.541,191.558,191.568,191.579, 191.601,191.634,191.657,191.679,191.7, 191.72,191.749,191.775,191.795,191.81, 191.829,191.849,191.865,191.884,191.904 ,191.923,191.929,191.933,191.679, 191.228,190.846,190.527,190.272,190.018 ,189.7,189.319,189.065,188.81,188.492, 188.237,187.982,187.599,187.214,186.894 ,186.64,186.384,185.999,185.742,185.419 ,185.354,185.331,185.379,185.406, 185.433,185.477,185.51,185.55,185.582, 185.619,185.641,185.672,185.702,185.731 ,185.751,185.779,185.806,185.841, 185.861,185.88,185.901,185.924,185.935, 185.947,185.958,185.968,185.978,185.988 ,186.003,186.018,186.027,186.031, 186.054)
ORBIT_NUMBER = 2586
ORBITAL_ECCENTRICITY = 0.571
ORBITAL_INCLINATION = 86.62
ORBITAL_SEMIMAJOR_AXIS = 8530.84
PERIAPSIS_ALTITUDE = 280.48
PERIAPSIS_ARGUMENT_ANGLE = 263.92
PERIAPSIS_TIME = 2006-01-16T19:02:35.000Z
SPACECRAFT_ORIENTATION = (0.0,-1.0,0.0)
^MEX_ORIENTATION_DESC = "MEX_ORIENTATION_DESC.TXT"
SPACECRAFT_POINTING_MODE = ACROSSTRACK
^MEX_POINTING_DESC = "MEX_POINTING_DESC.TXT"
RIGHT_ASCENSION = -1e+32
DECLINATION = -1e+32
OFFSET_ANGLE = 0.19
SPACECRAFT_SOLAR_DISTANCE = 2.3209e+08
TARGET_NAME = MARS
/* CAMERA DATA ELEMENTS */
DETECTOR_TEMPERATURE = 20.8173
FOCAL_PLANE_TEMPERATURE = 8.5833
INST_CMPRS_NAME = "DISCRETE COSINE TRANSFORMATION (DCT)"
INST_CMPRS_RATIO = 6.27347
INST_CMPRS_QUALITY = 0
INST_CMPRS_QUANTZ_TBL_ID = 0
INSTRUMENT_TEMPERATURE = 13.4769
LENS_TEMPERATURE = 8.7872
MACROPIXEL_SIZE = 2
MISSING_FRAMES = 0
PIXEL_SUBSAMPLING_FLAG = N
SIGNAL_CHAIN_ID = 3
/* RADIOMETRIC DATA ELEMENTS */
BANDWIDTH = 177.0
CENTER_FILTER_WAVELENGTH = 676.5
RADIANCE_OFFSET = 2.70156
RADIANCE_SCALING_FACTOR = 0.0151524
REFLECTANCE_SCALING_FACTOR = 0.00043277
MEX:REFLECTANCE_OFFSET = 0.0771597
/* IMAGE OBJECT DEFINITIONS */
OBJECT = IMAGE
  INTERCHANGE_FORMAT = BINARY
  LINES = 6046
  LINE_SAMPLES = 2904
  SAMPLE_TYPE = UNSIGNED_INTEGER
  SAMPLE_BITS = 8
  BANDS = 1
  BAND_STORAGE_TYPE = BAND_SEQUENTIAL
  MAXIMUM = 255
  MEAN = 115.803
  MINIMUM = 1
  STANDARD_DEVIATION = 22.024
END_OBJECT = IMAGE
/* MAP OBJECT DEFINITIONS */
OBJECT = IMAGE_MAP_PROJECTION
  ^DATA_SET_MAP_PROJECTION_CATALOG= "DSMAP.CAT"
  A_AXIS_RADIUS = 3396.0
  B_AXIS_RADIUS = 3396.0
  C_AXIS_RADIUS = 3396.0
  CENTER_LATITUDE = 0.0
  CENTER_LONGITUDE = 189.0
  COORDINATE_SYSTEM_NAME = PLANETOGRAPHIC
  COORDINATE_SYSTEM_TYPE = "BODY-FIXED ROTATING"
  EASTERNMOST_LONGITUDE = 191.933
  FIRST_STANDARD_PARALLEL = "N/A"
  LINE_FIRST_PIXEL = 1
  LINE_LAST_PIXEL = 6046
  LINE_PROJECTION_OFFSET = -15815.75
  MAP_PROJECTION_ROTATION = 0.0
  MAP_PROJECTION_TYPE = SINUSOIDAL
  MAP_RESOLUTION = 592.713803866667
  MAP_SCALE = 0.1
  MAXIMUM_LATITUDE = -26.6318
  MINIMUM_LATITUDE = -36.8775
  POSITIVE_LONGITUDE_DIRECTION = EAST
  REFERENCE_LATITUDE = "N/A"
  REFERENCE_LONGITUDE = "N/A"
  SAMPLE_FIRST_PIXEL = 1
  SAMPLE_LAST_PIXEL = 2904
  SAMPLE_PROJECTION_OFFSET = 1686.25
  SECOND_STANDARD_PARALLEL = "N/A"
  WESTERNMOST_LONGITUDE = 185.331
END_OBJECT = IMAGE_MAP_PROJECTION
END
