PDS_VERSION_ID = PDS3
/* FILE DATA ELEMENTS */
RECORD_TYPE = UNDEFINED
/* POINTERS TO DATA OBJECTS */
^IMAGE = ("H2581_0000_GR4.TIF")
/* IDENTIFICATION DATA ELEMENTS */
DATA_SET_ID = "MEX-M-HRSC-4-REFDR-MAPPROJECT-EXT1-V4.0"
DATA_SET_NAME = "MARS EXPRESS HRSC MAP PROJECTED REFDR EXTENSION1 V4.0"
DETECTOR_ID = MEX_HRSC_GREEN
EVENT_TYPE = "MARS-REGIONAL-MAPPING-Im-Fl-Gl"
INSTRUMENT_HOST_ID = MEX
INSTRUMENT_HOST_NAME = "MARS EXPRESS"
INSTRUMENT_ID = HRSC
INSTRUMENT_NAME = "HIGH RESOLUTION STEREO CAMERA"
MISSION_NAME = "MARS EXPRESS"
MISSION_PHASE_NAME = ME_Phase_2
PROCESSING_LEVEL_ID = 4
PRODUCT_CREATION_TIME = 2023-02-08T07:05:14.000Z
PRODUCT_ID = "H2581_0000_GR4.TIF"
RELEASE_ID = 0001
REVISION_ID = 0000
/* QUALITY DATA ELEMENTS */
DATA_QUALITY_ID = 1
DATA_QUALITY_DESC = "Data calculated based on original SPICE kernels"
/* TIME DATA ELEMENTS */
SPACECRAFT_CLOCK_START_COUNT = "1/0085397516.08255"
SPACECRAFT_CLOCK_STOP_COUNT = "1/0085397972.24514"
START_TIME = 2006-01-15T09:32:30.115Z
STOP_TIME = 2006-01-15T09:37:58.011Z
/* ORBITAL DATA ELEMENTS */
ASCENDING_NODE_LONGITUDE = 174.13
MAXIMUM_RESOLUTION = 0.0622
FOOTPRINT_POINT_LATITUDE = (-71.1902,-71.2947,-71.4026,-71.4042, -71.3922,-70.909,-70.5874,-70.1062, -69.4653,-69.1385,-68.8105,-68.3152, -67.9798,-67.645,-67.1326,-66.7906, -66.2678,-65.9189,-65.5624,-65.2068, -64.8447,-64.4815,-64.1141,-63.7429, -63.3693,-62.9938,-62.6113,-62.2286, -61.8394,-61.2508,-60.6534,-60.2507, -59.8433,-59.4325,-59.0166,-58.5955, -58.1707,-57.5261,-57.0909,-56.4273, -55.9794,-55.526,-55.068,-54.6048, -54.1367,-53.6631,-52.9312,-52.1973, -51.9502,-51.8179,-51.805,-51.7845, -51.7494,-51.6994,-51.6977,-51.6987, -52.1915,-52.6782,-53.4093,-53.8821, -54.3499,-54.8125,-55.2695,-55.7208, -56.1674,-56.6095,-57.0481,-57.4817, -57.9107,-58.3367,-58.7551,-59.1683, -59.7829,-60.1877,-60.589,-60.9843, -61.3782,-61.767,-62.3435,-62.7249, -63.0995,-63.4737,-63.8415,-64.2089, -64.5702,-65.1083,-65.4603,-65.8125, -66.1596,-66.6777,-67.0177,-67.5261, -67.8602,-68.3587,-68.8471,-69.4921, -70.1274,-70.9237,-71.0847,-71.1902)
FOOTPRINT_POINT_LONGITUDE = (313.426,315.164,317.37,317.408,317.514 ,317.731,317.869,318.063,318.312, 318.432,318.55,318.719,318.829,318.935, 319.09,319.19,319.336,319.43,319.524, 319.611,319.703,319.79,319.874,319.963, 320.042,320.115,320.198,320.27,320.347, 320.454,320.559,320.625,320.689,320.755 ,320.818,320.884,320.95,321.037,321.095 ,321.183,321.242,321.297,321.349, 321.401,321.451,321.501,321.574,321.643 ,321.667,321.679,320.977,320.17,319.117 ,317.961,317.926,317.914,317.88,317.843 ,317.785,317.744,317.701,317.656,317.61 ,317.561,317.511,317.46,317.407,317.353 ,317.3,317.247,317.18,317.114,317.014, 316.946,316.873,316.799,316.723,316.647 ,316.527,316.443,316.356,316.267, 316.175,316.079,315.983,315.83,315.719, 315.61,315.5,315.327,315.209,315.027, 314.905,314.708,314.503,314.216,313.904 ,313.48,313.396,313.426)
ORBIT_NUMBER = 2581
ORBITAL_ECCENTRICITY = 0.571
ORBITAL_INCLINATION = 86.63
ORBITAL_SEMIMAJOR_AXIS = 8529.85
PERIAPSIS_ALTITUDE = 280.64
PERIAPSIS_ARGUMENT_ANGLE = 264.8
PERIAPSIS_TIME = 2006-01-15T09:26:37.000Z
SPACECRAFT_ORIENTATION = (0.0,-1.0,0.0)
^MEX_ORIENTATION_DESC = "MEX_ORIENTATION_DESC.TXT"
SPACECRAFT_POINTING_MODE = NADIR
^MEX_POINTING_DESC = "MEX_POINTING_DESC.TXT"
RIGHT_ASCENSION = -1e+32
DECLINATION = -1e+32
OFFSET_ANGLE = -1e+32
SPACECRAFT_SOLAR_DISTANCE = 2.31826e+08
TARGET_NAME = MARS
/* CAMERA DATA ELEMENTS */
DETECTOR_TEMPERATURE = 18.1666
FOCAL_PLANE_TEMPERATURE = 8.3794
INST_CMPRS_NAME = "DISCRETE COSINE TRANSFORMATION (DCT)"
INST_CMPRS_RATIO = 19.748
INST_CMPRS_QUALITY = 0
INST_CMPRS_QUANTZ_TBL_ID = 0
INSTRUMENT_TEMPERATURE = 11.0301
LENS_TEMPERATURE = 8.7872
MACROPIXEL_SIZE = 4
MISSING_FRAMES = 1
PIXEL_SUBSAMPLING_FLAG = N
SIGNAL_CHAIN_ID = 2
/* RADIOMETRIC DATA ELEMENTS */
BANDWIDTH = 88.0
CENTER_FILTER_WAVELENGTH = 538.0
RADIANCE_OFFSET = 0.460822
RADIANCE_SCALING_FACTOR = 0.00501985
REFLECTANCE_SCALING_FACTOR = 0.000232279
MEX:REFLECTANCE_OFFSET = 0.0213233
/* IMAGE OBJECT DEFINITIONS */
OBJECT = IMAGE
  INTERCHANGE_FORMAT = BINARY
  LINES = 23351
  LINE_SAMPLES = 4527
  SAMPLE_TYPE = UNSIGNED_INTEGER
  SAMPLE_BITS = 8
  BANDS = 1
  BAND_STORAGE_TYPE = BAND_SEQUENTIAL
  MAXIMUM = 255
  MEAN = 146.839
  MINIMUM = 1
  STANDARD_DEVIATION = 50.0676
END_OBJECT = IMAGE
/* MAP OBJECT DEFINITIONS */
OBJECT = IMAGE_MAP_PROJECTION
  ^DATA_SET_MAP_PROJECTION_CATALOG= "DSMAP.CAT"
  A_AXIS_RADIUS = 3396.0
  B_AXIS_RADIUS = 3396.0
  C_AXIS_RADIUS = 3396.0
  CENTER_LATITUDE = 0.0
  CENTER_LONGITUDE = 318.0
  COORDINATE_SYSTEM_NAME = PLANETOGRAPHIC
  COORDINATE_SYSTEM_TYPE = "BODY-FIXED ROTATING"
  EASTERNMOST_LONGITUDE = 321.679
  FIRST_STANDARD_PARALLEL = "N/A"
  LINE_FIRST_PIXEL = 1
  LINE_LAST_PIXEL = 23351
  LINE_PROJECTION_OFFSET = -61287.375
  MAP_PROJECTION_ROTATION = 0.0
  MAP_PROJECTION_TYPE = SINUSOIDAL
  MAP_RESOLUTION = 1185.42760773333
  MAP_SCALE = 0.05
  MAXIMUM_LATITUDE = -51.6977
  MINIMUM_LATITUDE = -71.4042
  POSITIVE_LONGITUDE_DIRECTION = EAST
  REFERENCE_LATITUDE = "N/A"
  REFERENCE_LONGITUDE = "N/A"
  SAMPLE_FIRST_PIXEL = 1
  SAMPLE_LAST_PIXEL = 4527
  SAMPLE_PROJECTION_OFFSET = 1788.875
  SECOND_STANDARD_PARALLEL = "N/A"
  WESTERNMOST_LONGITUDE = 313.396
END_OBJECT = IMAGE_MAP_PROJECTION
END
