PDS_VERSION_ID = PDS3
/* FILE DATA ELEMENTS */
RECORD_TYPE = UNDEFINED
/* POINTERS TO DATA OBJECTS */
^IMAGE = ("H2579_0000_S24.TIF")
/* IDENTIFICATION DATA ELEMENTS */
DATA_SET_ID = "MEX-M-HRSC-4-REFDR-MAPPROJECT-EXT1-V4.0"
DATA_SET_NAME = "MARS EXPRESS HRSC MAP PROJECTED REFDR EXTENSION1 V4.0"
DETECTOR_ID = MEX_HRSC_S2
EVENT_TYPE = "MARS-REGIONAL-MAPPING-Te-Im-La"
INSTRUMENT_HOST_ID = MEX
INSTRUMENT_HOST_NAME = "MARS EXPRESS"
INSTRUMENT_ID = HRSC
INSTRUMENT_NAME = "HIGH RESOLUTION STEREO CAMERA"
MISSION_NAME = "MARS EXPRESS"
MISSION_PHASE_NAME = ME_Phase_2
PROCESSING_LEVEL_ID = 4
PRODUCT_CREATION_TIME = 2023-02-08T07:05:14.000Z
PRODUCT_ID = "H2579_0000_S24.TIF"
RELEASE_ID = 0001
REVISION_ID = 0000
/* QUALITY DATA ELEMENTS */
DATA_QUALITY_ID = 1
DATA_QUALITY_DESC = "Data calculated based on original SPICE kernels"
/* TIME DATA ELEMENTS */
SPACECRAFT_CLOCK_START_COUNT = "1/0085349144.08234"
SPACECRAFT_CLOCK_STOP_COUNT = "1/0085349771.61211"
START_TIME = 2006-01-14T20:07:05.402Z
STOP_TIME = 2006-01-14T20:16:15.807Z
/* ORBITAL DATA ELEMENTS */
ASCENDING_NODE_LONGITUDE = 174.17
MAXIMUM_RESOLUTION = 0.0365
FOOTPRINT_POINT_LATITUDE = (-69.968,-70.0582,-70.1784,-70.1801, -70.2809,-69.2627,-68.4374,-67.5975, -66.7405,-65.8643,-64.9681,-64.5138, -64.0538,-63.5876,-63.1172,-62.6407, -62.1601,-61.6749,-61.1844,-60.6877, -60.1854,-59.4198,-58.9049,-58.3778, -57.8483,-57.3114,-56.7704,-56.2235, -55.6641,-55.0995,-54.5293,-53.9475, -53.3586,-52.4647,-51.8575,-51.2452, -50.6253,-49.9952,-49.3552,-48.7065, -48.0471,-47.3836,-46.7285,-46.0826, -45.4388,-44.8124,-44.1894,-43.8809, -43.8234,-43.829,-43.829,-43.8229, -43.8182,-43.8053,-43.8047,-43.8051, -44.4148,-45.0321,-45.6558,-46.2921, -46.9325,-47.9181,-48.8877,-49.5362, -50.1617,-50.7845,-51.4011,-52.0003, -52.6003,-53.1912,-53.7761,-54.3508, -54.9207,-55.4819,-56.0358,-56.581, -57.389,-57.9193,-58.4439,-58.9616, -59.4753,-59.9822,-60.4816,-60.9746, -61.4618,-61.9441,-62.4212,-62.8937, -63.3633,-63.8277,-64.2853,-65.1887, -65.8506,-66.7176,-67.5676,-68.405, -69.2187,-69.8206,-70.0217,-69.968)
FOOTPRINT_POINT_LONGITUDE = (150.46,152.046,154.633,154.674,154.742 ,155.136,155.432,155.712,155.974, 156.221,156.454,156.566,156.675,156.781 ,156.884,156.985,157.083,157.179, 157.273,157.364,157.454,157.584,157.67, 157.751,157.832,157.912,157.991,158.068 ,158.142,158.215,158.288,158.357, 158.426,158.528,158.594,158.661,158.727 ,158.791,158.854,158.916,158.976, 159.036,159.093,159.149,159.201,159.254 ,159.304,159.329,159.333,158.23,157.416 ,156.266,155.547,154.442,154.394, 154.377,154.38,154.38,154.379,154.373, 154.366,154.344,154.322,154.295,154.274 ,154.246,154.214,154.184,154.146, 154.106,154.062,154.016,153.965,153.912 ,153.857,153.799,153.704,153.637, 153.566,153.492,153.413,153.331,153.247 ,153.16,153.069,152.973,152.874,152.771 ,152.661,152.547,152.429,152.179, 151.982,151.701,151.399,151.068,150.723 ,150.442,150.343,150.46)
ORBIT_NUMBER = 2579
ORBITAL_ECCENTRICITY = 0.571
ORBITAL_INCLINATION = 86.61
ORBITAL_SEMIMAJOR_AXIS = 8530.47
PERIAPSIS_ALTITUDE = 281.21
PERIAPSIS_ARGUMENT_ANGLE = 265.13
PERIAPSIS_TIME = 2006-01-14T20:00:13.000Z
SPACECRAFT_ORIENTATION = (0.0,-1.0,0.0)
^MEX_ORIENTATION_DESC = "MEX_ORIENTATION_DESC.TXT"
SPACECRAFT_POINTING_MODE = NADIR
^MEX_POINTING_DESC = "MEX_POINTING_DESC.TXT"
RIGHT_ASCENSION = -1e+32
DECLINATION = -1e+32
OFFSET_ANGLE = -1e+32
SPACECRAFT_SOLAR_DISTANCE = 2.31721e+08
TARGET_NAME = MARS
/* CAMERA DATA ELEMENTS */
DETECTOR_TEMPERATURE = 18.5744
FOCAL_PLANE_TEMPERATURE = 10.2145
INST_CMPRS_NAME = "DISCRETE COSINE TRANSFORMATION (DCT)"
INST_CMPRS_RATIO = 14.0404
INST_CMPRS_QUALITY = 0
INST_CMPRS_QUANTZ_TBL_ID = 0
INSTRUMENT_TEMPERATURE = 11.0301
LENS_TEMPERATURE = 8.9911
MACROPIXEL_SIZE = 2
MISSING_FRAMES = 0
PIXEL_SUBSAMPLING_FLAG = N
SIGNAL_CHAIN_ID = 1
/* RADIOMETRIC DATA ELEMENTS */
BANDWIDTH = 178.0
CENTER_FILTER_WAVELENGTH = 679.0
RADIANCE_OFFSET = 1.43801
RADIANCE_SCALING_FACTOR = 0.0195494
REFLECTANCE_SCALING_FACTOR = 0.000555898
MEX:REFLECTANCE_OFFSET = 0.0408906
/* IMAGE OBJECT DEFINITIONS */
OBJECT = IMAGE
  INTERCHANGE_FORMAT = BINARY
  LINES = 62868
  LINE_SAMPLES = 9329
  SAMPLE_TYPE = UNSIGNED_INTEGER
  SAMPLE_BITS = 8
  BANDS = 1
  BAND_STORAGE_TYPE = BAND_SEQUENTIAL
  MAXIMUM = 255
  MEAN = 104.016
  MINIMUM = 1
  STANDARD_DEVIATION = 50.2134
END_OBJECT = IMAGE
/* MAP OBJECT DEFINITIONS */
OBJECT = IMAGE_MAP_PROJECTION
  ^DATA_SET_MAP_PROJECTION_CATALOG= "DSMAP.CAT"
  A_AXIS_RADIUS = 3396.0
  B_AXIS_RADIUS = 3396.0
  C_AXIS_RADIUS = 3396.0
  CENTER_LATITUDE = 0.0
  CENTER_LONGITUDE = 156.0
  COORDINATE_SYSTEM_NAME = PLANETOGRAPHIC
  COORDINATE_SYSTEM_TYPE = "BODY-FIXED ROTATING"
  EASTERNMOST_LONGITUDE = 159.333
  FIRST_STANDARD_PARALLEL = "N/A"
  LINE_FIRST_PIXEL = 1
  LINE_LAST_PIXEL = 62868
  LINE_PROJECTION_OFFSET = -103755.75
  MAP_PROJECTION_ROTATION = 0.0
  MAP_PROJECTION_TYPE = SINUSOIDAL
  MAP_RESOLUTION = 2370.85521546667
  MAP_SCALE = 0.025
  MAXIMUM_LATITUDE = -43.8047
  MINIMUM_LATITUDE = -70.2809
  POSITIVE_LONGITUDE_DIRECTION = EAST
  REFERENCE_LATITUDE = "N/A"
  REFERENCE_LONGITUDE = "N/A"
  SAMPLE_FIRST_PIXEL = 1
  SAMPLE_LAST_PIXEL = 9329
  SAMPLE_PROJECTION_OFFSET = 4481.75
  SECOND_STANDARD_PARALLEL = "N/A"
  WESTERNMOST_LONGITUDE = 150.343
END_OBJECT = IMAGE_MAP_PROJECTION
END
