PDS_VERSION_ID = PDS3
/* FILE DATA ELEMENTS */
RECORD_TYPE = UNDEFINED
/* POINTERS TO DATA OBJECTS */
^IMAGE = ("H2574_0033_SR4.TIF")
/* IDENTIFICATION DATA ELEMENTS */
DATA_SET_ID = "MEX-M-HRSC-4-REFDR-MAPPROJECT-EXT1-V4.0"
DATA_SET_NAME = "MARS EXPRESS HRSC MAP PROJECTED REFDR EXTENSION1 V4.0"
DETECTOR_ID = MEX_HRSC_SRC
EVENT_TYPE = "MARS-TERMINATOR-VARIABLE-At"
INSTRUMENT_HOST_ID = MEX
INSTRUMENT_HOST_NAME = "MARS EXPRESS"
INSTRUMENT_ID = HRSC
INSTRUMENT_NAME = "HIGH RESOLUTION STEREO CAMERA"
MISSION_NAME = "MARS EXPRESS"
MISSION_PHASE_NAME = ME_Phase_2
PROCESSING_LEVEL_ID = 4
PRODUCT_CREATION_TIME = 2023-02-08T07:05:14.000Z
PRODUCT_ID = "H2574_0033_SR4.TIF"
RELEASE_ID = 0001
REVISION_ID = 0000
/* QUALITY DATA ELEMENTS */
DATA_QUALITY_ID = 1
DATA_QUALITY_DESC = "Data calculated based on original SPICE kernels"
/* TIME DATA ELEMENTS */
SPACECRAFT_CLOCK_START_COUNT = "1/0085232961.07305"
SPACECRAFT_CLOCK_STOP_COUNT = "1/0085234461.54422"
IMAGE_TIME = 2006-01-13T12:11:46.844Z
START_TIME = 2006-01-13T12:11:46.841Z
STOP_TIME = 2006-01-13T12:11:46.848Z
/* ORBITAL DATA ELEMENTS */
ASCENDING_NODE_LONGITUDE = 174.28
MAXIMUM_RESOLUTION = 0.074554
FOOTPRINT_POINT_LATITUDE = (73.0293,72.9819,72.9398,72.8978, 72.8557,72.8137,72.7526,72.7106,72.6686 ,72.6266,72.5846,72.5427,72.5007, 72.4548,72.3966,72.3547,72.3128,72.2709 ,72.2291,72.118,72.0337,71.9502,71.8628 ,71.7794,71.7094,71.7081,71.7086, 71.7371,71.7609,71.7801,71.8034,71.8219 ,71.8447,71.863,71.8811,71.8992,71.9217 ,71.9395,71.9616,71.9792,72.0009, 72.0183,72.0398,72.057,72.074,72.091, 72.1251,72.154,72.1581,72.1606,72.246, 72.3168,72.4024,72.4549,72.5405,72.6638 ,72.7067,72.7917,72.8346,72.8776, 72.9206,72.999,73.0421,73.0852,73.1299, 73.173,73.2161,73.2593,73.3231,73.3664, 73.4096,73.4666,73.514,73.5153,73.5149, 73.4883,73.4703,73.4522,73.4341,73.4112 ,73.3928,73.3741,73.3555,73.3367, 73.3179,73.2989,73.2798,73.2606,73.2414 ,73.222,73.2025,73.178,73.1583,73.1337, 73.0982,73.0781,73.0578,73.0375,73.0324 ,73.0293)
FOOTPRINT_POINT_LONGITUDE = (280.082,280.018,279.962,279.907, 279.851,279.796,279.716,279.662,279.608 ,279.554,279.5,279.447,279.393,279.336, 279.263,279.211,279.159,279.107,279.056 ,278.92,278.819,278.72,278.616,278.518, 278.438,278.436,278.432,278.207,278.019 ,277.868,277.678,277.527,277.336, 277.184,277.031,276.878,276.686,276.533 ,276.34,276.185,275.992,275.837,275.643 ,275.487,275.331,275.174,274.861, 274.586,274.546,274.522,274.603,274.67, 274.752,274.802,274.885,275.007,275.049 ,275.134,275.177,275.22,275.264,275.344 ,275.388,275.433,275.479,275.524, 275.569,275.615,275.682,275.728,275.775 ,275.836,275.887,275.889,275.893, 276.147,276.316,276.484,276.653,276.862 ,277.029,277.196,277.363,277.529, 277.695,277.86,278.025,278.19,278.355, 278.519,278.682,278.886,279.049,279.252 ,279.535,279.696,279.857,280.018, 280.058,280.082)
ORBIT_NUMBER = 2574
ORBITAL_ECCENTRICITY = 0.571
ORBITAL_INCLINATION = 86.61
ORBITAL_SEMIMAJOR_AXIS = 8530.52
PERIAPSIS_ALTITUDE = 280.64
PERIAPSIS_ARGUMENT_ANGLE = 266.01
PERIAPSIS_TIME = 2006-01-13T10:24:16.000Z
SPACECRAFT_ORIENTATION = (0.0,-1.0,0.0)
^MEX_ORIENTATION_DESC = "MEX_ORIENTATION_DESC.TXT"
SPACECRAFT_POINTING_MODE = INERT
^MEX_POINTING_DESC = "MEX_POINTING_DESC.TXT"
RIGHT_ASCENSION = 310.976
DECLINATION = 49.716
OFFSET_ANGLE = -1e+32
SPACECRAFT_SOLAR_DISTANCE = 2.31456e+08
TARGET_NAME = MARS
/* CAMERA DATA ELEMENTS */
BUFFER_MODE_ID = DIRECT
EXPOSURE_DURATION = 7.056
INST_CMPRS_NAME = NONE
INST_CMPRS_RATIO = 1.0
INST_CMPRS_QUALITY = -2147483648
INST_CMPRS_QUANTZ_TBL_ID = -2147483648
INSTRUMENT_TEMPERATURE = 25.4545
MISSING_FRAMES = 0
START_BIT = 0
/* RADIOMETRIC DATA ELEMENTS */
BANDWIDTH = 250.0
CENTER_FILTER_WAVELENGTH = 600.0
RADIANCE_OFFSET = -9.99e+31
RADIANCE_SCALING_FACTOR = -9.99e+31
REFLECTANCE_SCALING_FACTOR = -9.99e+31
MEX:REFLECTANCE_OFFSET = -9.99e+31
/* IMAGE OBJECT DEFINITIONS */
OBJECT = IMAGE
  INTERCHANGE_FORMAT = BINARY
  LINES = 1385
  LINE_SAMPLES = 1273
  SAMPLE_TYPE = UNSIGNED_INTEGER
  SAMPLE_BITS = 8
  BANDS = 1
  BAND_STORAGE_TYPE = BAND_SEQUENTIAL
  MAXIMUM = 251
  MEAN = 115.578
  MINIMUM = 5
  STANDARD_DEVIATION = 30.2191
END_OBJECT = IMAGE
/* MAP OBJECT DEFINITIONS */
OBJECT = IMAGE_MAP_PROJECTION
  ^DATA_SET_MAP_PROJECTION_CATALOG= "DSMAP.CAT"
  A_AXIS_RADIUS = 3396.19
  B_AXIS_RADIUS = 3396.19
  C_AXIS_RADIUS = 3396.19
  CENTER_LATITUDE = 0.0
  CENTER_LONGITUDE = 277.0
  COORDINATE_SYSTEM_NAME = PLANETOGRAPHIC
  COORDINATE_SYSTEM_TYPE = "BODY-FIXED ROTATING"
  EASTERNMOST_LONGITUDE = 280.082
  FIRST_STANDARD_PARALLEL = "N/A"
  LINE_FIRST_PIXEL = 1
  LINE_LAST_PIXEL = 1385
  LINE_PROJECTION_OFFSET = 54477.0
  MAP_PROJECTION_ROTATION = 0.0
  MAP_PROJECTION_TYPE = SINUSOIDAL
  MAP_RESOLUTION = 740.9337064023611
  MAP_SCALE = 0.08
  MAXIMUM_LATITUDE = 73.5153
  MINIMUM_LATITUDE = 71.7081
  POSITIVE_LONGITUDE_DIRECTION = EAST
  REFERENCE_LATITUDE = "N/A"
  REFERENCE_LONGITUDE = "N/A"
  SAMPLE_FIRST_PIXEL = 1
  SAMPLE_LAST_PIXEL = 1273
  SAMPLE_PROJECTION_OFFSET = 570.0
  SECOND_STANDARD_PARALLEL = "N/A"
  WESTERNMOST_LONGITUDE = 274.522
END_OBJECT = IMAGE_MAP_PROJECTION
END
