PDS_VERSION_ID = PDS3
/* FILE DATA ELEMENTS */
RECORD_TYPE = UNDEFINED
/* POINTERS TO DATA OBJECTS */
^IMAGE = ("H2543_0000_IR4.TIF")
/* IDENTIFICATION DATA ELEMENTS */
DATA_SET_ID = "MEX-M-HRSC-4-REFDR-MAPPROJECT-EXT1-V4.0"
DATA_SET_NAME = "MARS EXPRESS HRSC MAP PROJECTED REFDR EXTENSION1 V4.0"
DETECTOR_ID = MEX_HRSC_IR
EVENT_TYPE = "MARS-REGIONAL-MAPPING-Vo-Fl-Mw"
INSTRUMENT_HOST_ID = MEX
INSTRUMENT_HOST_NAME = "MARS EXPRESS"
INSTRUMENT_ID = HRSC
INSTRUMENT_NAME = "HIGH RESOLUTION STEREO CAMERA"
MISSION_NAME = "MARS EXPRESS"
MISSION_PHASE_NAME = ME_Phase_1
PROCESSING_LEVEL_ID = 4
PRODUCT_CREATION_TIME = 2023-02-08T07:05:14.000Z
PRODUCT_ID = "H2543_0000_IR4.TIF"
RELEASE_ID = 0001
REVISION_ID = 0000
/* QUALITY DATA ELEMENTS */
DATA_QUALITY_ID = 1
DATA_QUALITY_DESC = "Data calculated based on original SPICE kernels"
/* TIME DATA ELEMENTS */
SPACECRAFT_CLOCK_START_COUNT = "1/0084478729.57300"
SPACECRAFT_CLOCK_STOP_COUNT = "1/0084479355.01526"
START_TIME = 2006-01-04T18:20:13.909Z
STOP_TIME = 2006-01-04T18:24:30.624Z
/* ORBITAL DATA ELEMENTS */
ASCENDING_NODE_LONGITUDE = 174.9
MAXIMUM_RESOLUTION = 0.1079
FOOTPRINT_POINT_LATITUDE = (-43.7504,-43.7826,-43.8043,-43.8235, -43.8401,-43.8544,-43.8693,-43.8699, -43.8038,-43.3041,-42.7979,-42.2862, -41.7675,-41.2438,-40.7105,-40.3058, -39.7627,-39.2106,-38.9318,-38.5063, -38.217,-37.9376,-37.6614,-37.3727, -37.0816,-36.7891,-36.3475,-36.0486, -35.7491,-35.4466,-35.1415,-34.8358, -34.5274,-34.2164,-33.8974,-33.5847, -33.2671,-32.9511,-32.6299,-32.1415, -31.8136,-31.4833,-31.1483,-30.8192, -30.4896,-30.1613,-29.8268,-29.3391, -29.1759,-29.1376,-29.1414,-29.1401, -29.1353,-29.131,-29.1225,-29.1074, -29.0967,-29.0954,-29.0971,-29.584, -30.0745,-30.5656,-30.8939,-31.2229, -31.5537,-31.8802,-32.2043,-32.5253, -32.8448,-33.1623,-33.477,-33.7903, -34.0999,-34.4002,-34.7052,-35.0146, -35.3228,-35.6199,-36.0686,-36.3654, -36.6581,-36.9492,-37.239,-37.5255, -37.953,-38.3765,-38.6566,-38.9338, -39.3442,-39.6213,-40.162,-40.5643, -41.093,-41.6159,-42.1326,-42.6417, -43.1453,-43.5199,-43.6448,-43.7504)
FOOTPRINT_POINT_LONGITUDE = (91.8984,92.5027,92.9617,93.4196, 93.8761,94.3316,94.9289,94.9573,94.9877 ,95.0189,95.0495,95.0794,95.1087, 95.1369,95.1655,95.1866,95.2133,95.2401 ,95.2532,95.2738,95.2887,95.2991, 95.3079,95.3201,95.3321,95.3437,95.3607 ,95.3726,95.3838,95.395,95.4062,95.4169 ,95.4276,95.4381,95.4504,95.4598, 95.4698,95.4785,95.4879,95.5023,95.5115 ,95.5206,95.5302,95.538,95.5459,95.5535 ,95.563,95.573,95.5766,95.5775,94.9128, 94.1747,93.6113,93.2586,92.8344,92.2676 ,91.8424,91.8068,91.795,91.8117,91.8283 ,91.8434,91.8528,91.8616,91.8711, 91.8791,91.8864,91.893,91.8998,91.9061, 91.9117,91.9171,91.9213,91.9212,91.9247 ,91.931,91.9373,91.9381,91.943,91.9457, 91.947,91.9477,91.9485,91.9484,91.9481, 91.9469,91.9456,91.9435,91.9386,91.9381 ,91.9314,91.926,91.9167,91.9065,91.8952 ,91.8818,91.8674,91.8563,91.853, 91.8984)
ORBIT_NUMBER = 2543
ORBITAL_ECCENTRICITY = 0.572
ORBITAL_INCLINATION = 86.62
ORBITAL_SEMIMAJOR_AXIS = 8527.75
PERIAPSIS_ALTITUDE = 277.58
PERIAPSIS_ARGUMENT_ANGLE = 271.41
PERIAPSIS_TIME = 2006-01-04T18:09:12.000Z
SPACECRAFT_ORIENTATION = (0.0,-1.0,0.0)
^MEX_ORIENTATION_DESC = "MEX_ORIENTATION_DESC.TXT"
SPACECRAFT_POINTING_MODE = ACROSSTRACK
^MEX_POINTING_DESC = "MEX_POINTING_DESC.TXT"
RIGHT_ASCENSION = -1e+32
DECLINATION = -1e+32
OFFSET_ANGLE = 0.4
SPACECRAFT_SOLAR_DISTANCE = 2.29799e+08
TARGET_NAME = MARS
/* CAMERA DATA ELEMENTS */
DETECTOR_TEMPERATURE = 18.7783
FOCAL_PLANE_TEMPERATURE = 8.5833
INST_CMPRS_NAME = "DISCRETE COSINE TRANSFORMATION (DCT)"
INST_CMPRS_RATIO = 14.7279
INST_CMPRS_QUALITY = 0
INST_CMPRS_QUANTZ_TBL_ID = 0
INSTRUMENT_TEMPERATURE = 12.8652
LENS_TEMPERATURE = 8.9911
MACROPIXEL_SIZE = 4
MISSING_FRAMES = 0
PIXEL_SUBSAMPLING_FLAG = N
SIGNAL_CHAIN_ID = 2
/* RADIOMETRIC DATA ELEMENTS */
BANDWIDTH = 81.0
CENTER_FILTER_WAVELENGTH = 955.5
RADIANCE_OFFSET = 0.855089
RADIANCE_SCALING_FACTOR = 0.00415619
REFLECTANCE_SCALING_FACTOR = 0.000473506
MEX:REFLECTANCE_OFFSET = 0.0974184
/* IMAGE OBJECT DEFINITIONS */
OBJECT = IMAGE
  INTERCHANGE_FORMAT = BINARY
  LINES = 10567
  LINE_SAMPLES = 2222
  SAMPLE_TYPE = UNSIGNED_INTEGER
  SAMPLE_BITS = 8
  BANDS = 1
  BAND_STORAGE_TYPE = BAND_SEQUENTIAL
  MAXIMUM = 255
  MEAN = 129.405
  MINIMUM = 1
  STANDARD_DEVIATION = 45.2441
END_OBJECT = IMAGE
/* MAP OBJECT DEFINITIONS */
OBJECT = IMAGE_MAP_PROJECTION
  ^DATA_SET_MAP_PROJECTION_CATALOG= "DSMAP.CAT"
  A_AXIS_RADIUS = 3396.0
  B_AXIS_RADIUS = 3396.0
  C_AXIS_RADIUS = 3396.0
  CENTER_LATITUDE = 0.0
  CENTER_LONGITUDE = 94.0
  COORDINATE_SYSTEM_NAME = PLANETOGRAPHIC
  COORDINATE_SYSTEM_TYPE = "BODY-FIXED ROTATING"
  EASTERNMOST_LONGITUDE = 95.5775
  FIRST_STANDARD_PARALLEL = "N/A"
  LINE_FIRST_PIXEL = 1
  LINE_LAST_PIXEL = 10567
  LINE_PROJECTION_OFFSET = -17234.875
  MAP_PROJECTION_ROTATION = 0.0
  MAP_PROJECTION_TYPE = SINUSOIDAL
  MAP_RESOLUTION = 592.713803866667
  MAP_SCALE = 0.1
  MAXIMUM_LATITUDE = -29.0954
  MINIMUM_LATITUDE = -43.8699
  POSITIVE_LONGITUDE_DIRECTION = EAST
  REFERENCE_LATITUDE = "N/A"
  REFERENCE_LONGITUDE = "N/A"
  SAMPLE_FIRST_PIXEL = 1
  SAMPLE_LAST_PIXEL = 2222
  SAMPLE_PROJECTION_OFFSET = 1281.125
  SECOND_STANDARD_PARALLEL = "N/A"
  WESTERNMOST_LONGITUDE = 91.795
END_OBJECT = IMAGE_MAP_PROJECTION
END
