PDS_VERSION_ID = PDS3
/* FILE DATA ELEMENTS */
RECORD_TYPE = UNDEFINED
/* POINTERS TO DATA OBJECTS */
^IMAGE = ("H2541_0000_S24.TIF")
/* IDENTIFICATION DATA ELEMENTS */
DATA_SET_ID = "MEX-M-HRSC-4-REFDR-MAPPROJECT-EXT1-V4.0"
DATA_SET_NAME = "MARS EXPRESS HRSC MAP PROJECTED REFDR EXTENSION1 V4.0"
DETECTOR_ID = MEX_HRSC_S2
EVENT_TYPE = "MARS-REGIONAL-MAPPING-Te-Im-Fl"
INSTRUMENT_HOST_ID = MEX
INSTRUMENT_HOST_NAME = "MARS EXPRESS"
INSTRUMENT_ID = HRSC
INSTRUMENT_NAME = "HIGH RESOLUTION STEREO CAMERA"
MISSION_NAME = "MARS EXPRESS"
MISSION_PHASE_NAME = ME_Phase_1
PROCESSING_LEVEL_ID = 4
PRODUCT_CREATION_TIME = 2023-02-08T07:05:14.000Z
PRODUCT_ID = "H2541_0000_S24.TIF"
RELEASE_ID = 0001
REVISION_ID = 0000
/* QUALITY DATA ELEMENTS */
DATA_QUALITY_ID = 1
DATA_QUALITY_DESC = "Data calculated based on original SPICE kernels"
/* TIME DATA ELEMENTS */
SPACECRAFT_CLOCK_START_COUNT = "1/0084430059.56496"
SPACECRAFT_CLOCK_STOP_COUNT = "1/0084430629.29409"
START_TIME = 2006-01-04T04:48:53.795Z
STOP_TIME = 2006-01-04T04:57:13.344Z
/* ORBITAL DATA ELEMENTS */
ASCENDING_NODE_LONGITUDE = 174.95
MAXIMUM_RESOLUTION = 0.0331
FOOTPRINT_POINT_LATITUDE = (-66.7451,-66.8113,-66.9014,-66.9026, -66.9996,-66.2027,-65.4103,-64.6012, -63.7774,-62.94,-62.5149,-62.091, -61.6607,-61.2235,-60.5605,-60.1138, -59.6585,-59.1994,-58.7389,-58.2725, -57.7971,-57.0721,-56.342,-55.8484, -55.0946,-54.592,-54.0766,-53.5639, -53.0331,-52.5036,-51.9628,-51.4177, -50.8654,-50.302,-49.7272,-49.1458, -48.5615,-47.9678,-47.3752,-46.7597, -46.1437,-45.5194,-44.8822,-44.2423, -43.5917,-42.9277,-41.9134,-41.5721, -41.5384,-41.5378,-41.536,-41.533, -41.5236,-41.5118,-41.5113,-41.5118, -42.5197,-43.1815,-43.8347,-44.4755, -45.1072,-45.7317,-46.3523,-46.9596, -47.5619,-48.155,-48.7408,-49.3184, -49.8885,-50.451,-51.0034,-51.8262, -52.6366,-53.1652,-53.6895,-54.2034, -54.7128,-55.2168,-55.715,-56.2066, -56.6938,-57.1794,-57.6569,-58.1274, -58.594,-59.0527,-59.7343,-60.4015, -61.0616,-61.7112,-62.1395,-62.5615, -62.9914,-63.6071,-64.4269,-65.2329, -66.0229,-66.6162,-66.8147,-66.7451)
FOOTPRINT_POINT_LONGITUDE = (285.765,287.012,289.036,289.069, 289.127,289.359,289.573,289.777,289.969 ,290.153,290.243,290.332,290.419, 290.502,290.624,290.703,290.78,290.854, 290.928,291.002,291.072,291.172,291.273 ,291.339,291.435,291.501,291.562, 291.626,291.685,291.745,291.803,291.86, 291.917,291.971,292.023,292.074,292.127 ,292.178,292.233,292.28,292.331,292.381 ,292.428,292.478,292.527,292.574, 292.644,292.667,292.67,291.719,291.127, 290.218,289.587,288.637,288.598,288.584 ,288.589,288.588,288.584,288.579, 288.572,288.562,288.547,288.532,288.513 ,288.492,288.469,288.444,288.416, 288.387,288.356,288.302,288.241,288.2, 288.155,288.11,288.062,288.011,287.958, 287.904,287.845,287.781,287.717,287.653 ,287.585,287.515,287.405,287.292,287.17 ,287.042,286.953,286.863,286.758, 286.616,286.402,286.174,285.93,285.736, 285.668,285.765)
ORBIT_NUMBER = 2541
ORBITAL_ECCENTRICITY = 0.571
ORBITAL_INCLINATION = 86.61
ORBITAL_SEMIMAJOR_AXIS = 8528.37
PERIAPSIS_ALTITUDE = 278.45
PERIAPSIS_ARGUMENT_ANGLE = 271.77
PERIAPSIS_TIME = 2006-01-04T04:42:59.000Z
SPACECRAFT_ORIENTATION = (0.0,-1.0,0.0)
^MEX_ORIENTATION_DESC = "MEX_ORIENTATION_DESC.TXT"
SPACECRAFT_POINTING_MODE = NADIR
^MEX_POINTING_DESC = "MEX_POINTING_DESC.TXT"
RIGHT_ASCENSION = -1e+32
DECLINATION = -1e+32
OFFSET_ANGLE = -1e+32
SPACECRAFT_SOLAR_DISTANCE = 2.29692e+08
TARGET_NAME = MARS
/* CAMERA DATA ELEMENTS */
DETECTOR_TEMPERATURE = 18.5744
FOCAL_PLANE_TEMPERATURE = 9.6028
INST_CMPRS_NAME = "DISCRETE COSINE TRANSFORMATION (DCT)"
INST_CMPRS_RATIO = 12.4696
INST_CMPRS_QUALITY = 0
INST_CMPRS_QUANTZ_TBL_ID = 0
INSTRUMENT_TEMPERATURE = 11.4379
LENS_TEMPERATURE = 9.6028
MACROPIXEL_SIZE = 2
MISSING_FRAMES = 0
PIXEL_SUBSAMPLING_FLAG = N
SIGNAL_CHAIN_ID = 1
/* RADIOMETRIC DATA ELEMENTS */
BANDWIDTH = 178.0
CENTER_FILTER_WAVELENGTH = 679.0
RADIANCE_OFFSET = 2.11544
RADIANCE_SCALING_FACTOR = 0.0138796
REFLECTANCE_SCALING_FACTOR = 0.000387791
MEX:REFLECTANCE_OFFSET = 0.0591048
/* IMAGE OBJECT DEFINITIONS */
OBJECT = IMAGE
  INTERCHANGE_FORMAT = BINARY
  LINES = 60377
  LINE_SAMPLES = 8047
  SAMPLE_TYPE = UNSIGNED_INTEGER
  SAMPLE_BITS = 8
  BANDS = 1
  BAND_STORAGE_TYPE = BAND_SEQUENTIAL
  MAXIMUM = 255
  MEAN = 142.022
  MINIMUM = 1
  STANDARD_DEVIATION = 34.0729
END_OBJECT = IMAGE
/* MAP OBJECT DEFINITIONS */
OBJECT = IMAGE_MAP_PROJECTION
  ^DATA_SET_MAP_PROJECTION_CATALOG= "DSMAP.CAT"
  A_AXIS_RADIUS = 3396.0
  B_AXIS_RADIUS = 3396.0
  C_AXIS_RADIUS = 3396.0
  CENTER_LATITUDE = 0.0
  CENTER_LONGITUDE = 290.0
  COORDINATE_SYSTEM_NAME = PLANETOGRAPHIC
  COORDINATE_SYSTEM_TYPE = "BODY-FIXED ROTATING"
  EASTERNMOST_LONGITUDE = 292.67
  FIRST_STANDARD_PARALLEL = "N/A"
  LINE_FIRST_PIXEL = 1
  LINE_LAST_PIXEL = 60377
  LINE_PROJECTION_OFFSET = -98509.75
  MAP_PROJECTION_ROTATION = 0.0
  MAP_PROJECTION_TYPE = SINUSOIDAL
  MAP_RESOLUTION = 2370.85521546667
  MAP_SCALE = 0.025
  MAXIMUM_LATITUDE = -41.5113
  MINIMUM_LATITUDE = -66.9996
  POSITIVE_LONGITUDE_DIRECTION = EAST
  REFERENCE_LATITUDE = "N/A"
  REFERENCE_LONGITUDE = "N/A"
  SAMPLE_FIRST_PIXEL = 1
  SAMPLE_LAST_PIXEL = 8047
  SAMPLE_PROJECTION_OFFSET = 3962.25
  SECOND_STANDARD_PARALLEL = "N/A"
  WESTERNMOST_LONGITUDE = 285.668
END_OBJECT = IMAGE_MAP_PROJECTION
END
