PDS_VERSION_ID = PDS3
/* FILE DATA ELEMENTS */
RECORD_TYPE = UNDEFINED
/* POINTERS TO DATA OBJECTS */
^IMAGE = ("H2541_0000_P24.TIF")
/* IDENTIFICATION DATA ELEMENTS */
DATA_SET_ID = "MEX-M-HRSC-4-REFDR-MAPPROJECT-EXT1-V4.0"
DATA_SET_NAME = "MARS EXPRESS HRSC MAP PROJECTED REFDR EXTENSION1 V4.0"
DETECTOR_ID = MEX_HRSC_P2
EVENT_TYPE = "MARS-REGIONAL-MAPPING-Te-Im-Fl"
INSTRUMENT_HOST_ID = MEX
INSTRUMENT_HOST_NAME = "MARS EXPRESS"
INSTRUMENT_ID = HRSC
INSTRUMENT_NAME = "HIGH RESOLUTION STEREO CAMERA"
MISSION_NAME = "MARS EXPRESS"
MISSION_PHASE_NAME = ME_Phase_1
PROCESSING_LEVEL_ID = 4
PRODUCT_CREATION_TIME = 2023-02-08T07:05:14.000Z
PRODUCT_ID = "H2541_0000_P24.TIF"
RELEASE_ID = 0001
REVISION_ID = 0000
/* QUALITY DATA ELEMENTS */
DATA_QUALITY_ID = 1
DATA_QUALITY_DESC = "Data calculated based on original SPICE kernels"
/* TIME DATA ELEMENTS */
SPACECRAFT_CLOCK_START_COUNT = "1/0084430059.56496"
SPACECRAFT_CLOCK_STOP_COUNT = "1/0084430629.29409"
START_TIME = 2006-01-04T04:48:40.913Z
STOP_TIME = 2006-01-04T04:56:33.956Z
/* ORBITAL DATA ELEMENTS */
ASCENDING_NODE_LONGITUDE = 174.95
MAXIMUM_RESOLUTION = 0.0313
FOOTPRINT_POINT_LATITUDE = (-66.7785,-66.9329,-66.9341,-66.9991, -66.1895,-65.3839,-64.582,-64.1719, -63.7627,-63.347,-62.9297,-62.5073, -62.0846,-61.6555,-61.0027,-60.5625, -60.1152,-59.6651,-59.2075,-58.7467, -58.2835,-57.8125,-57.0934,-56.3647, -55.8721,-55.3732,-54.8694,-54.1044, -53.5907,-53.0623,-52.5322,-51.9914, -51.4461,-50.8929,-50.331,-49.7588, -48.8851,-47.9998,-47.4036,-46.7891, -46.1712,-45.5443,-44.9061,-44.2615, -43.6067,-42.94,-41.9191,-41.5747, -41.5632,-41.5612,-41.5549,-41.548, -41.5391,-41.5263,-41.5255,-41.526, -42.5438,-43.2102,-43.8674,-44.5125, -45.1479,-45.7765,-46.3979,-47.0083, -47.6105,-48.2052,-48.7915,-49.3693, -49.9395,-50.5023,-51.0568,-51.8769, -52.6832,-53.2102,-53.7339,-54.247, -54.7553,-55.257,-55.7538,-56.2434, -56.7281,-57.4488,-57.9201,-58.3863, -58.8471,-59.3025,-59.7547,-60.1975, -60.8585,-61.2937,-61.9379,-62.5702, -63.4016,-64.0153,-64.4238,-65.2223, -66.0248,-66.6278,-66.8294,-66.7785)
FOOTPRINT_POINT_LONGITUDE = (285.786,288.977,289.009,289.074, 289.308,289.524,289.723,289.82,289.913, 290.006,290.094,290.183,290.27,290.356, 290.478,290.557,290.635,290.71,290.783, 290.855,290.927,290.996,291.094,291.192 ,291.255,291.318,291.38,291.472,291.534 ,291.59,291.648,291.703,291.759,291.813 ,291.865,291.914,291.986,292.06,292.111 ,292.155,292.202,292.248,292.293, 292.338,292.382,292.425,292.486,292.507 ,292.508,291.546,290.623,290.032, 289.478,288.738,288.701,288.688,288.687 ,288.683,288.676,288.669,288.659, 288.646,288.628,288.61,288.589,288.566, 288.54,288.512,288.483,288.451,288.417, 288.362,288.299,288.256,288.208,288.162 ,288.113,288.062,288.008,287.951, 287.892,287.796,287.73,287.663,287.594, 287.521,287.446,287.372,287.251,287.167 ,287.036,286.901,286.706,286.55,286.44, 286.213,285.965,285.766,285.697, 285.786)
ORBIT_NUMBER = 2541
ORBITAL_ECCENTRICITY = 0.571
ORBITAL_INCLINATION = 86.61
ORBITAL_SEMIMAJOR_AXIS = 8528.37
PERIAPSIS_ALTITUDE = 278.45
PERIAPSIS_ARGUMENT_ANGLE = 271.77
PERIAPSIS_TIME = 2006-01-04T04:42:59.000Z
SPACECRAFT_ORIENTATION = (0.0,-1.0,0.0)
^MEX_ORIENTATION_DESC = "MEX_ORIENTATION_DESC.TXT"
SPACECRAFT_POINTING_MODE = NADIR
^MEX_POINTING_DESC = "MEX_POINTING_DESC.TXT"
RIGHT_ASCENSION = -1e+32
DECLINATION = -1e+32
OFFSET_ANGLE = -1e+32
SPACECRAFT_SOLAR_DISTANCE = 2.29692e+08
TARGET_NAME = MARS
/* CAMERA DATA ELEMENTS */
DETECTOR_TEMPERATURE = 18.5744
FOCAL_PLANE_TEMPERATURE = 9.6028
INST_CMPRS_NAME = "DISCRETE COSINE TRANSFORMATION (DCT)"
INST_CMPRS_RATIO = 8.60436
INST_CMPRS_QUALITY = 0
INST_CMPRS_QUANTZ_TBL_ID = 0
INSTRUMENT_TEMPERATURE = 11.4379
LENS_TEMPERATURE = 9.6028
MACROPIXEL_SIZE = 2
MISSING_FRAMES = 0
PIXEL_SUBSAMPLING_FLAG = N
SIGNAL_CHAIN_ID = 3
/* RADIOMETRIC DATA ELEMENTS */
BANDWIDTH = 177.0
CENTER_FILTER_WAVELENGTH = 676.5
RADIANCE_OFFSET = 2.01266
RADIANCE_SCALING_FACTOR = 0.0130231
REFLECTANCE_SCALING_FACTOR = 0.000364303
MEX:REFLECTANCE_OFFSET = 0.0563014
/* IMAGE OBJECT DEFINITIONS */
OBJECT = IMAGE
  INTERCHANGE_FORMAT = BINARY
  LINES = 60377
  LINE_SAMPLES = 8047
  SAMPLE_TYPE = UNSIGNED_INTEGER
  SAMPLE_BITS = 8
  BANDS = 1
  BAND_STORAGE_TYPE = BAND_SEQUENTIAL
  MAXIMUM = 255
  MEAN = 136.262
  MINIMUM = 1
  STANDARD_DEVIATION = 33.0466
END_OBJECT = IMAGE
/* MAP OBJECT DEFINITIONS */
OBJECT = IMAGE_MAP_PROJECTION
  ^DATA_SET_MAP_PROJECTION_CATALOG= "DSMAP.CAT"
  A_AXIS_RADIUS = 3396.0
  B_AXIS_RADIUS = 3396.0
  C_AXIS_RADIUS = 3396.0
  CENTER_LATITUDE = 0.0
  CENTER_LONGITUDE = 290.0
  COORDINATE_SYSTEM_NAME = PLANETOGRAPHIC
  COORDINATE_SYSTEM_TYPE = "BODY-FIXED ROTATING"
  EASTERNMOST_LONGITUDE = 292.508
  FIRST_STANDARD_PARALLEL = "N/A"
  LINE_FIRST_PIXEL = 1
  LINE_LAST_PIXEL = 60377
  LINE_PROJECTION_OFFSET = -98509.75
  MAP_PROJECTION_ROTATION = 0.0
  MAP_PROJECTION_TYPE = SINUSOIDAL
  MAP_RESOLUTION = 2370.85521546667
  MAP_SCALE = 0.025
  MAXIMUM_LATITUDE = -41.5255
  MINIMUM_LATITUDE = -66.9991
  POSITIVE_LONGITUDE_DIRECTION = EAST
  REFERENCE_LATITUDE = "N/A"
  REFERENCE_LONGITUDE = "N/A"
  SAMPLE_FIRST_PIXEL = 1
  SAMPLE_LAST_PIXEL = 8047
  SAMPLE_PROJECTION_OFFSET = 3962.25
  SECOND_STANDARD_PARALLEL = "N/A"
  WESTERNMOST_LONGITUDE = 285.697
END_OBJECT = IMAGE_MAP_PROJECTION
END
