PDS_VERSION_ID = PDS3
/* FILE DATA ELEMENTS */
RECORD_TYPE = UNDEFINED
/* POINTERS TO DATA OBJECTS */
^IMAGE = ("H2539_0000_BL4.TIF")
/* IDENTIFICATION DATA ELEMENTS */
DATA_SET_ID = "MEX-M-HRSC-4-REFDR-MAPPROJECT-EXT1-V4.0"
DATA_SET_NAME = "MARS EXPRESS HRSC MAP PROJECTED REFDR EXTENSION1 V4.0"
DETECTOR_ID = MEX_HRSC_BLUE
EVENT_TYPE = "MARS-REGIONAL-MAPPING-Vo-Im-Fl"
INSTRUMENT_HOST_ID = MEX
INSTRUMENT_HOST_NAME = "MARS EXPRESS"
INSTRUMENT_ID = HRSC
INSTRUMENT_NAME = "HIGH RESOLUTION STEREO CAMERA"
MISSION_NAME = "MARS EXPRESS"
MISSION_PHASE_NAME = ME_Phase_1
PROCESSING_LEVEL_ID = 4
PRODUCT_CREATION_TIME = 2023-02-08T07:05:14.000Z
PRODUCT_ID = "H2539_0000_BL4.TIF"
RELEASE_ID = 0001
REVISION_ID = 0000
/* QUALITY DATA ELEMENTS */
DATA_QUALITY_ID = 1
DATA_QUALITY_DESC = "Data calculated based on original SPICE kernels"
/* TIME DATA ELEMENTS */
SPACECRAFT_CLOCK_START_COUNT = "1/0084382079.56205"
SPACECRAFT_CLOCK_STOP_COUNT = "1/0084382751.14957"
START_TIME = 2006-01-03T15:29:33.020Z
STOP_TIME = 2006-01-03T15:35:48.221Z
/* ORBITAL DATA ELEMENTS */
ASCENDING_NODE_LONGITUDE = 174.99
MAXIMUM_RESOLUTION = 0.1209
FOOTPRINT_POINT_LATITUDE = (-41.2136,-41.2253,-41.2439,-41.2525, -41.2578,-41.2621,-41.2621,-41.2685, -40.8949,-40.5178,-39.9534,-39.5791, -39.2068,-38.8359,-38.4668,-38.0993, -37.7331,-37.3687,-37.0058,-36.6446, -36.285,-35.9269,-35.5702,-35.2153, -34.8615,-34.5107,-33.9852,-33.6377, -33.2914,-32.9467,-32.6041,-32.2629, -31.9232,-31.5856,-31.2494,-30.9146, -30.5815,-30.2496,-29.5904,-28.9377, -28.2904,-27.6509,-26.8569,-26.2302, -25.6091,-24.9927,-24.3829,-24.2314, -24.126,-24.1398,-24.159,-24.178, -24.1913,-24.211,-24.2223,-24.2306, -24.2378,-24.2384,-24.2399,-24.9893, -25.5944,-26.207,-26.8256,-27.4504, -28.0806,-28.7182,-29.3619,-30.0114, -30.6672,-30.9974,-31.3288,-31.664, -31.9997,-32.3345,-32.6729,-33.013, -33.3546,-33.6978,-34.0426,-34.3891, -34.7365,-35.086,-35.4379,-35.7917, -36.1467,-36.5032,-36.8612,-37.2209, -37.5823,-37.9453,-38.31,-38.6762, -39.0443,-39.4138,-39.7852,-40.1584, -40.5331,-40.907,-41.0933,-41.2136)
FOOTPRINT_POINT_LONGITUDE = (125.374,125.826,126.729,127.309, 127.825,128.794,128.826,128.851,128.87, 128.889,128.917,128.935,128.953,128.971 ,128.988,129.005,129.021,129.037, 129.052,129.067,129.082,129.096,129.11, 129.123,129.135,129.15,129.167,129.179, 129.191,129.202,129.214,129.225,129.236 ,129.248,129.26,129.27,129.281,129.291, 129.31,129.33,129.347,129.367,129.385, 129.402,129.418,129.432,129.446,129.45, 129.452,129.058,128.485,127.825,127.297 ,126.461,125.887,125.358,124.783, 124.739,124.724,124.778,124.822,124.862 ,124.902,124.939,124.977,125.012, 125.045,125.078,125.11,125.125,125.141, 125.152,125.165,125.182,125.195,125.208 ,125.22,125.232,125.243,125.254,125.266 ,125.276,125.285,125.292,125.3,125.308, 125.315,125.322,125.328,125.333,125.338 ,125.343,125.347,125.35,125.352,125.354 ,125.355,125.356,125.356,125.374)
ORBIT_NUMBER = 2539
ORBITAL_ECCENTRICITY = 0.572
ORBITAL_INCLINATION = 86.62
ORBITAL_SEMIMAJOR_AXIS = 8528.24
PERIAPSIS_ALTITUDE = 277.59
PERIAPSIS_ARGUMENT_ANGLE = 272.1
PERIAPSIS_TIME = 2006-01-03T15:16:45.000Z
SPACECRAFT_ORIENTATION = (0.0,-1.0,0.0)
^MEX_ORIENTATION_DESC = "MEX_ORIENTATION_DESC.TXT"
SPACECRAFT_POINTING_MODE = NADIR
^MEX_POINTING_DESC = "MEX_POINTING_DESC.TXT"
RIGHT_ASCENSION = -1e+32
DECLINATION = -1e+32
OFFSET_ANGLE = -1e+32
SPACECRAFT_SOLAR_DISTANCE = 2.29584e+08
TARGET_NAME = MARS
/* CAMERA DATA ELEMENTS */
DETECTOR_TEMPERATURE = 18.7783
FOCAL_PLANE_TEMPERATURE = 8.5833
INST_CMPRS_NAME = "DISCRETE COSINE TRANSFORMATION (DCT)"
INST_CMPRS_RATIO = 13.967
INST_CMPRS_QUALITY = 0
INST_CMPRS_QUANTZ_TBL_ID = 0
INSTRUMENT_TEMPERATURE = 11.4379
LENS_TEMPERATURE = 9.195
MACROPIXEL_SIZE = 4
MISSING_FRAMES = 0
PIXEL_SUBSAMPLING_FLAG = N
SIGNAL_CHAIN_ID = 2
/* RADIOMETRIC DATA ELEMENTS */
BANDWIDTH = 76.0
CENTER_FILTER_WAVELENGTH = 444.0
RADIANCE_OFFSET = 0.598644
RADIANCE_SCALING_FACTOR = 0.00196131
REFLECTANCE_SCALING_FACTOR = 0.000106216
MEX:REFLECTANCE_OFFSET = 0.0324199
/* IMAGE OBJECT DEFINITIONS */
OBJECT = IMAGE
  INTERCHANGE_FORMAT = BINARY
  LINES = 10150
  LINE_SAMPLES = 2483
  SAMPLE_TYPE = UNSIGNED_INTEGER
  SAMPLE_BITS = 8
  BANDS = 1
  BAND_STORAGE_TYPE = BAND_SEQUENTIAL
  MAXIMUM = 255
  MEAN = 159.625
  MINIMUM = 1
  STANDARD_DEVIATION = 29.0096
END_OBJECT = IMAGE
/* MAP OBJECT DEFINITIONS */
OBJECT = IMAGE_MAP_PROJECTION
  ^DATA_SET_MAP_PROJECTION_CATALOG= "DSMAP.CAT"
  A_AXIS_RADIUS = 3396.0
  B_AXIS_RADIUS = 3396.0
  C_AXIS_RADIUS = 3396.0
  CENTER_LATITUDE = 0.0
  CENTER_LONGITUDE = 127.0
  COORDINATE_SYSTEM_NAME = PLANETOGRAPHIC
  COORDINATE_SYSTEM_TYPE = "BODY-FIXED ROTATING"
  EASTERNMOST_LONGITUDE = 129.452
  FIRST_STANDARD_PARALLEL = "N/A"
  LINE_FIRST_PIXEL = 1
  LINE_LAST_PIXEL = 10150
  LINE_PROJECTION_OFFSET = -14320.125
  MAP_PROJECTION_ROTATION = 0.0
  MAP_PROJECTION_TYPE = SINUSOIDAL
  MAP_RESOLUTION = 592.713803866667
  MAP_SCALE = 0.1
  MAXIMUM_LATITUDE = -24.126
  MINIMUM_LATITUDE = -41.2685
  POSITIVE_LONGITUDE_DIRECTION = EAST
  REFERENCE_LATITUDE = "N/A"
  REFERENCE_LONGITUDE = "N/A"
  SAMPLE_FIRST_PIXEL = 1
  SAMPLE_LAST_PIXEL = 2483
  SAMPLE_PROJECTION_OFFSET = 1185.625
  SECOND_STANDARD_PARALLEL = "N/A"
  WESTERNMOST_LONGITUDE = 124.724
END_OBJECT = IMAGE_MAP_PROJECTION
END
