PDS_VERSION_ID = PDS3
/* FILE DATA ELEMENTS */
RECORD_TYPE = UNDEFINED
/* POINTERS TO DATA OBJECTS */
^IMAGE = ("H2538_0000_BL4.TIF")
/* IDENTIFICATION DATA ELEMENTS */
DATA_SET_ID = "MEX-M-HRSC-4-REFDR-MAPPROJECT-EXT1-V4.0"
DATA_SET_NAME = "MARS EXPRESS HRSC MAP PROJECTED REFDR EXTENSION1 V4.0"
DETECTOR_ID = MEX_HRSC_BLUE
EVENT_TYPE = "MARS-REGIONAL-MAPPING-Vo-Im-Fl"
INSTRUMENT_HOST_ID = MEX
INSTRUMENT_HOST_NAME = "MARS EXPRESS"
INSTRUMENT_ID = HRSC
INSTRUMENT_NAME = "HIGH RESOLUTION STEREO CAMERA"
MISSION_NAME = "MARS EXPRESS"
MISSION_PHASE_NAME = ME_Phase_1
PROCESSING_LEVEL_ID = 4
PRODUCT_CREATION_TIME = 2023-02-08T07:05:14.000Z
PRODUCT_ID = "H2538_0000_BL4.TIF"
RELEASE_ID = 0001
REVISION_ID = 0000
/* QUALITY DATA ELEMENTS */
DATA_QUALITY_ID = 1
DATA_QUALITY_DESC = "Data calculated based on original SPICE kernels"
/* TIME DATA ELEMENTS */
SPACECRAFT_CLOCK_START_COUNT = "1/0084357891.56181"
SPACECRAFT_CLOCK_STOP_COUNT = "1/0084358415.38484"
START_TIME = 2006-01-03T08:46:24.732Z
STOP_TIME = 2006-01-03T08:50:56.908Z
/* ORBITAL DATA ELEMENTS */
ASCENDING_NODE_LONGITUDE = 175.01
MAXIMUM_RESOLUTION = 0.1206
FOOTPRINT_POINT_LATITUDE = (-41.0805,-41.0921,-41.1026,-41.1108, -41.1186,-41.1238,-41.127,-41.1278, -41.1279,-41.134,-40.8001,-40.3498, -40.0098,-39.5527,-38.9733,-38.6221, -38.1493,-37.6716,-37.1881,-36.7, -36.2056,-35.7062,-35.2009,-34.6898, -34.4326,-34.1737,-33.9133,-33.6514, -33.3878,-33.1226,-32.856,-32.5871, -32.3177,-32.0465,-31.7737,-31.4992, -31.2231,-30.9452,-30.6658,-30.3848, -30.1048,-29.8258,-29.5479,-29.2711, -28.9954,-28.7208,-28.4473,-28.311, -28.2967,-28.306,-28.3164,-28.3231, -28.3299,-28.3352,-28.3399,-28.344, -28.3502,-28.3531,-28.3542,-28.3545, -28.3545,-28.3565,-28.6264,-28.8974, -29.1695,-29.4428,-29.7172,-29.9928, -30.2693,-30.5471,-30.9629,-31.2379, -31.5112,-31.7836,-32.054,-32.3231, -32.5903,-32.8562,-33.1205,-33.3835, -33.6447,-33.9045,-34.1624,-34.6739, -35.1812,-35.6823,-36.0564,-36.6701, -37.155,-37.6346,-38.1091,-38.5785, -38.9277,-39.2739,-39.6175,-40.0722, -40.5217,-40.9658,-41.0761,-41.0805)
FOOTPRINT_POINT_LONGITUDE = (223.662,224.112,224.593,225.042, 225.588,226.101,226.648,227.066,227.098 ,227.122,227.139,227.161,227.178, 227.202,227.229,227.245,227.266,227.287 ,227.308,227.328,227.348,227.367, 227.386,227.405,227.415,227.424,227.434 ,227.443,227.452,227.461,227.471, 227.478,227.488,227.497,227.506,227.515 ,227.523,227.532,227.541,227.549, 227.558,227.566,227.574,227.582,227.59, 227.598,227.605,227.609,227.61,227.249, 226.805,226.482,226.12,225.798,225.475, 225.153,224.508,223.983,223.66,223.336, 223.295,223.282,223.297,223.312,223.326 ,223.34,223.354,223.368,223.381,223.395 ,223.414,223.426,223.439,223.45,223.46, 223.471,223.482,223.492,223.501,223.511 ,223.52,223.528,223.537,223.554,223.568 ,223.581,223.587,223.6,223.61,223.619, 223.626,223.633,223.636,223.639,223.642 ,223.644,223.645,223.646,223.646, 223.662)
ORBIT_NUMBER = 2538
ORBITAL_ECCENTRICITY = 0.572
ORBITAL_INCLINATION = 86.63
ORBITAL_SEMIMAJOR_AXIS = 8527.26
PERIAPSIS_ALTITUDE = 276.74
PERIAPSIS_ARGUMENT_ANGLE = 272.28
PERIAPSIS_TIME = 2006-01-03T08:33:38.000Z
SPACECRAFT_ORIENTATION = (0.0,-1.0,0.0)
^MEX_ORIENTATION_DESC = "MEX_ORIENTATION_DESC.TXT"
SPACECRAFT_POINTING_MODE = NADIR
^MEX_POINTING_DESC = "MEX_POINTING_DESC.TXT"
RIGHT_ASCENSION = -1e+32
DECLINATION = -1e+32
OFFSET_ANGLE = -1e+32
SPACECRAFT_SOLAR_DISTANCE = 2.2953e+08
TARGET_NAME = MARS
/* CAMERA DATA ELEMENTS */
DETECTOR_TEMPERATURE = 17.1471
FOCAL_PLANE_TEMPERATURE = 8.1755
INST_CMPRS_NAME = "DISCRETE COSINE TRANSFORMATION (DCT)"
INST_CMPRS_RATIO = 12.4562
INST_CMPRS_QUALITY = 0
INST_CMPRS_QUANTZ_TBL_ID = 0
INSTRUMENT_TEMPERATURE = 11.0301
LENS_TEMPERATURE = 8.7872
MACROPIXEL_SIZE = 4
MISSING_FRAMES = 0
PIXEL_SUBSAMPLING_FLAG = N
SIGNAL_CHAIN_ID = 2
/* RADIOMETRIC DATA ELEMENTS */
BANDWIDTH = 76.0
CENTER_FILTER_WAVELENGTH = 444.0
RADIANCE_OFFSET = 0.702577
RADIANCE_SCALING_FACTOR = 0.00148197
REFLECTANCE_SCALING_FACTOR = 8.02189e-05
MEX:REFLECTANCE_OFFSET = 0.0380305
/* IMAGE OBJECT DEFINITIONS */
OBJECT = IMAGE
  INTERCHANGE_FORMAT = BINARY
  LINES = 7593
  LINE_SAMPLES = 2200
  SAMPLE_TYPE = UNSIGNED_INTEGER
  SAMPLE_BITS = 8
  BANDS = 1
  BAND_STORAGE_TYPE = BAND_SEQUENTIAL
  MAXIMUM = 255
  MEAN = 151.487
  MINIMUM = 1
  STANDARD_DEVIATION = 22.7747
END_OBJECT = IMAGE
/* MAP OBJECT DEFINITIONS */
OBJECT = IMAGE_MAP_PROJECTION
  ^DATA_SET_MAP_PROJECTION_CATALOG= "DSMAP.CAT"
  A_AXIS_RADIUS = 3396.0
  B_AXIS_RADIUS = 3396.0
  C_AXIS_RADIUS = 3396.0
  CENTER_LATITUDE = 0.0
  CENTER_LONGITUDE = 225.0
  COORDINATE_SYSTEM_NAME = PLANETOGRAPHIC
  COORDINATE_SYSTEM_TYPE = "BODY-FIXED ROTATING"
  EASTERNMOST_LONGITUDE = 227.61
  FIRST_STANDARD_PARALLEL = "N/A"
  LINE_FIRST_PIXEL = 1
  LINE_LAST_PIXEL = 7593
  LINE_PROJECTION_OFFSET = -16798.375
  MAP_PROJECTION_ROTATION = 0.0
  MAP_PROJECTION_TYPE = SINUSOIDAL
  MAP_RESOLUTION = 592.713803866667
  MAP_SCALE = 0.1
  MAXIMUM_LATITUDE = -28.2967
  MINIMUM_LATITUDE = -41.134
  POSITIVE_LONGITUDE_DIRECTION = EAST
  REFERENCE_LATITUDE = "N/A"
  REFERENCE_LONGITUDE = "N/A"
  SAMPLE_FIRST_PIXEL = 1
  SAMPLE_LAST_PIXEL = 2200
  SAMPLE_PROJECTION_OFFSET = 860.125
  SECOND_STANDARD_PARALLEL = "N/A"
  WESTERNMOST_LONGITUDE = 223.282
END_OBJECT = IMAGE_MAP_PROJECTION
END
