PDS_VERSION_ID = PDS3
/* FILE DATA ELEMENTS */
RECORD_TYPE = UNDEFINED
/* POINTERS TO DATA OBJECTS */
^IMAGE = ("H2533_0007_SR4.TIF")
/* IDENTIFICATION DATA ELEMENTS */
DATA_SET_ID = "MEX-M-HRSC-4-REFDR-MAPPROJECT-EXT1-V4.0"
DATA_SET_NAME = "MARS EXPRESS HRSC MAP PROJECTED REFDR EXTENSION1 V4.0"
DETECTOR_ID = MEX_HRSC_SRC
EVENT_TYPE = "MARS-TERMINATOR-VARIABLE-At"
INSTRUMENT_HOST_ID = MEX
INSTRUMENT_HOST_NAME = "MARS EXPRESS"
INSTRUMENT_ID = HRSC
INSTRUMENT_NAME = "HIGH RESOLUTION STEREO CAMERA"
MISSION_NAME = "MARS EXPRESS"
MISSION_PHASE_NAME = ME_Phase_1
PROCESSING_LEVEL_ID = 4
PRODUCT_CREATION_TIME = 2023-02-08T07:05:14.000Z
PRODUCT_ID = "H2533_0007_SR4.TIF"
RELEASE_ID = 0001
REVISION_ID = 0000
/* QUALITY DATA ELEMENTS */
DATA_QUALITY_ID = 1
DATA_QUALITY_DESC = "Data calculated based on original SPICE kernels"
/* TIME DATA ELEMENTS */
SPACECRAFT_CLOCK_START_COUNT = "1/0084240625.57300"
SPACECRAFT_CLOCK_STOP_COUNT = "1/0084241980.17147"
IMAGE_TIME = 2006-01-02T00:13:13.285Z
START_TIME = 2006-01-02T00:13:13.281Z
STOP_TIME = 2006-01-02T00:13:13.288Z
/* ORBITAL DATA ELEMENTS */
ASCENDING_NODE_LONGITUDE = 175.11
MAXIMUM_RESOLUTION = 0.055056
FOOTPRINT_POINT_LATITUDE = (43.1697,43.0963,43.009,42.9508,42.8927 ,42.8344,42.7482,42.7191,42.69,42.6609, 42.6317,42.6026,42.5735,42.5443,42.5152 ,42.4861,42.4569,42.4179,42.3887, 42.3596,42.3304,42.3013,42.2548,42.2539 ,42.2541,42.2627,42.2733,42.2819, 42.2904,42.2989,42.3073,42.3158,42.3263 ,42.3347,42.3431,42.3514,42.3597,42.368 ,42.3763,42.3846,42.3928,42.401,42.4092 ,42.4234,42.4315,42.4396,42.4476, 42.4617,42.4637,42.4649,42.5161,42.5454 ,42.5746,42.6039,42.6331,42.6624, 42.6916,42.7209,42.7501,42.8065,42.8358 ,42.865,42.8942,42.9234,42.9526,42.9818 ,43.0111,43.085,43.1496,43.208,43.2664, 43.3247,43.3831,43.384,43.3838,43.3736, 43.3654,43.3572,43.349,43.3346,43.3263, 43.318,43.3097,43.3013,43.2929,43.2782, 43.2698,43.2613,43.2528,43.2443,43.2358 ,43.2272,43.2186,43.21,43.2014,43.1928, 43.1841,43.1732,43.1711,43.1697)
FOOTPRINT_POINT_LONGITUDE = (347.25,347.226,347.197,347.178,347.159 ,347.14,347.112,347.103,347.093,347.084 ,347.075,347.065,347.056,347.046, 347.037,347.028,347.018,347.006,346.996 ,346.987,346.978,346.968,346.953, 346.953,346.952,346.903,346.841,346.792 ,346.743,346.694,346.645,346.596, 346.534,346.485,346.436,346.387,346.338 ,346.288,346.239,346.19,346.14,346.091, 346.042,345.955,345.906,345.857,345.807 ,345.721,345.708,345.701,345.716, 345.725,345.734,345.743,345.752,345.761 ,345.769,345.778,345.787,345.804, 345.813,345.822,345.831,345.84,345.849, 345.858,345.866,345.889,345.909,345.927 ,345.945,345.963,345.981,345.981, 345.982,346.045,346.095,346.145,346.195 ,346.283,346.333,346.383,346.433, 346.483,346.533,346.62,346.67,346.72, 346.77,346.819,346.869,346.919,346.969, 347.019,347.069,347.118,347.168,347.23, 347.243,347.25)
ORBIT_NUMBER = 2533
ORBITAL_ECCENTRICITY = 0.572
ORBITAL_INCLINATION = 86.62
ORBITAL_SEMIMAJOR_AXIS = 8527.27
PERIAPSIS_ALTITUDE = 277.58
PERIAPSIS_ARGUMENT_ANGLE = 273.14
PERIAPSIS_TIME = 2006-01-01T22:58:17.000Z
SPACECRAFT_ORIENTATION = (0.0,-1.0,0.0)
^MEX_ORIENTATION_DESC = "MEX_ORIENTATION_DESC.TXT"
SPACECRAFT_POINTING_MODE = INERT
^MEX_POINTING_DESC = "MEX_POINTING_DESC.TXT"
RIGHT_ASCENSION = 321.956
DECLINATION = 49.174
OFFSET_ANGLE = -1e+32
SPACECRAFT_SOLAR_DISTANCE = 2.29259e+08
TARGET_NAME = MARS
/* CAMERA DATA ELEMENTS */
BUFFER_MODE_ID = DIRECT
EXPOSURE_DURATION = 7.056
INST_CMPRS_NAME = NONE
INST_CMPRS_RATIO = 1.0
INST_CMPRS_QUALITY = -2147483648
INST_CMPRS_QUANTZ_TBL_ID = -2147483648
INSTRUMENT_TEMPERATURE = 11.2121
MISSING_FRAMES = 0
START_BIT = 0
/* RADIOMETRIC DATA ELEMENTS */
BANDWIDTH = 250.0
CENTER_FILTER_WAVELENGTH = 600.0
RADIANCE_OFFSET = -9.99e+31
RADIANCE_SCALING_FACTOR = -9.99e+31
REFLECTANCE_SCALING_FACTOR = -9.99e+31
MEX:REFLECTANCE_OFFSET = -9.99e+31
/* IMAGE OBJECT DEFINITIONS */
OBJECT = IMAGE
  INTERCHANGE_FORMAT = BINARY
  LINES = 1718
  LINE_SAMPLES = 1721
  SAMPLE_TYPE = UNSIGNED_INTEGER
  SAMPLE_BITS = 8
  BANDS = 1
  BAND_STORAGE_TYPE = BAND_SEQUENTIAL
  MAXIMUM = 254
  MEAN = 239.285
  MINIMUM = 1
  STANDARD_DEVIATION = 5.37193
END_OBJECT = IMAGE
/* MAP OBJECT DEFINITIONS */
OBJECT = IMAGE_MAP_PROJECTION
  ^DATA_SET_MAP_PROJECTION_CATALOG= "DSMAP.CAT"
  A_AXIS_RADIUS = 3396.19
  B_AXIS_RADIUS = 3396.19
  C_AXIS_RADIUS = 3396.19
  CENTER_LATITUDE = 0.0
  CENTER_LONGITUDE = 346.0
  COORDINATE_SYSTEM_NAME = PLANETOGRAPHIC
  COORDINATE_SYSTEM_TYPE = "BODY-FIXED ROTATING"
  EASTERNMOST_LONGITUDE = 347.25
  FIRST_STANDARD_PARALLEL = "N/A"
  LINE_FIRST_PIXEL = 1
  LINE_LAST_PIXEL = 1718
  LINE_PROJECTION_OFFSET = 64231.0
  MAP_PROJECTION_ROTATION = 0.0
  MAP_PROJECTION_TYPE = SINUSOIDAL
  MAP_RESOLUTION = 1481.86741280472
  MAP_SCALE = 0.04
  MAXIMUM_LATITUDE = 43.384
  MINIMUM_LATITUDE = 42.2539
  POSITIVE_LONGITUDE_DIRECTION = EAST
  REFERENCE_LATITUDE = "N/A"
  REFERENCE_LONGITUDE = "N/A"
  SAMPLE_FIRST_PIXEL = 1
  SAMPLE_LAST_PIXEL = 1721
  SAMPLE_PROJECTION_OFFSET = 354.0
  SECOND_STANDARD_PARALLEL = "N/A"
  WESTERNMOST_LONGITUDE = 345.701
END_OBJECT = IMAGE_MAP_PROJECTION
END
