PDS_VERSION_ID = PDS3
/* FILE DATA ELEMENTS */
RECORD_TYPE = UNDEFINED
/* POINTERS TO DATA OBJECTS */
^IMAGE = ("H2530_0000_P14.TIF")
/* IDENTIFICATION DATA ELEMENTS */
DATA_SET_ID = "MEX-M-HRSC-4-REFDR-MAPPROJECT-EXT1-V4.0"
DATA_SET_NAME = "MARS EXPRESS HRSC MAP PROJECTED REFDR EXTENSION1 V4.0"
DETECTOR_ID = MEX_HRSC_P1
EVENT_TYPE = "MARS-REGIONAL-MAPPING-Gl-Pf-La"
INSTRUMENT_HOST_ID = MEX
INSTRUMENT_HOST_NAME = "MARS EXPRESS"
INSTRUMENT_ID = HRSC
INSTRUMENT_NAME = "HIGH RESOLUTION STEREO CAMERA"
MISSION_NAME = "MARS EXPRESS"
MISSION_PHASE_NAME = ME_Phase_1
PROCESSING_LEVEL_ID = 4
PRODUCT_CREATION_TIME = 2023-02-08T07:05:14.000Z
PRODUCT_ID = "H2530_0000_P14.TIF"
RELEASE_ID = 0001
REVISION_ID = 0000
/* QUALITY DATA ELEMENTS */
DATA_QUALITY_ID = 1
DATA_QUALITY_DESC = "Data calculated based on original SPICE kernels"
/* TIME DATA ELEMENTS */
SPACECRAFT_CLOCK_START_COUNT = "1/0084163823.56195"
SPACECRAFT_CLOCK_STOP_COUNT = "1/0084164078.37738"
START_TIME = 2006-01-01T02:50:38.084Z
STOP_TIME = 2006-01-01T02:53:46.572Z
/* ORBITAL DATA ELEMENTS */
ASCENDING_NODE_LONGITUDE = 175.17
MAXIMUM_RESOLUTION = 0.0461
FOOTPRINT_POINT_LATITUDE = (-78.5209,-78.6608,-78.7744,-78.7765, -78.7248,-78.3834,-78.0394,-77.8092, -77.5809,-77.3519,-77.1234,-76.8934, -76.4357,-76.2051,-75.9745,-75.7435, -75.3875,-75.1475,-74.9063,-74.668, -74.4266,-74.1848,-73.8259,-73.5856, -73.3469,-73.1011,-72.8513,-72.6012, -72.3525,-72.1026,-71.8542,-71.4806, -71.2315,-70.8436,-70.5849,-70.1978, -69.8111,-69.553,-69.1567,-68.8901, -68.6236,-68.3577,-67.9587,-67.6855, -67.4117,-67.1361,-66.8614,-66.4492, -66.3121,-66.2403,-66.2148,-66.1559, -66.1045,-66.103,-66.1033,-66.3766, -66.6497,-66.9228,-67.1963,-67.4697, -67.7426,-68.1399,-68.4047,-68.8018, -69.0669,-69.4588,-69.7145,-69.9712, -70.2289,-70.4791,-70.7341,-70.9903, -71.2421,-71.4871,-71.7343,-71.9821, -72.2282,-72.4754,-72.7221,-73.0898, -73.3277,-73.5656,-73.8064,-74.1663, -74.4042,-74.7604,-74.9965,-75.2329, -75.5823,-76.1476,-76.3762,-76.6021, -76.8291,-77.2786,-77.5036,-77.73, -77.9545,-78.2884,-78.3988,-78.5209)
FOOTPRINT_POINT_LONGITUDE = (278.022,280.306,282.484,282.527, 282.793,283.213,283.617,283.876,284.115 ,284.348,284.57,284.789,285.194,285.391 ,285.582,285.767,286.039,286.214, 286.388,286.547,286.71,286.868,287.086, 287.228,287.361,287.501,287.637,287.769 ,287.894,288.018,288.135,288.306, 288.417,288.588,288.696,288.85,288.998, 289.094,289.236,289.328,289.417,289.504 ,289.63,289.715,289.795,289.876,289.954 ,290.068,290.105,290.124,289.46,288.164 ,287.206,287.179,287.17,287.082,286.992 ,286.899,286.803,286.705,286.603, 286.451,286.345,286.181,286.067,285.893 ,285.774,285.653,285.528,285.396, 285.262,285.124,284.99,284.848,284.702, 284.553,284.398,284.239,284.075,283.821 ,283.649,283.473,283.292,283.008, 282.811,282.502,282.286,282.064,281.721 ,281.122,280.868,280.604,280.332, 279.754,279.45,279.134,278.805,278.286, 278.107,278.022)
ORBIT_NUMBER = 2530
ORBITAL_ECCENTRICITY = 0.572
ORBITAL_INCLINATION = 86.61
ORBITAL_SEMIMAJOR_AXIS = 8527.93
PERIAPSIS_ALTITUDE = 277.38
PERIAPSIS_ARGUMENT_ANGLE = 273.69
PERIAPSIS_TIME = 2006-01-01T02:49:06.000Z
SPACECRAFT_ORIENTATION = (0.0,-1.0,0.0)
^MEX_ORIENTATION_DESC = "MEX_ORIENTATION_DESC.TXT"
SPACECRAFT_POINTING_MODE = ACROSSTRACK
^MEX_POINTING_DESC = "MEX_POINTING_DESC.TXT"
RIGHT_ASCENSION = -1e+32
DECLINATION = -1e+32
OFFSET_ANGLE = -0.1
SPACECRAFT_SOLAR_DISTANCE = 2.29097e+08
TARGET_NAME = MARS
/* CAMERA DATA ELEMENTS */
DETECTOR_TEMPERATURE = 16.3315
FOCAL_PLANE_TEMPERATURE = 8.3794
INST_CMPRS_NAME = "DISCRETE COSINE TRANSFORMATION (DCT)"
INST_CMPRS_RATIO = 24.0486
INST_CMPRS_QUALITY = 0
INST_CMPRS_QUANTZ_TBL_ID = 0
INSTRUMENT_TEMPERATURE = 11.0301
LENS_TEMPERATURE = 8.9911
MACROPIXEL_SIZE = 4
MISSING_FRAMES = 0
PIXEL_SUBSAMPLING_FLAG = N
SIGNAL_CHAIN_ID = 3
/* RADIOMETRIC DATA ELEMENTS */
BANDWIDTH = 174.0
CENTER_FILTER_WAVELENGTH = 675.0
RADIANCE_OFFSET = 1.40569
RADIANCE_SCALING_FACTOR = 0.0107905
REFLECTANCE_SCALING_FACTOR = 0.000304625
MEX:REFLECTANCE_OFFSET = 0.039684
/* IMAGE OBJECT DEFINITIONS */
OBJECT = IMAGE
  INTERCHANGE_FORMAT = BINARY
  LINES = 14986
  LINE_SAMPLES = 3899
  SAMPLE_TYPE = UNSIGNED_INTEGER
  SAMPLE_BITS = 8
  BANDS = 1
  BAND_STORAGE_TYPE = BAND_SEQUENTIAL
  MAXIMUM = 255
  MEAN = 121.266
  MINIMUM = 1
  STANDARD_DEVIATION = 38.1536
END_OBJECT = IMAGE
/* MAP OBJECT DEFINITIONS */
OBJECT = IMAGE_MAP_PROJECTION
  ^DATA_SET_MAP_PROJECTION_CATALOG= "DSMAP.CAT"
  A_AXIS_RADIUS = 3396.0
  B_AXIS_RADIUS = 3396.0
  C_AXIS_RADIUS = 3396.0
  CENTER_LATITUDE = 0.0
  CENTER_LONGITUDE = 286.0
  COORDINATE_SYSTEM_NAME = PLANETOGRAPHIC
  COORDINATE_SYSTEM_TYPE = "BODY-FIXED ROTATING"
  EASTERNMOST_LONGITUDE = 290.124
  FIRST_STANDARD_PARALLEL = "N/A"
  LINE_FIRST_PIXEL = 1
  LINE_LAST_PIXEL = 14986
  LINE_PROJECTION_OFFSET = -78331.125
  MAP_PROJECTION_ROTATION = 0.0
  MAP_PROJECTION_TYPE = SINUSOIDAL
  MAP_RESOLUTION = 1185.42760773333
  MAP_SCALE = 0.05
  MAXIMUM_LATITUDE = -66.10299999999999
  MINIMUM_LATITUDE = -78.7765
  POSITIVE_LONGITUDE_DIRECTION = EAST
  REFERENCE_LATITUDE = "N/A"
  REFERENCE_LONGITUDE = "N/A"
  SAMPLE_FIRST_PIXEL = 1
  SAMPLE_LAST_PIXEL = 3899
  SAMPLE_PROJECTION_OFFSET = 1898.875
  SECOND_STANDARD_PARALLEL = "N/A"
  WESTERNMOST_LONGITUDE = 278.022
END_OBJECT = IMAGE_MAP_PROJECTION
END
