PDS_VERSION_ID = PDS3
/* FILE DATA ELEMENTS */
RECORD_TYPE = UNDEFINED
/* POINTERS TO DATA OBJECTS */
^IMAGE = ("H2530_0000_GR4.TIF")
/* IDENTIFICATION DATA ELEMENTS */
DATA_SET_ID = "MEX-M-HRSC-4-REFDR-MAPPROJECT-EXT1-V4.0"
DATA_SET_NAME = "MARS EXPRESS HRSC MAP PROJECTED REFDR EXTENSION1 V4.0"
DETECTOR_ID = MEX_HRSC_GREEN
EVENT_TYPE = "MARS-REGIONAL-MAPPING-Gl-Pf-La"
INSTRUMENT_HOST_ID = MEX
INSTRUMENT_HOST_NAME = "MARS EXPRESS"
INSTRUMENT_ID = HRSC
INSTRUMENT_NAME = "HIGH RESOLUTION STEREO CAMERA"
MISSION_NAME = "MARS EXPRESS"
MISSION_PHASE_NAME = ME_Phase_1
PROCESSING_LEVEL_ID = 4
PRODUCT_CREATION_TIME = 2023-02-08T07:05:14.000Z
PRODUCT_ID = "H2530_0000_GR4.TIF"
RELEASE_ID = 0001
REVISION_ID = 0000
/* QUALITY DATA ELEMENTS */
DATA_QUALITY_ID = 1
DATA_QUALITY_DESC = "Data calculated based on original SPICE kernels"
/* TIME DATA ELEMENTS */
SPACECRAFT_CLOCK_START_COUNT = "1/0084163823.56195"
SPACECRAFT_CLOCK_STOP_COUNT = "1/0084164078.37738"
START_TIME = 2006-01-01T02:50:50.155Z
STOP_TIME = 2006-01-01T02:54:01.916Z
/* ORBITAL DATA ELEMENTS */
ASCENDING_NODE_LONGITUDE = 175.17
MAXIMUM_RESOLUTION = 0.0453
FOOTPRINT_POINT_LATITUDE = (-78.4664,-78.5908,-78.7233,-78.7254, -78.7201,-78.3785,-78.0361,-77.5792, -77.1219,-76.6642,-76.434,-76.1959, -75.9578,-75.6005,-75.3562,-75.118, -74.8795,-74.6414,-74.4028,-74.1644, -73.7976,-73.5506,-73.1801,-72.9331, -72.5626,-72.3158,-72.069,-71.8139, -71.4309,-71.1755,-70.9202,-70.6652, -70.4103,-70.1485,-69.8853,-69.622, -69.3589,-69.0961,-68.8334,-68.4273, -68.1563,-67.8856,-67.6149,-67.3447, -66.9395,-66.6696,-66.4001,-66.2654, -66.2262,-66.1731,-66.1203,-66.0848, -66.0832,-66.0835,-66.3516,-66.6199, -66.8883,-67.157,-67.4258,-67.6949, -67.9641,-68.2335,-68.503,-68.7688, -69.03,-69.2913,-69.5525,-69.9449, -70.2065,-70.4577,-70.7104,-70.9637, -71.2183,-71.4705,-71.7238,-71.9739, -72.2182,-72.4629,-72.7074,-72.952, -73.1965,-73.441,-73.6859,-73.9299, -74.165,-74.4007,-74.6358,-74.8715, -75.1066,-75.3476,-75.5826,-75.9338, -76.1684,-76.3969,-76.735,-77.2964, -77.8571,-78.3031,-78.4143,-78.4664)
FOOTPRINT_POINT_LONGITUDE = (278.091,280.084,282.559,282.602, 282.809,283.228,283.632,284.127,284.583 ,285.004,285.208,285.412,285.609, 285.891,286.076,286.25,286.421,286.58, 286.742,286.897,287.119,287.264,287.474 ,287.609,287.806,287.93,288.053,288.173 ,288.348,288.463,288.575,288.683, 288.787,288.891,288.991,289.09,289.186, 289.279,289.369,289.504,289.591,289.676 ,289.76,289.839,289.957,290.033,290.106 ,290.143,290.153,288.884,287.819, 287.178,287.15,287.14,287.055,286.967, 286.876,286.783,286.686,286.587,286.486 ,286.381,286.272,286.162,286.051, 285.936,285.818,285.634,285.509,285.375 ,285.243,285.109,284.974,284.827, 284.679,284.529,284.375,284.219,284.056 ,283.889,283.716,283.538,283.355, 283.174,282.982,282.787,282.583,282.375 ,282.157,281.927,281.695,281.327, 281.074,280.819,280.422,279.707,278.926 ,278.24,278.06,278.091)
ORBIT_NUMBER = 2530
ORBITAL_ECCENTRICITY = 0.572
ORBITAL_INCLINATION = 86.61
ORBITAL_SEMIMAJOR_AXIS = 8527.93
PERIAPSIS_ALTITUDE = 277.38
PERIAPSIS_ARGUMENT_ANGLE = 273.69
PERIAPSIS_TIME = 2006-01-01T02:49:06.000Z
SPACECRAFT_ORIENTATION = (0.0,-1.0,0.0)
^MEX_ORIENTATION_DESC = "MEX_ORIENTATION_DESC.TXT"
SPACECRAFT_POINTING_MODE = ACROSSTRACK
^MEX_POINTING_DESC = "MEX_POINTING_DESC.TXT"
RIGHT_ASCENSION = -1e+32
DECLINATION = -1e+32
OFFSET_ANGLE = -0.1
SPACECRAFT_SOLAR_DISTANCE = 2.29097e+08
TARGET_NAME = MARS
/* CAMERA DATA ELEMENTS */
DETECTOR_TEMPERATURE = 18.1666
FOCAL_PLANE_TEMPERATURE = 8.3794
INST_CMPRS_NAME = "DISCRETE COSINE TRANSFORMATION (DCT)"
INST_CMPRS_RATIO = 19.1229
INST_CMPRS_QUALITY = 0
INST_CMPRS_QUANTZ_TBL_ID = 0
INSTRUMENT_TEMPERATURE = 11.0301
LENS_TEMPERATURE = 8.9911
MACROPIXEL_SIZE = 4
MISSING_FRAMES = 1
PIXEL_SUBSAMPLING_FLAG = N
SIGNAL_CHAIN_ID = 2
/* RADIOMETRIC DATA ELEMENTS */
BANDWIDTH = 88.0
CENTER_FILTER_WAVELENGTH = 538.0
RADIANCE_OFFSET = 0.550758
RADIANCE_SCALING_FACTOR = 0.00323975
REFLECTANCE_SCALING_FACTOR = 0.0001464
MEX:REFLECTANCE_OFFSET = 0.024888
/* IMAGE OBJECT DEFINITIONS */
OBJECT = IMAGE
  INTERCHANGE_FORMAT = BINARY
  LINES = 14986
  LINE_SAMPLES = 3899
  SAMPLE_TYPE = UNSIGNED_INTEGER
  SAMPLE_BITS = 8
  BANDS = 1
  BAND_STORAGE_TYPE = BAND_SEQUENTIAL
  MAXIMUM = 255
  MEAN = 132.879
  MINIMUM = 1
  STANDARD_DEVIATION = 40.8333
END_OBJECT = IMAGE
/* MAP OBJECT DEFINITIONS */
OBJECT = IMAGE_MAP_PROJECTION
  ^DATA_SET_MAP_PROJECTION_CATALOG= "DSMAP.CAT"
  A_AXIS_RADIUS = 3396.0
  B_AXIS_RADIUS = 3396.0
  C_AXIS_RADIUS = 3396.0
  CENTER_LATITUDE = 0.0
  CENTER_LONGITUDE = 286.0
  COORDINATE_SYSTEM_NAME = PLANETOGRAPHIC
  COORDINATE_SYSTEM_TYPE = "BODY-FIXED ROTATING"
  EASTERNMOST_LONGITUDE = 290.153
  FIRST_STANDARD_PARALLEL = "N/A"
  LINE_FIRST_PIXEL = 1
  LINE_LAST_PIXEL = 14986
  LINE_PROJECTION_OFFSET = -78331.125
  MAP_PROJECTION_ROTATION = 0.0
  MAP_PROJECTION_TYPE = SINUSOIDAL
  MAP_RESOLUTION = 1185.42760773333
  MAP_SCALE = 0.05
  MAXIMUM_LATITUDE = -66.08320000000001
  MINIMUM_LATITUDE = -78.72539999999999
  POSITIVE_LONGITUDE_DIRECTION = EAST
  REFERENCE_LATITUDE = "N/A"
  REFERENCE_LONGITUDE = "N/A"
  SAMPLE_FIRST_PIXEL = 1
  SAMPLE_LAST_PIXEL = 3899
  SAMPLE_PROJECTION_OFFSET = 1898.875
  SECOND_STANDARD_PARALLEL = "N/A"
  WESTERNMOST_LONGITUDE = 278.06
END_OBJECT = IMAGE_MAP_PROJECTION
END
