PDS_VERSION_ID = PDS3
/* FILE DATA ELEMENTS */
RECORD_TYPE = UNDEFINED
/* POINTERS TO DATA OBJECTS */
^IMAGE = ("H2529_0000_S24.TIF")
/* IDENTIFICATION DATA ELEMENTS */
DATA_SET_ID = "MEX-M-HRSC-4-REFDR-MAPPROJECT-EXT1-V4.0"
DATA_SET_NAME = "MARS EXPRESS HRSC MAP PROJECTED REFDR EXTENSION1 V4.0"
DETECTOR_ID = MEX_HRSC_S2
EVENT_TYPE = "MARS-REGIONAL-MAPPING-Te-Im-Eo"
INSTRUMENT_HOST_ID = MEX
INSTRUMENT_HOST_NAME = "MARS EXPRESS"
INSTRUMENT_ID = HRSC
INSTRUMENT_NAME = "HIGH RESOLUTION STEREO CAMERA"
MISSION_NAME = "MARS EXPRESS"
MISSION_PHASE_NAME = ME_Phase_1
PROCESSING_LEVEL_ID = 4
PRODUCT_CREATION_TIME = 2023-02-08T07:05:14.000Z
PRODUCT_ID = "H2529_0000_S24.TIF"
RELEASE_ID = 0001
REVISION_ID = 0000
/* QUALITY DATA ELEMENTS */
DATA_QUALITY_ID = 1
DATA_QUALITY_DESC = "Data calculated based on original SPICE kernels"
/* TIME DATA ELEMENTS */
SPACECRAFT_CLOCK_START_COUNT = "1/0084139958.57161"
SPACECRAFT_CLOCK_STOP_COUNT = "1/0084140466.48551"
START_TIME = 2005-12-31T20:14:13.943Z
STOP_TIME = 2005-12-31T20:21:11.653Z
/* ORBITAL DATA ELEMENTS */
ASCENDING_NODE_LONGITUDE = 175.19
MAXIMUM_RESOLUTION = 0.0416
FOOTPRINT_POINT_LATITUDE = (-56.6884,-56.727,-56.7631,-56.8012, -56.802,-56.8793,-56.2366,-55.5823, -54.7517,-54.2518,-53.7327,-53.222, -52.6984,-52.3473,-51.9856,-51.6297, -51.2677,-50.9093,-50.5425,-49.9791, -49.6038,-49.2258,-48.8417,-48.2694, -47.8788,-47.485,-46.8787,-46.4753, -46.0679,-45.658,-45.2427,-44.8214, -44.3966,-43.9775,-43.5419,-43.1062, -42.6672,-41.9985,-41.5504,-41.0971, -40.4063,-39.9435,-39.4704,-38.9954, -38.5175,-37.7872,-37.3011,-37.0593, -36.9918,-36.9941,-36.9988,-36.9997, -36.9994,-36.9955,-36.9953,-36.9961, -37.474,-37.9546,-38.4349,-38.9112, -39.3815,-39.8486,-40.307,-40.7649, -41.2213,-41.6666,-42.3321,-42.7732, -43.2089,-43.6399,-44.067,-44.7085, -45.1254,-45.5383,-46.1434,-46.5531, -46.9485,-47.3499,-47.7453,-48.1311, -48.5161,-48.8979,-49.277,-49.6528, -50.0262,-50.3949,-50.7609,-51.1241, -51.4842,-52.019,-52.375,-52.8884, -53.2344,-53.9168,-54.4241,-55.0911, -55.9111,-56.5549,-56.7138,-56.6884)
FOOTPRINT_POINT_LONGITUDE = (27.2732,28.156,29.101,30.2884,30.3183, 30.3695,30.4528,30.533,30.6306,30.6915, 30.7448,30.8043,30.8593,30.8967,30.9292 ,30.9658,31.001,31.0388,31.0734,31.1216 ,31.1552,31.1887,31.2209,31.2734, 31.3057,31.3378,31.3816,31.413,31.4439, 31.4752,31.5054,31.5345,31.564,31.5977, 31.6254,31.6546,31.6844,31.7277,31.7577 ,31.7873,31.8308,31.861,31.8889,31.918, 31.9477,31.9905,32.0187,32.0324,32.0374 ,31.5525,30.6244,30.0209,29.1355, 27.9277,27.8874,27.8729,27.8865,27.8998 ,27.9114,27.9215,27.9311,27.9385, 27.9466,27.9519,27.9548,27.9592,27.9615 ,27.9605,27.9588,27.9564,27.9531,27.942 ,27.9361,27.9289,27.9195,27.9072, 27.8987,27.8847,27.8709,27.8591,27.8451 ,27.8299,27.8137,27.7966,27.7781,27.759 ,27.7389,27.718,27.6965,27.6617,27.6354 ,27.6029,27.5759,27.5203,27.4746, 27.4108,27.3253,27.2528,27.2341, 27.2732)
ORBIT_NUMBER = 2529
ORBITAL_ECCENTRICITY = 0.572
ORBITAL_INCLINATION = 86.61
ORBITAL_SEMIMAJOR_AXIS = 8528.24
PERIAPSIS_ALTITUDE = 277.43
PERIAPSIS_ARGUMENT_ANGLE = 273.84
PERIAPSIS_TIME = 2005-12-31T20:05:58.000Z
SPACECRAFT_ORIENTATION = (0.0,-1.0,0.0)
^MEX_ORIENTATION_DESC = "MEX_ORIENTATION_DESC.TXT"
SPACECRAFT_POINTING_MODE = ACROSSTRACK
^MEX_POINTING_DESC = "MEX_POINTING_DESC.TXT"
RIGHT_ASCENSION = -1e+32
DECLINATION = -1e+32
OFFSET_ANGLE = -0.12
SPACECRAFT_SOLAR_DISTANCE = 2.29043e+08
TARGET_NAME = MARS
/* CAMERA DATA ELEMENTS */
DETECTOR_TEMPERATURE = 18.7783
FOCAL_PLANE_TEMPERATURE = 9.195
INST_CMPRS_NAME = "DISCRETE COSINE TRANSFORMATION (DCT)"
INST_CMPRS_RATIO = 10.7346
INST_CMPRS_QUALITY = 0
INST_CMPRS_QUANTZ_TBL_ID = 0
INSTRUMENT_TEMPERATURE = 11.8457
LENS_TEMPERATURE = 9.3989
MACROPIXEL_SIZE = 2
MISSING_FRAMES = 0
PIXEL_SUBSAMPLING_FLAG = N
SIGNAL_CHAIN_ID = 1
/* RADIOMETRIC DATA ELEMENTS */
BANDWIDTH = 178.0
CENTER_FILTER_WAVELENGTH = 679.0
RADIANCE_OFFSET = 2.49366
RADIANCE_SCALING_FACTOR = 0.0211583
REFLECTANCE_SCALING_FACTOR = 0.000587823
MEX:REFLECTANCE_OFFSET = 0.0692791
/* IMAGE OBJECT DEFINITIONS */
OBJECT = IMAGE
  INTERCHANGE_FORMAT = BINARY
  LINES = 47116
  LINE_SAMPLES = 6575
  SAMPLE_TYPE = UNSIGNED_INTEGER
  SAMPLE_BITS = 8
  BANDS = 1
  BAND_STORAGE_TYPE = BAND_SEQUENTIAL
  MAXIMUM = 255
  MEAN = 134.267
  MINIMUM = 1
  STANDARD_DEVIATION = 37.7187
END_OBJECT = IMAGE
/* MAP OBJECT DEFINITIONS */
OBJECT = IMAGE_MAP_PROJECTION
  ^DATA_SET_MAP_PROJECTION_CATALOG= "DSMAP.CAT"
  A_AXIS_RADIUS = 3396.0
  B_AXIS_RADIUS = 3396.0
  C_AXIS_RADIUS = 3396.0
  CENTER_LATITUDE = 0.0
  CENTER_LONGITUDE = 30.0
  COORDINATE_SYSTEM_NAME = PLANETOGRAPHIC
  COORDINATE_SYSTEM_TYPE = "BODY-FIXED ROTATING"
  EASTERNMOST_LONGITUDE = 32.0374
  FIRST_STANDARD_PARALLEL = "N/A"
  LINE_FIRST_PIXEL = 1
  LINE_LAST_PIXEL = 47116
  LINE_PROJECTION_OFFSET = -87794.25
  MAP_PROJECTION_ROTATION = 0.0
  MAP_PROJECTION_TYPE = SINUSOIDAL
  MAP_RESOLUTION = 2370.85521546667
  MAP_SCALE = 0.025
  MAXIMUM_LATITUDE = -36.9918
  MINIMUM_LATITUDE = -56.8793
  POSITIVE_LONGITUDE_DIRECTION = EAST
  REFERENCE_LATITUDE = "N/A"
  REFERENCE_LONGITUDE = "N/A"
  SAMPLE_FIRST_PIXEL = 1
  SAMPLE_LAST_PIXEL = 6575
  SAMPLE_PROJECTION_OFFSET = 3477.25
  SECOND_STANDARD_PARALLEL = "N/A"
  WESTERNMOST_LONGITUDE = 27.2341
END_OBJECT = IMAGE_MAP_PROJECTION
END
