PDS_VERSION_ID = PDS3
/* FILE DATA ELEMENTS */
RECORD_TYPE = UNDEFINED
/* POINTERS TO DATA OBJECTS */
^IMAGE = ("H2526_0001_RE4.TIF")
/* IDENTIFICATION DATA ELEMENTS */
DATA_SET_ID = "MEX-M-HRSC-4-REFDR-MAPPROJECT-EXT1-V4.0"
DATA_SET_NAME = "MARS EXPRESS HRSC MAP PROJECTED REFDR EXTENSION1 V4.0"
DETECTOR_ID = MEX_HRSC_RED
EVENT_TYPE = "MARS-REGIONAL-MAPPING-Im-Fl"
INSTRUMENT_HOST_ID = MEX
INSTRUMENT_HOST_NAME = "MARS EXPRESS"
INSTRUMENT_ID = HRSC
INSTRUMENT_NAME = "HIGH RESOLUTION STEREO CAMERA"
MISSION_NAME = "MARS EXPRESS"
MISSION_PHASE_NAME = ME_Phase_1
PROCESSING_LEVEL_ID = 4
PRODUCT_CREATION_TIME = 2023-02-08T07:05:14.000Z
PRODUCT_ID = "H2526_0001_RE4.TIF"
RELEASE_ID = 0001
REVISION_ID = 0000
/* QUALITY DATA ELEMENTS */
DATA_QUALITY_ID = 1
DATA_QUALITY_DESC = "Data calculated based on original SPICE kernels"
/* TIME DATA ELEMENTS */
SPACECRAFT_CLOCK_START_COUNT = "1/0084067564.57956"
SPACECRAFT_CLOCK_STOP_COUNT = "1/0084068041.15699"
START_TIME = 2005-12-31T00:08:05.955Z
STOP_TIME = 2005-12-31T00:13:35.630Z
/* ORBITAL DATA ELEMENTS */
ASCENDING_NODE_LONGITUDE = 175.26
MAXIMUM_RESOLUTION = 0.1113
FOOTPRINT_POINT_LATITUDE = (-46.1117,-46.1279,-46.1453,-46.1564, -46.1698,-46.1765,-46.1769,-46.2435, -45.5858,-45.0569,-44.5195,-44.2395, -43.692,-43.1452,-42.7231,-42.2993, -42.0164,-41.7302,-41.4407,-41.1417, -40.8482,-40.5497,-40.2587,-39.9592, -39.6581,-39.2029,-38.8993,-38.5939, -38.2845,-37.9726,-37.6613,-37.202, -36.8968,-36.4376,-35.9825,-35.6769, -35.3787,-35.0806,-34.7884,-34.4908, -34.199,-33.9089,-33.6205,-33.3333, -33.0477,-32.7635,-32.4816,-31.9277, -31.7881,-31.6796,-31.6863,-31.6911, -31.701,-31.7149,-31.7228,-31.7249, -31.731,-31.7312,-31.7313,-31.7328, -32.2839,-32.6995,-33.2579,-33.5408, -33.8258,-34.1116,-34.3985,-34.6864, -34.9836,-35.433,-35.732,-36.0268, -36.4656,-36.9236,-37.2277,-37.5337, -37.8426,-38.309,-38.6164,-38.9217, -39.378,-39.824,-40.122,-40.4132, -40.6997,-40.9937,-41.2947,-41.5739, -41.8612,-42.2907,-42.5736,-42.9931, -43.5491,-43.8313,-44.2305,-44.7705, -45.3015,-45.9555,-46.085,-46.1117)
FOOTPRINT_POINT_LONGITUDE = (322.702,323.285,324.02,324.573,325.402 ,325.957,325.988,326.032,326.078, 326.116,326.154,326.167,326.204,326.243 ,326.269,326.296,326.315,326.333,326.35 ,326.364,326.381,326.396,326.416, 326.433,326.45,326.475,326.493,326.511, 326.528,326.545,326.561,326.588,326.605 ,326.628,326.651,326.663,326.679, 326.693,326.71,326.722,326.737,326.752, 326.766,326.78,326.794,326.808,326.822, 326.852,326.859,326.863,326.247,325.877 ,325.182,324.609,324.24,323.707,322.969 ,322.518,322.477,322.464,322.49,322.511 ,322.537,322.549,322.561,322.573, 322.585,322.596,322.604,322.616,322.624 ,322.634,322.652,322.662,322.669, 322.676,322.682,322.69,322.695,322.7, 322.705,322.712,322.714,322.719,322.724 ,322.724,322.72,322.724,322.724,322.721 ,322.719,322.717,322.71,322.702,322.701 ,322.691,322.681,322.666,322.663, 322.702)
ORBIT_NUMBER = 2526
ORBITAL_ECCENTRICITY = 0.572
ORBITAL_INCLINATION = 86.63
ORBITAL_SEMIMAJOR_AXIS = 8527.05
PERIAPSIS_ALTITUDE = 277.26
PERIAPSIS_ARGUMENT_ANGLE = 274.39
PERIAPSIS_TIME = 2005-12-30T23:56:48.000Z
SPACECRAFT_ORIENTATION = (0.0,-1.0,0.0)
^MEX_ORIENTATION_DESC = "MEX_ORIENTATION_DESC.TXT"
SPACECRAFT_POINTING_MODE = ACROSSTRACK
^MEX_POINTING_DESC = "MEX_POINTING_DESC.TXT"
RIGHT_ASCENSION = -1e+32
DECLINATION = -1e+32
OFFSET_ANGLE = -0.07
SPACECRAFT_SOLAR_DISTANCE = 2.2888e+08
TARGET_NAME = MARS
/* CAMERA DATA ELEMENTS */
DETECTOR_TEMPERATURE = 20.6134
FOCAL_PLANE_TEMPERATURE = 9.195
INST_CMPRS_NAME = "DISCRETE COSINE TRANSFORMATION (DCT)"
INST_CMPRS_RATIO = 15.595
INST_CMPRS_QUALITY = 0
INST_CMPRS_QUANTZ_TBL_ID = 0
INSTRUMENT_TEMPERATURE = 13.4769
LENS_TEMPERATURE = 8.7872
MACROPIXEL_SIZE = 4
MISSING_FRAMES = 0
PIXEL_SUBSAMPLING_FLAG = N
SIGNAL_CHAIN_ID = 2
/* RADIOMETRIC DATA ELEMENTS */
BANDWIDTH = 48.0
CENTER_FILTER_WAVELENGTH = 748.0
RADIANCE_OFFSET = 0.903989
RADIANCE_SCALING_FACTOR = 0.00408218
REFLECTANCE_SCALING_FACTOR = 0.000488021
MEX:REFLECTANCE_OFFSET = 0.108071
/* IMAGE OBJECT DEFINITIONS */
OBJECT = IMAGE
  INTERCHANGE_FORMAT = BINARY
  LINES = 8621
  LINE_SAMPLES = 1891
  SAMPLE_TYPE = UNSIGNED_INTEGER
  SAMPLE_BITS = 8
  BANDS = 1
  BAND_STORAGE_TYPE = BAND_SEQUENTIAL
  MAXIMUM = 255
  MEAN = 118.16
  MINIMUM = 1
  STANDARD_DEVIATION = 22.6069
END_OBJECT = IMAGE
/* MAP OBJECT DEFINITIONS */
OBJECT = IMAGE_MAP_PROJECTION
  ^DATA_SET_MAP_PROJECTION_CATALOG= "DSMAP.CAT"
  A_AXIS_RADIUS = 3396.0
  B_AXIS_RADIUS = 3396.0
  C_AXIS_RADIUS = 3396.0
  CENTER_LATITUDE = 0.0
  CENTER_LONGITUDE = 325.0
  COORDINATE_SYSTEM_NAME = PLANETOGRAPHIC
  COORDINATE_SYSTEM_TYPE = "BODY-FIXED ROTATING"
  EASTERNMOST_LONGITUDE = 326.863
  FIRST_STANDARD_PARALLEL = "N/A"
  LINE_FIRST_PIXEL = 1
  LINE_LAST_PIXEL = 8621
  LINE_PROJECTION_OFFSET = -18800.125
  MAP_PROJECTION_ROTATION = 0.0
  MAP_PROJECTION_TYPE = SINUSOIDAL
  MAP_RESOLUTION = 592.713803866667
  MAP_SCALE = 0.1
  MAXIMUM_LATITUDE = -31.6796
  MINIMUM_LATITUDE = -46.2435
  POSITIVE_LONGITUDE_DIRECTION = EAST
  REFERENCE_LATITUDE = "N/A"
  REFERENCE_LONGITUDE = "N/A"
  SAMPLE_FIRST_PIXEL = 1
  SAMPLE_LAST_PIXEL = 1891
  SAMPLE_PROJECTION_OFFSET = 1135.625
  SECOND_STANDARD_PARALLEL = "N/A"
  WESTERNMOST_LONGITUDE = 322.464
END_OBJECT = IMAGE_MAP_PROJECTION
END
