PDS_VERSION_ID = PDS3
/* FILE DATA ELEMENTS */
RECORD_TYPE = UNDEFINED
/* POINTERS TO DATA OBJECTS */
^IMAGE = ("H2526_0001_IR4.TIF")
/* IDENTIFICATION DATA ELEMENTS */
DATA_SET_ID = "MEX-M-HRSC-4-REFDR-MAPPROJECT-EXT1-V4.0"
DATA_SET_NAME = "MARS EXPRESS HRSC MAP PROJECTED REFDR EXTENSION1 V4.0"
DETECTOR_ID = MEX_HRSC_IR
EVENT_TYPE = "MARS-REGIONAL-MAPPING-Im-Fl"
INSTRUMENT_HOST_ID = MEX
INSTRUMENT_HOST_NAME = "MARS EXPRESS"
INSTRUMENT_ID = HRSC
INSTRUMENT_NAME = "HIGH RESOLUTION STEREO CAMERA"
MISSION_NAME = "MARS EXPRESS"
MISSION_PHASE_NAME = ME_Phase_1
PROCESSING_LEVEL_ID = 4
PRODUCT_CREATION_TIME = 2023-02-08T07:05:14.000Z
PRODUCT_ID = "H2526_0001_IR4.TIF"
RELEASE_ID = 0001
REVISION_ID = 0000
/* QUALITY DATA ELEMENTS */
DATA_QUALITY_ID = 1
DATA_QUALITY_DESC = "Data calculated based on original SPICE kernels"
/* TIME DATA ELEMENTS */
SPACECRAFT_CLOCK_START_COUNT = "1/0084067564.57956"
SPACECRAFT_CLOCK_STOP_COUNT = "1/0084068041.15699"
START_TIME = 2005-12-31T00:06:20.461Z
STOP_TIME = 2005-12-31T00:10:24.569Z
/* ORBITAL DATA ELEMENTS */
ASCENDING_NODE_LONGITUDE = 175.26
MAXIMUM_RESOLUTION = 0.093
FOOTPRINT_POINT_LATITUDE = (-46.2567,-46.2717,-46.2861,-46.2985, -46.3152,-46.3226,-46.328,-46.3283, -46.2629,-45.6533,-45.1662,-44.7882, -44.2863,-43.7708,-43.2625,-42.7369, -42.4656,-42.1947,-41.7827,-41.5095, -41.2376,-40.9636,-40.6836,-40.4109, -39.9872,-39.7062,-39.4193,-39.1324, -38.6958,-38.2557,-37.8125,-37.5102, -37.2102,-36.9055,-36.4479,-35.9837, -35.6743,-35.3609,-35.0452,-34.7277, -34.4051,-34.0804,-33.754,-33.4251, -33.0926,-32.7577,-32.4213,-32.0811, -31.91,-31.7554,-31.763,-31.7653, -31.7662,-31.7596,-31.7531,-31.7485, -31.7374,-31.7367,-31.7384,-32.081, -32.4171,-32.9197,-33.2555,-33.5851, -33.9126,-34.2369,-34.5608,-34.8718, -35.1791,-35.4895,-35.9539,-36.2631, -36.5783,-36.8859,-37.1849,-37.4862, -37.7846,-38.076,-38.3724,-38.8034, -39.0929,-39.3773,-39.6615,-40.0846, -40.3668,-40.6439,-41.058,-41.4723, -41.7372,-42.0152,-42.2832,-42.8044, -43.3278,-43.8346,-44.3468,-44.7234, -45.3444,-45.9567,-46.0774,-46.2567)
FOOTPRINT_POINT_LONGITUDE = (322.955,323.338,323.747,324.157, 324.848,325.259,325.671,325.696,325.742 ,325.779,325.803,325.827,325.852, 325.882,325.902,325.929,325.946,325.96, 325.978,325.991,326.003,326.014,326.028 ,326.037,326.055,326.065,326.078, 326.088,326.106,326.122,326.138,326.15, 326.16,326.171,326.186,326.2,326.209, 326.218,326.227,326.235,326.245,326.254 ,326.263,326.271,326.28,326.289,326.297 ,326.305,326.309,326.313,325.689, 325.376,325.001,324.564,323.969,323.563 ,323.0,322.969,322.959,322.969,322.977, 322.99,322.999,323.007,323.014,323.021, 323.028,323.03,323.031,323.034,323.039, 323.043,323.05,323.054,323.056,323.058, 323.06,323.06,323.062,323.06,323.061, 323.059,323.058,323.057,323.056,323.054 ,323.05,323.048,323.042,323.037,323.034 ,323.022,323.012,322.997,322.986, 322.975,322.956,322.935,322.931, 322.955)
ORBIT_NUMBER = 2526
ORBITAL_ECCENTRICITY = 0.572
ORBITAL_INCLINATION = 86.63
ORBITAL_SEMIMAJOR_AXIS = 8527.05
PERIAPSIS_ALTITUDE = 277.26
PERIAPSIS_ARGUMENT_ANGLE = 274.39
PERIAPSIS_TIME = 2005-12-30T23:56:48.000Z
SPACECRAFT_ORIENTATION = (0.0,-1.0,0.0)
^MEX_ORIENTATION_DESC = "MEX_ORIENTATION_DESC.TXT"
SPACECRAFT_POINTING_MODE = ACROSSTRACK
^MEX_POINTING_DESC = "MEX_POINTING_DESC.TXT"
RIGHT_ASCENSION = -1e+32
DECLINATION = -1e+32
OFFSET_ANGLE = -0.07
SPACECRAFT_SOLAR_DISTANCE = 2.2888e+08
TARGET_NAME = MARS
/* CAMERA DATA ELEMENTS */
DETECTOR_TEMPERATURE = 19.39
FOCAL_PLANE_TEMPERATURE = 9.195
INST_CMPRS_NAME = "DISCRETE COSINE TRANSFORMATION (DCT)"
INST_CMPRS_RATIO = 14.9835
INST_CMPRS_QUALITY = 0
INST_CMPRS_QUANTZ_TBL_ID = 0
INSTRUMENT_TEMPERATURE = 13.4769
LENS_TEMPERATURE = 8.7872
MACROPIXEL_SIZE = 4
MISSING_FRAMES = 1
PIXEL_SUBSAMPLING_FLAG = N
SIGNAL_CHAIN_ID = 2
/* RADIOMETRIC DATA ELEMENTS */
BANDWIDTH = 81.0
CENTER_FILTER_WAVELENGTH = 955.5
RADIANCE_OFFSET = 0.719693
RADIANCE_SCALING_FACTOR = 0.00396116
REFLECTANCE_SCALING_FACTOR = 0.000447683
MEX:REFLECTANCE_OFFSET = 0.0813384
/* IMAGE OBJECT DEFINITIONS */
OBJECT = IMAGE
  INTERCHANGE_FORMAT = BINARY
  LINES = 8621
  LINE_SAMPLES = 1891
  SAMPLE_TYPE = UNSIGNED_INTEGER
  SAMPLE_BITS = 8
  BANDS = 1
  BAND_STORAGE_TYPE = BAND_SEQUENTIAL
  MAXIMUM = 255
  MEAN = 105.525
  MINIMUM = 1
  STANDARD_DEVIATION = 22.5283
END_OBJECT = IMAGE
/* MAP OBJECT DEFINITIONS */
OBJECT = IMAGE_MAP_PROJECTION
  ^DATA_SET_MAP_PROJECTION_CATALOG= "DSMAP.CAT"
  A_AXIS_RADIUS = 3396.0
  B_AXIS_RADIUS = 3396.0
  C_AXIS_RADIUS = 3396.0
  CENTER_LATITUDE = 0.0
  CENTER_LONGITUDE = 325.0
  COORDINATE_SYSTEM_NAME = PLANETOGRAPHIC
  COORDINATE_SYSTEM_TYPE = "BODY-FIXED ROTATING"
  EASTERNMOST_LONGITUDE = 326.313
  FIRST_STANDARD_PARALLEL = "N/A"
  LINE_FIRST_PIXEL = 1
  LINE_LAST_PIXEL = 8621
  LINE_PROJECTION_OFFSET = -18800.125
  MAP_PROJECTION_ROTATION = 0.0
  MAP_PROJECTION_TYPE = SINUSOIDAL
  MAP_RESOLUTION = 592.713803866667
  MAP_SCALE = 0.1
  MAXIMUM_LATITUDE = -31.7367
  MINIMUM_LATITUDE = -46.3283
  POSITIVE_LONGITUDE_DIRECTION = EAST
  REFERENCE_LATITUDE = "N/A"
  REFERENCE_LONGITUDE = "N/A"
  SAMPLE_FIRST_PIXEL = 1
  SAMPLE_LAST_PIXEL = 1891
  SAMPLE_PROJECTION_OFFSET = 1135.625
  SECOND_STANDARD_PARALLEL = "N/A"
  WESTERNMOST_LONGITUDE = 322.931
END_OBJECT = IMAGE_MAP_PROJECTION
END
