PDS_VERSION_ID = PDS3
/* FILE DATA ELEMENTS */
RECORD_TYPE = UNDEFINED
/* POINTERS TO DATA OBJECTS */
^IMAGE = ("H2526_0000_S24.TIF")
/* IDENTIFICATION DATA ELEMENTS */
DATA_SET_ID = "MEX-M-HRSC-4-REFDR-MAPPROJECT-EXT1-V4.0"
DATA_SET_NAME = "MARS EXPRESS HRSC MAP PROJECTED REFDR EXTENSION1 V4.0"
DETECTOR_ID = MEX_HRSC_S2
EVENT_TYPE = "MARS-REGIONAL-MAPPING-Gl-Pf-Eo"
INSTRUMENT_HOST_ID = MEX
INSTRUMENT_HOST_NAME = "MARS EXPRESS"
INSTRUMENT_ID = HRSC
INSTRUMENT_NAME = "HIGH RESOLUTION STEREO CAMERA"
MISSION_NAME = "MARS EXPRESS"
MISSION_PHASE_NAME = ME_Phase_1
PROCESSING_LEVEL_ID = 4
PRODUCT_CREATION_TIME = 2023-02-08T07:05:14.000Z
PRODUCT_ID = "H2526_0000_S24.TIF"
RELEASE_ID = 0001
REVISION_ID = 0000
/* QUALITY DATA ELEMENTS */
DATA_QUALITY_ID = 1
DATA_QUALITY_DESC = "Data calculated based on original SPICE kernels"
/* TIME DATA ELEMENTS */
SPACECRAFT_CLOCK_START_COUNT = "1/0084067018.57148"
SPACECRAFT_CLOCK_STOP_COUNT = "1/0084067249.58091"
START_TIME = 2005-12-30T23:59:59.422Z
STOP_TIME = 2005-12-31T00:00:54.661Z
/* ORBITAL DATA ELEMENTS */
ASCENDING_NODE_LONGITUDE = 175.26
MAXIMUM_RESOLUTION = 0.0262
FOOTPRINT_POINT_LATITUDE = (-74.0772,-74.1077,-74.1247,-74.1413, -74.1577,-74.1737,-74.201,-74.2161, -74.2309,-74.2454,-74.2649,-74.2769, -74.2786,-74.3818,-74.2487,-74.1487, -74.0487,-73.8824,-73.7824,-73.6492, -73.5495,-73.4163,-73.2445,-73.1754, -73.1064,-73.0031,-72.9342,-72.8653, -72.7963,-72.6933,-72.5901,-72.4862, -72.4172,-72.3486,-72.2453,-72.1765, -72.0049,-71.9016,-71.8329,-71.7642, -71.6587,-71.5879,-71.4818,-71.4109, -71.3403,-71.2335,-71.1626,-71.0923, -70.9865,-70.9511,-70.9313,-70.9031, -70.8801,-70.8596,-70.8416,-70.8292, -70.814,-70.7917,-70.7735,-70.7547, -70.7528,-70.7525,-70.8576,-70.9277, -70.9979,-71.0681,-71.1382,-71.2082, -71.2784,-71.3486,-71.4188,-71.4891, -71.5929,-71.6948,-71.8308,-72.0007, -72.1029,-72.205,-72.2731,-72.3755, -72.4777,-72.5459,-72.6483,-72.7165, -72.7848,-72.8531,-72.9211,-72.9896, -73.0578,-73.1262,-73.2598,-73.3587, -73.4906,-73.5896,-73.7218,-73.9196, -74.0182,-74.117,-74.1509,-74.0772)
FOOTPRINT_POINT_LONGITUDE = (316.042,316.536,316.818,317.102, 317.386,317.671,318.171,318.458,318.745 ,319.033,319.431,319.684,319.721, 319.795,319.882,319.946,320.009,320.113 ,320.174,320.253,320.313,320.39,320.487 ,320.526,320.564,320.621,320.658, 320.696,320.732,320.787,320.841,320.894 ,320.929,320.964,321.016,321.05,321.134 ,321.183,321.216,321.248,321.297,321.33 ,321.379,321.411,321.443,321.49,321.521 ,321.552,321.599,321.614,321.622, 321.009,320.533,320.127,319.789,319.553 ,319.284,318.881,318.545,318.173, 318.139,318.127,318.071,318.033,317.995 ,317.957,317.918,317.879,317.84,317.8, 317.76,317.72,317.659,317.599,317.518, 317.415,317.351,317.287,317.244,317.178 ,317.111,317.067,316.998,316.953, 316.906,316.859,316.813,316.765,316.717 ,316.668,316.572,316.5,316.402,316.328, 316.226,316.072,315.993,315.914,315.885 ,316.042)
ORBIT_NUMBER = 2526
ORBITAL_ECCENTRICITY = 0.572
ORBITAL_INCLINATION = 86.63
ORBITAL_SEMIMAJOR_AXIS = 8527.05
PERIAPSIS_ALTITUDE = 277.26
PERIAPSIS_ARGUMENT_ANGLE = 274.39
PERIAPSIS_TIME = 2005-12-30T23:56:48.000Z
SPACECRAFT_ORIENTATION = (0.0,-1.0,0.0)
^MEX_ORIENTATION_DESC = "MEX_ORIENTATION_DESC.TXT"
SPACECRAFT_POINTING_MODE = ACROSSTRACK
^MEX_POINTING_DESC = "MEX_POINTING_DESC.TXT"
RIGHT_ASCENSION = -1e+32
DECLINATION = -1e+32
OFFSET_ANGLE = -0.07
SPACECRAFT_SOLAR_DISTANCE = 2.2888e+08
TARGET_NAME = MARS
/* CAMERA DATA ELEMENTS */
DETECTOR_TEMPERATURE = 18.5744
FOCAL_PLANE_TEMPERATURE = 8.9911
INST_CMPRS_NAME = "DISCRETE COSINE TRANSFORMATION (DCT)"
INST_CMPRS_RATIO = 13.6714
INST_CMPRS_QUALITY = 0
INST_CMPRS_QUANTZ_TBL_ID = 0
INSTRUMENT_TEMPERATURE = 11.234
LENS_TEMPERATURE = 9.195
MACROPIXEL_SIZE = 2
MISSING_FRAMES = 0
PIXEL_SUBSAMPLING_FLAG = N
SIGNAL_CHAIN_ID = 1
/* RADIOMETRIC DATA ELEMENTS */
BANDWIDTH = 178.0
CENTER_FILTER_WAVELENGTH = 679.0
RADIANCE_OFFSET = 1.97663
RADIANCE_SCALING_FACTOR = 0.00692096
REFLECTANCE_SCALING_FACTOR = 0.000192005
MEX:REFLECTANCE_OFFSET = 0.0548365
/* IMAGE OBJECT DEFINITIONS */
OBJECT = IMAGE
  INTERCHANGE_FORMAT = BINARY
  LINES = 4239
  LINE_SAMPLES = 3214
  SAMPLE_TYPE = UNSIGNED_INTEGER
  SAMPLE_BITS = 8
  BANDS = 1
  BAND_STORAGE_TYPE = BAND_SEQUENTIAL
  MAXIMUM = 255
  MEAN = 145.484
  MINIMUM = 1
  STANDARD_DEVIATION = 24.3553
END_OBJECT = IMAGE
/* MAP OBJECT DEFINITIONS */
OBJECT = IMAGE_MAP_PROJECTION
  ^DATA_SET_MAP_PROJECTION_CATALOG= "DSMAP.CAT"
  A_AXIS_RADIUS = 3396.0
  B_AXIS_RADIUS = 3396.0
  C_AXIS_RADIUS = 3396.0
  CENTER_LATITUDE = 0.0
  CENTER_LONGITUDE = 319.0
  COORDINATE_SYSTEM_NAME = PLANETOGRAPHIC
  COORDINATE_SYSTEM_TYPE = "BODY-FIXED ROTATING"
  EASTERNMOST_LONGITUDE = 321.622
  FIRST_STANDARD_PARALLEL = "N/A"
  LINE_FIRST_PIXEL = 1
  LINE_LAST_PIXEL = 4239
  LINE_PROJECTION_OFFSET = -167806.25
  MAP_PROJECTION_ROTATION = 0.0
  MAP_PROJECTION_TYPE = SINUSOIDAL
  MAP_RESOLUTION = 2370.85521546667
  MAP_SCALE = 0.025
  MAXIMUM_LATITUDE = -70.7525
  MINIMUM_LATITUDE = -74.3818
  POSITIVE_LONGITUDE_DIRECTION = EAST
  REFERENCE_LATITUDE = "N/A"
  REFERENCE_LONGITUDE = "N/A"
  SAMPLE_FIRST_PIXEL = 1
  SAMPLE_LAST_PIXEL = 3214
  SAMPLE_PROJECTION_OFFSET = 1266.25
  SECOND_STANDARD_PARALLEL = "N/A"
  WESTERNMOST_LONGITUDE = 315.885
END_OBJECT = IMAGE_MAP_PROJECTION
END
