PDS_VERSION_ID = PDS3
/* FILE DATA ELEMENTS */
RECORD_TYPE = UNDEFINED
/* POINTERS TO DATA OBJECTS */
^IMAGE = ("H2517_0000_RE4.TIF")
/* IDENTIFICATION DATA ELEMENTS */
DATA_SET_ID = "MEX-M-HRSC-4-REFDR-MAPPROJECT-EXT1-V4.0"
DATA_SET_NAME = "MARS EXPRESS HRSC MAP PROJECTED REFDR EXTENSION1 V4.0"
DETECTOR_ID = MEX_HRSC_RED
EVENT_TYPE = "MARS-REGIONAL-MAPPING-Te-Fl-Eo"
INSTRUMENT_HOST_ID = MEX
INSTRUMENT_HOST_NAME = "MARS EXPRESS"
INSTRUMENT_ID = HRSC
INSTRUMENT_NAME = "HIGH RESOLUTION STEREO CAMERA"
MISSION_NAME = "MARS EXPRESS"
MISSION_PHASE_NAME = ME_Phase_1
PROCESSING_LEVEL_ID = 4
PRODUCT_CREATION_TIME = 2023-02-08T07:05:14.000Z
PRODUCT_ID = "H2517_0000_RE4.TIF"
RELEASE_ID = 0001
REVISION_ID = 0000
/* QUALITY DATA ELEMENTS */
DATA_QUALITY_ID = 1
DATA_QUALITY_DESC = "Data calculated based on original SPICE kernels"
/* TIME DATA ELEMENTS */
SPACECRAFT_CLOCK_START_COUNT = "1/0083849554.57156"
SPACECRAFT_CLOCK_STOP_COUNT = "1/0083849917.45832"
START_TIME = 2005-12-28T11:33:34.959Z
STOP_TIME = 2005-12-28T11:38:31.860Z
/* ORBITAL DATA ELEMENTS */
ASCENDING_NODE_LONGITUDE = 175.44
MAXIMUM_RESOLUTION = 0.0561
FOOTPRINT_POINT_LATITUDE = (-67.7525,-67.8451,-67.897,-67.8981, -67.976,-67.685,-67.3927,-66.8107, -66.5192,-66.0853,-65.6508,-65.2197, -64.645,-64.3446,-64.0042,-63.6633, -63.3237,-62.9842,-62.6468,-62.3089, -61.973,-61.4693,-61.1351,-60.8024, -60.471,-60.1315,-59.6265,-59.2811, -58.9361,-58.5868,-58.2404,-57.8803, -57.342,-56.9776,-56.6136,-56.243, -55.6921,-55.119,-54.7408,-54.3611, -53.9752,-53.5831,-53.1949,-52.7949, -52.1801,-51.7734,-51.3621,-50.9435, -50.7339,-50.7078,-50.6948,-50.6839, -50.6689,-50.654,-50.6278,-50.6268, -50.6276,-51.2522,-51.8628,-52.2692, -52.6735,-53.073,-53.4662,-54.0498, -54.6247,-55.0063,-55.3803,-55.7536, -56.1205,-56.4875,-56.8505,-57.2115, -57.568,-58.0992,-58.4497,-58.7988, -59.1425,-59.488,-59.8251,-60.1625, -60.6628,-60.994,-61.3263,-61.6598, -61.9945,-62.3297,-62.6658,-63.0023, -63.3418,-63.6795,-64.0196,-64.3474, -64.7774,-65.2042,-65.7794,-66.3567, -67.0791,-67.6596,-67.8048,-67.7525)
FOOTPRINT_POINT_LONGITUDE = (123.634,125.393,126.554,126.581, 126.638,126.734,126.825,127.001,127.084 ,127.206,127.322,127.435,127.578, 127.648,127.728,127.805,127.879,127.952 ,128.023,128.091,128.157,128.253, 128.315,128.376,128.435,128.494,128.582 ,128.638,128.693,128.747,128.804, 128.852,128.929,128.978,129.028,129.076 ,129.151,129.217,129.265,129.312, 129.359,129.402,129.449,129.491,129.549 ,129.591,129.632,129.672,129.692, 129.694,129.19,128.714,128.184,127.596, 126.727,126.699,126.69,126.648,126.607, 126.574,126.54,126.505,126.471,126.416, 126.36,126.319,126.28,126.238,126.196, 126.152,126.106,126.059,126.011,125.935 ,125.884,125.829,125.775,125.717,125.66 ,125.601,125.509,125.446,125.381, 125.312,125.241,125.168,125.092,125.014 ,124.93,124.846,124.758,124.669,124.548 ,124.427,124.251,124.063,123.813, 123.597,123.541,123.634)
ORBIT_NUMBER = 2517
ORBITAL_ECCENTRICITY = 0.572
ORBITAL_INCLINATION = 86.62
ORBITAL_SEMIMAJOR_AXIS = 8529.11
PERIAPSIS_ALTITUDE = 277.07
PERIAPSIS_ARGUMENT_ANGLE = 275.93
PERIAPSIS_TIME = 2005-12-28T11:29:11.000Z
SPACECRAFT_ORIENTATION = (0.0,-1.0,0.0)
^MEX_ORIENTATION_DESC = "MEX_ORIENTATION_DESC.TXT"
SPACECRAFT_POINTING_MODE = NADIR
^MEX_POINTING_DESC = "MEX_POINTING_DESC.TXT"
RIGHT_ASCENSION = -1e+32
DECLINATION = -1e+32
OFFSET_ANGLE = -1e+32
SPACECRAFT_SOLAR_DISTANCE = 2.28391e+08
TARGET_NAME = MARS
/* CAMERA DATA ELEMENTS */
DETECTOR_TEMPERATURE = 18.1666
FOCAL_PLANE_TEMPERATURE = 8.1755
INST_CMPRS_NAME = "DISCRETE COSINE TRANSFORMATION (DCT)"
INST_CMPRS_RATIO = 25.4485
INST_CMPRS_QUALITY = 0
INST_CMPRS_QUANTZ_TBL_ID = 0
INSTRUMENT_TEMPERATURE = 10.8262
LENS_TEMPERATURE = 10.2145
MACROPIXEL_SIZE = 4
MISSING_FRAMES = 0
PIXEL_SUBSAMPLING_FLAG = N
SIGNAL_CHAIN_ID = 2
/* RADIOMETRIC DATA ELEMENTS */
BANDWIDTH = 48.0
CENTER_FILTER_WAVELENGTH = 748.0
RADIANCE_OFFSET = 0.599856
RADIANCE_SCALING_FACTOR = 0.0042543
REFLECTANCE_SCALING_FACTOR = 0.000506423
MEX:REFLECTANCE_OFFSET = 0.0714057
/* IMAGE OBJECT DEFINITIONS */
OBJECT = IMAGE
  INTERCHANGE_FORMAT = BINARY
  LINES = 20569
  LINE_SAMPLES = 3454
  SAMPLE_TYPE = UNSIGNED_INTEGER
  SAMPLE_BITS = 8
  BANDS = 1
  BAND_STORAGE_TYPE = BAND_SEQUENTIAL
  MAXIMUM = 255
  MEAN = 115.603
  MINIMUM = 1
  STANDARD_DEVIATION = 45.8399
END_OBJECT = IMAGE
/* MAP OBJECT DEFINITIONS */
OBJECT = IMAGE_MAP_PROJECTION
  ^DATA_SET_MAP_PROJECTION_CATALOG= "DSMAP.CAT"
  A_AXIS_RADIUS = 3396.0
  B_AXIS_RADIUS = 3396.0
  C_AXIS_RADIUS = 3396.0
  CENTER_LATITUDE = 0.0
  CENTER_LONGITUDE = 127.0
  COORDINATE_SYSTEM_NAME = PLANETOGRAPHIC
  COORDINATE_SYSTEM_TYPE = "BODY-FIXED ROTATING"
  EASTERNMOST_LONGITUDE = 129.694
  FIRST_STANDARD_PARALLEL = "N/A"
  LINE_FIRST_PIXEL = 1
  LINE_LAST_PIXEL = 20569
  LINE_PROJECTION_OFFSET = -60029.625
  MAP_PROJECTION_ROTATION = 0.0
  MAP_PROJECTION_TYPE = SINUSOIDAL
  MAP_RESOLUTION = 1185.42760773333
  MAP_SCALE = 0.05
  MAXIMUM_LATITUDE = -50.6268
  MINIMUM_LATITUDE = -67.976
  POSITIVE_LONGITUDE_DIRECTION = EAST
  REFERENCE_LATITUDE = "N/A"
  REFERENCE_LONGITUDE = "N/A"
  SAMPLE_FIRST_PIXEL = 1
  SAMPLE_LAST_PIXEL = 3454
  SAMPLE_PROJECTION_OFFSET = 1530.125
  SECOND_STANDARD_PARALLEL = "N/A"
  WESTERNMOST_LONGITUDE = 123.541
END_OBJECT = IMAGE_MAP_PROJECTION
END
