PDS_VERSION_ID = PDS3
/* FILE DATA ELEMENTS */
RECORD_TYPE = UNDEFINED
/* POINTERS TO DATA OBJECTS */
^IMAGE = ("H2517_0000_P24.TIF")
/* IDENTIFICATION DATA ELEMENTS */
DATA_SET_ID = "MEX-M-HRSC-4-REFDR-MAPPROJECT-EXT1-V4.0"
DATA_SET_NAME = "MARS EXPRESS HRSC MAP PROJECTED REFDR EXTENSION1 V4.0"
DETECTOR_ID = MEX_HRSC_P2
EVENT_TYPE = "MARS-REGIONAL-MAPPING-Te-Fl-Eo"
INSTRUMENT_HOST_ID = MEX
INSTRUMENT_HOST_NAME = "MARS EXPRESS"
INSTRUMENT_ID = HRSC
INSTRUMENT_NAME = "HIGH RESOLUTION STEREO CAMERA"
MISSION_NAME = "MARS EXPRESS"
MISSION_PHASE_NAME = ME_Phase_1
PROCESSING_LEVEL_ID = 4
PRODUCT_CREATION_TIME = 2023-02-08T07:05:14.000Z
PRODUCT_ID = "H2517_0000_P24.TIF"
RELEASE_ID = 0001
REVISION_ID = 0000
/* QUALITY DATA ELEMENTS */
DATA_QUALITY_ID = 1
DATA_QUALITY_DESC = "Data calculated based on original SPICE kernels"
/* TIME DATA ELEMENTS */
SPACECRAFT_CLOCK_START_COUNT = "1/0083849554.57156"
SPACECRAFT_CLOCK_STOP_COUNT = "1/0083849917.45832"
START_TIME = 2005-12-28T11:33:29.559Z
STOP_TIME = 2005-12-28T11:38:21.662Z
/* ORBITAL DATA ELEMENTS */
ASCENDING_NODE_LONGITUDE = 175.44
MAXIMUM_RESOLUTION = 0.0274
FOOTPRINT_POINT_LATITUDE = (-67.7717,-67.8188,-67.8794,-67.9158, -67.917,-67.9801,-67.3987,-67.1052, -66.8124,-66.5191,-66.2265,-65.6438, -65.0639,-64.4847,-64.0504,-63.7065, -63.3635,-63.0209,-62.68,-62.3387, -61.9991,-61.6595,-61.3212,-60.9836, -60.6475,-60.3129,-59.8046,-59.4653, -58.9477,-58.5982,-58.2507,-57.8911, -57.5351,-57.1732,-56.81,-56.2562, -55.8869,-55.5159,-54.9412,-54.3714, -53.987,-53.5938,-53.2043,-52.8045, -52.1916,-51.7834,-51.3719,-50.9534, -50.7438,-50.7186,-50.7021,-50.6893, -50.6704,-50.6377,-50.6367,-50.6368, -51.2619,-51.6687,-52.2804,-52.6848, -53.0837,-53.477,-53.8686,-54.2539, -54.8274,-55.207,-55.5792,-55.9513, -56.3173,-56.6841,-57.044,-57.4054, -57.936,-58.2894,-58.6364,-58.9856, -59.3276,-59.6686,-60.0086,-60.3419, -60.6765,-61.0116,-61.3478,-61.685, -62.0232,-62.3619,-62.7014,-63.0414, -63.3839,-63.725,-64.1878,-64.7648, -65.1959,-65.7755,-66.3571,-66.6483, -67.0848,-67.6685,-67.8099,-67.7717)
FOOTPRINT_POINT_LONGITUDE = (123.635,124.485,125.707,126.535, 126.564,126.628,126.813,126.903,126.99, 127.074,127.155,127.313,127.463,127.604 ,127.705,127.782,127.858,127.931, 128.002,128.071,128.138,128.203,128.266 ,128.328,128.388,128.447,128.534, 128.592,128.675,128.728,128.783,128.833 ,128.883,128.934,128.982,129.055, 129.103,129.153,129.218,129.289,129.335 ,129.378,129.424,129.466,129.524, 129.565,129.605,129.644,129.664,129.666 ,129.007,128.494,127.809,126.75,126.721 ,126.711,126.669,126.642,126.593, 126.558,126.524,126.488,126.452,126.415 ,126.356,126.315,126.275,126.232, 126.189,126.143,126.097,126.048,125.974 ,125.922,125.869,125.813,125.758, 125.701,125.641,125.582,125.52,125.456, 125.389,125.319,125.247,125.173,125.095 ,125.016,124.931,124.846,124.723, 124.562,124.439,124.261,124.072,123.973 ,123.82,123.602,123.548,123.635)
ORBIT_NUMBER = 2517
ORBITAL_ECCENTRICITY = 0.572
ORBITAL_INCLINATION = 86.62
ORBITAL_SEMIMAJOR_AXIS = 8529.11
PERIAPSIS_ALTITUDE = 277.07
PERIAPSIS_ARGUMENT_ANGLE = 275.93
PERIAPSIS_TIME = 2005-12-28T11:29:11.000Z
SPACECRAFT_ORIENTATION = (0.0,-1.0,0.0)
^MEX_ORIENTATION_DESC = "MEX_ORIENTATION_DESC.TXT"
SPACECRAFT_POINTING_MODE = NADIR
^MEX_POINTING_DESC = "MEX_POINTING_DESC.TXT"
RIGHT_ASCENSION = -1e+32
DECLINATION = -1e+32
OFFSET_ANGLE = -1e+32
SPACECRAFT_SOLAR_DISTANCE = 2.28391e+08
TARGET_NAME = MARS
/* CAMERA DATA ELEMENTS */
DETECTOR_TEMPERATURE = 18.1666
FOCAL_PLANE_TEMPERATURE = 8.1755
INST_CMPRS_NAME = "DISCRETE COSINE TRANSFORMATION (DCT)"
INST_CMPRS_RATIO = 9.5006
INST_CMPRS_QUALITY = 0
INST_CMPRS_QUANTZ_TBL_ID = 0
INSTRUMENT_TEMPERATURE = 10.8262
LENS_TEMPERATURE = 10.2145
MACROPIXEL_SIZE = 2
MISSING_FRAMES = 0
PIXEL_SUBSAMPLING_FLAG = N
SIGNAL_CHAIN_ID = 3
/* RADIOMETRIC DATA ELEMENTS */
BANDWIDTH = 177.0
CENTER_FILTER_WAVELENGTH = 676.5
RADIANCE_OFFSET = 2.24756
RADIANCE_SCALING_FACTOR = 0.0143962
REFLECTANCE_SCALING_FACTOR = 0.000398164
MEX:REFLECTANCE_OFFSET = 0.0621624
/* IMAGE OBJECT DEFINITIONS */
OBJECT = IMAGE
  INTERCHANGE_FORMAT = BINARY
  LINES = 41138
  LINE_SAMPLES = 6907
  SAMPLE_TYPE = UNSIGNED_INTEGER
  SAMPLE_BITS = 8
  BANDS = 1
  BAND_STORAGE_TYPE = BAND_SEQUENTIAL
  MAXIMUM = 255
  MEAN = 113.877
  MINIMUM = 1
  STANDARD_DEVIATION = 45.6394
END_OBJECT = IMAGE
/* MAP OBJECT DEFINITIONS */
OBJECT = IMAGE_MAP_PROJECTION
  ^DATA_SET_MAP_PROJECTION_CATALOG= "DSMAP.CAT"
  A_AXIS_RADIUS = 3396.0
  B_AXIS_RADIUS = 3396.0
  C_AXIS_RADIUS = 3396.0
  CENTER_LATITUDE = 0.0
  CENTER_LONGITUDE = 127.0
  COORDINATE_SYSTEM_NAME = PLANETOGRAPHIC
  COORDINATE_SYSTEM_TYPE = "BODY-FIXED ROTATING"
  EASTERNMOST_LONGITUDE = 129.666
  FIRST_STANDARD_PARALLEL = "N/A"
  LINE_FIRST_PIXEL = 1
  LINE_LAST_PIXEL = 41138
  LINE_PROJECTION_OFFSET = -120058.75
  MAP_PROJECTION_ROTATION = 0.0
  MAP_PROJECTION_TYPE = SINUSOIDAL
  MAP_RESOLUTION = 2370.85521546667
  MAP_SCALE = 0.025
  MAXIMUM_LATITUDE = -50.6367
  MINIMUM_LATITUDE = -67.98009999999999
  POSITIVE_LONGITUDE_DIRECTION = EAST
  REFERENCE_LATITUDE = "N/A"
  REFERENCE_LONGITUDE = "N/A"
  SAMPLE_FIRST_PIXEL = 1
  SAMPLE_LAST_PIXEL = 6907
  SAMPLE_PROJECTION_OFFSET = 3060.75
  SECOND_STANDARD_PARALLEL = "N/A"
  WESTERNMOST_LONGITUDE = 123.548
END_OBJECT = IMAGE_MAP_PROJECTION
END
