PDS_VERSION_ID = PDS3
/* FILE DATA ELEMENTS */
RECORD_TYPE = UNDEFINED
/* POINTERS TO DATA OBJECTS */
^IMAGE = ("H2514_0001_IR4.TIF")
/* IDENTIFICATION DATA ELEMENTS */
DATA_SET_ID = "MEX-M-HRSC-4-REFDR-MAPPROJECT-EXT1-V4.0"
DATA_SET_NAME = "MARS EXPRESS HRSC MAP PROJECTED REFDR EXTENSION1 V4.0"
DETECTOR_ID = MEX_HRSC_IR
EVENT_TYPE = "MARS-REGIONAL-MAPPING-Im-Gl-Pf"
INSTRUMENT_HOST_ID = MEX
INSTRUMENT_HOST_NAME = "MARS EXPRESS"
INSTRUMENT_ID = HRSC
INSTRUMENT_NAME = "HIGH RESOLUTION STEREO CAMERA"
MISSION_NAME = "MARS EXPRESS"
MISSION_PHASE_NAME = ME_Phase_1
PROCESSING_LEVEL_ID = 4
PRODUCT_CREATION_TIME = 2023-02-08T07:05:14.000Z
PRODUCT_ID = "H2514_0001_IR4.TIF"
RELEASE_ID = 0001
REVISION_ID = 0000
/* QUALITY DATA ELEMENTS */
DATA_QUALITY_ID = 1
DATA_QUALITY_DESC = "Data calculated based on original SPICE kernels"
/* TIME DATA ELEMENTS */
SPACECRAFT_CLOCK_START_COUNT = "1/0083776818.57152"
SPACECRAFT_CLOCK_STOP_COUNT = "1/0083777050.57151"
START_TIME = 2005-12-27T15:20:29.716Z
STOP_TIME = 2005-12-27T15:23:22.870Z
/* ORBITAL DATA ELEMENTS */
ASCENDING_NODE_LONGITUDE = 175.5
MAXIMUM_RESOLUTION = 0.0456
FOOTPRINT_POINT_LATITUDE = (-79.6436,-79.7354,-79.8239,-79.9324, -79.9348,-79.8657,-79.5424,-79.3259, -79.0038,-78.7852,-78.3535,-78.1336, -77.8006,-77.5814,-77.3626,-77.1428, -76.9235,-76.7036,-76.4837,-76.2636, -75.9335,-75.7126,-75.4916,-75.2709, -75.0502,-74.8193,-74.5868,-74.355, -74.1243,-73.8949,-73.5496,-73.2021, -72.8541,-72.6218,-72.39,-72.1583, -71.9266,-71.5684,-71.329,-71.0878, -70.8463,-70.606,-70.3667,-70.1246, -69.8824,-69.6411,-69.3964,-69.1469, -68.7724,-68.5236,-68.3982,-68.3673, -68.3394,-68.3078,-68.2181,-68.2164, -68.2167,-68.4649,-68.7132,-68.962, -69.2109,-69.4551,-69.6952,-69.9361, -70.1761,-70.4116,-70.6506,-70.8897, -71.1281,-71.3666,-71.7243,-71.9534, -72.2965,-72.5259,-72.7553,-73.0994, -73.3286,-73.6728,-74.0159,-74.243, -74.4707,-74.698,-75.0311,-75.3561, -75.5735,-75.8993,-76.1164,-76.4381, -76.7617,-76.9769,-77.1924,-77.409, -77.7316,-77.9506,-78.1637,-78.3766, -78.8005,-79.4309,-79.5358,-79.6436)
FOOTPRINT_POINT_LONGITUDE = (47.4526,48.8095,50.2358,52.1907, 52.2367,52.5421,53.0578,53.3855,53.8404 ,54.1413,54.6865,54.9558,55.3382, 55.5793,55.8099,56.0346,56.2499,56.4588 ,56.6602,56.855,57.1345,57.3152,57.4898 ,57.6583,57.8207,57.9878,58.1527, 58.3111,58.462,58.6054,58.8149,59.0193, 59.2156,59.3423,59.4646,59.5831,59.6984 ,59.8706,59.9802,60.0898,60.1967, 60.2991,60.3971,60.4968,60.5942,60.6878 ,60.7812,60.8722,61.005,61.0895,61.1324 ,61.1432,60.5204,59.8706,58.2814, 58.2546,58.2453,58.1419,58.0359,57.9271 ,57.8154,57.7034,57.5898,57.4735, 57.3535,57.2279,57.1007,56.97,56.8352, 56.6968,56.4835,56.3401,56.1172,55.9637 ,55.8058,55.5601,55.3903,55.1261, 54.8492,54.6568,54.4588,54.2543,53.9423 ,53.6201,53.3972,53.0492,52.8077, 52.4292,52.0321,51.7559,51.4702,51.1746 ,50.7106,50.3784,50.0422,49.6933, 48.9544,47.7321,47.5137,47.4526)
ORBIT_NUMBER = 2514
ORBITAL_ECCENTRICITY = 0.572
ORBITAL_INCLINATION = 86.63
ORBITAL_SEMIMAJOR_AXIS = 8528.36
PERIAPSIS_ALTITUDE = 276.34
PERIAPSIS_ARGUMENT_ANGLE = 276.47
PERIAPSIS_TIME = 2005-12-27T15:20:01.000Z
SPACECRAFT_ORIENTATION = (0.0,-1.0,0.0)
^MEX_ORIENTATION_DESC = "MEX_ORIENTATION_DESC.TXT"
SPACECRAFT_POINTING_MODE = NADIR
^MEX_POINTING_DESC = "MEX_POINTING_DESC.TXT"
RIGHT_ASCENSION = -1e+32
DECLINATION = -1e+32
OFFSET_ANGLE = -1e+32
SPACECRAFT_SOLAR_DISTANCE = 2.28228e+08
TARGET_NAME = MARS
/* CAMERA DATA ELEMENTS */
DETECTOR_TEMPERATURE = 18.1666
FOCAL_PLANE_TEMPERATURE = 8.5833
INST_CMPRS_NAME = "DISCRETE COSINE TRANSFORMATION (DCT)"
INST_CMPRS_RATIO = 10.35
INST_CMPRS_QUALITY = 0
INST_CMPRS_QUANTZ_TBL_ID = 0
INSTRUMENT_TEMPERATURE = 11.234
LENS_TEMPERATURE = 9.195
MACROPIXEL_SIZE = 4
MISSING_FRAMES = 1
PIXEL_SUBSAMPLING_FLAG = N
SIGNAL_CHAIN_ID = 2
/* RADIOMETRIC DATA ELEMENTS */
BANDWIDTH = 81.0
CENTER_FILTER_WAVELENGTH = 955.5
RADIANCE_OFFSET = 0.340587
RADIANCE_SCALING_FACTOR = 0.00274759
REFLECTANCE_SCALING_FACTOR = 0.000308756
MEX:REFLECTANCE_OFFSET = 0.0382729
/* IMAGE OBJECT DEFINITIONS */
OBJECT = IMAGE
  INTERCHANGE_FORMAT = BINARY
  LINES = 13795
  LINE_SAMPLES = 3878
  SAMPLE_TYPE = UNSIGNED_INTEGER
  SAMPLE_BITS = 8
  BANDS = 1
  BAND_STORAGE_TYPE = BAND_SEQUENTIAL
  MAXIMUM = 255
  MEAN = 116.762
  MINIMUM = 1
  STANDARD_DEVIATION = 51.5543
END_OBJECT = IMAGE
/* MAP OBJECT DEFINITIONS */
OBJECT = IMAGE_MAP_PROJECTION
  ^DATA_SET_MAP_PROJECTION_CATALOG= "DSMAP.CAT"
  A_AXIS_RADIUS = 3396.0
  B_AXIS_RADIUS = 3396.0
  C_AXIS_RADIUS = 3396.0
  CENTER_LATITUDE = 0.0
  CENTER_LONGITUDE = 57.0
  COORDINATE_SYSTEM_NAME = PLANETOGRAPHIC
  COORDINATE_SYSTEM_TYPE = "BODY-FIXED ROTATING"
  EASTERNMOST_LONGITUDE = 61.1432
  FIRST_STANDARD_PARALLEL = "N/A"
  LINE_FIRST_PIXEL = 1
  LINE_LAST_PIXEL = 13795
  LINE_PROJECTION_OFFSET = -80855.375
  MAP_PROJECTION_ROTATION = 0.0
  MAP_PROJECTION_TYPE = SINUSOIDAL
  MAP_RESOLUTION = 1185.42760773333
  MAP_SCALE = 0.05
  MAXIMUM_LATITUDE = -68.21639999999999
  MINIMUM_LATITUDE = -79.9348
  POSITIVE_LONGITUDE_DIRECTION = EAST
  REFERENCE_LATITUDE = "N/A"
  REFERENCE_LONGITUDE = "N/A"
  SAMPLE_FIRST_PIXEL = 1
  SAMPLE_LAST_PIXEL = 3878
  SAMPLE_PROJECTION_OFFSET = 2046.125
  SECOND_STANDARD_PARALLEL = "N/A"
  WESTERNMOST_LONGITUDE = 47.4526
END_OBJECT = IMAGE_MAP_PROJECTION
END
