PDS_VERSION_ID = PDS3
/* FILE DATA ELEMENTS */
RECORD_TYPE = UNDEFINED
/* POINTERS TO DATA OBJECTS */
^IMAGE = ("H2510_0000_IR4.TIF")
/* IDENTIFICATION DATA ELEMENTS */
DATA_SET_ID = "MEX-M-HRSC-4-REFDR-MAPPROJECT-EXT1-V4.0"
DATA_SET_NAME = "MARS EXPRESS HRSC MAP PROJECTED REFDR EXTENSION1 V4.0"
DETECTOR_ID = MEX_HRSC_IR
EVENT_TYPE = "MARS-REGIONAL-MAPPING-Im-Pf"
INSTRUMENT_HOST_ID = MEX
INSTRUMENT_HOST_NAME = "MARS EXPRESS"
INSTRUMENT_ID = HRSC
INSTRUMENT_NAME = "HIGH RESOLUTION STEREO CAMERA"
MISSION_NAME = "MARS EXPRESS"
MISSION_PHASE_NAME = ME_Phase_1
PROCESSING_LEVEL_ID = 4
PRODUCT_CREATION_TIME = 2023-02-08T07:05:14.000Z
PRODUCT_ID = "H2510_0000_IR4.TIF"
RELEASE_ID = 0001
REVISION_ID = 0000
/* QUALITY DATA ELEMENTS */
DATA_QUALITY_ID = 1
DATA_QUALITY_DESC = "Data calculated based on original SPICE kernels"
/* TIME DATA ELEMENTS */
SPACECRAFT_CLOCK_START_COUNT = "1/0083680198.57155"
SPACECRAFT_CLOCK_STOP_COUNT = "1/0083680455.54241"
START_TIME = 2005-12-26T12:30:09.967Z
STOP_TIME = 2005-12-26T12:33:14.190Z
/* ORBITAL DATA ELEMENTS */
ASCENDING_NODE_LONGITUDE = 175.58
MAXIMUM_RESOLUTION = 0.0483
FOOTPRINT_POINT_LATITUDE = (-71.669,-71.7677,-71.8324,-71.8337, -71.7638,-71.4351,-70.9905,-70.5383, -70.3087,-69.9602,-69.5099,-69.279, -68.823,-68.5881,-68.3489,-68.114, -67.7583,-67.521,-67.2839,-67.0464, -66.8093,-66.5644,-66.3186,-66.0735, -65.8283,-65.5835,-65.338,-65.0896, -64.8369,-64.4581,-64.079,-63.8256, -63.5725,-63.3141,-63.0528,-62.7916, -62.5311,-62.2702,-61.8787,-61.6162, -61.3539,-61.095,-60.8348,-60.4445, -60.1853,-59.9258,-59.6675,-59.538, -59.4563,-59.4305,-59.4003,-59.3503, -59.349,-59.3492,-59.87,-60.1306, -60.3823,-60.776,-61.0379,-61.2946, -61.678,-61.9375,-62.1982,-62.466, -62.7261,-62.9862,-63.2462,-63.5032, -63.7462,-63.9967,-64.2542,-64.6346, -64.8895,-65.1345,-65.3727,-65.6174, -65.8653,-66.2316,-66.4756,-66.7177, -66.954,-67.19,-67.4265,-67.6635, -67.8909,-68.1333,-68.4788,-68.7112, -69.0539,-69.2886,-69.514,-69.7409, -69.9683,-70.1952,-70.5334,-70.7591, -70.985,-71.4147,-71.5184,-71.669)
FOOTPRINT_POINT_LONGITUDE = (89.6031,91.2842,92.5849,92.6133, 92.7424,92.896,93.0958,93.2843,93.3805, 93.5267,93.6919,93.78,93.9419,94.0229, 94.1059,94.1811,94.2952,94.3692,94.4415 ,94.5126,94.5817,94.6518,94.7206, 94.7871,94.8522,94.9155,94.9783,95.0431 ,95.1053,95.1939,95.2801,95.3369, 95.3921,95.4474,95.5021,95.5555,95.6073 ,95.6584,95.7336,95.7838,95.833,95.8782 ,95.9237,95.9904,96.0331,96.0753, 96.1157,96.136,96.1486,95.4281,94.7082, 93.6899,93.6667,93.6587,93.565,93.5186, 93.4665,93.394,93.3437,93.2895,93.2046, 93.1482,93.0909,93.0358,92.9751,92.9129 ,92.849,92.7855,92.7159,92.6485,92.5831 ,92.4786,92.4073,92.3353,92.2585, 92.1833,92.1078,91.988,91.9055,91.8224, 91.739,91.6534,91.5659,91.4765,91.3797, 91.2886,91.1377,91.0387,90.8891,90.7895 ,90.6823,90.5733,90.4617,90.347,90.1682 ,90.0452,89.9198,89.6646,89.597, 89.6031)
ORBIT_NUMBER = 2510
ORBITAL_ECCENTRICITY = 0.572
ORBITAL_INCLINATION = 86.63
ORBITAL_SEMIMAJOR_AXIS = 8528.79
PERIAPSIS_ALTITUDE = 276.01
PERIAPSIS_ARGUMENT_ANGLE = 277.15
PERIAPSIS_TIME = 2005-12-26T12:27:49.000Z
SPACECRAFT_ORIENTATION = (0.0,-1.0,0.0)
^MEX_ORIENTATION_DESC = "MEX_ORIENTATION_DESC.TXT"
SPACECRAFT_POINTING_MODE = NADIR
^MEX_POINTING_DESC = "MEX_POINTING_DESC.TXT"
RIGHT_ASCENSION = -1e+32
DECLINATION = -1e+32
OFFSET_ANGLE = -1e+32
SPACECRAFT_SOLAR_DISTANCE = 2.2801e+08
TARGET_NAME = MARS
/* CAMERA DATA ELEMENTS */
DETECTOR_TEMPERATURE = 17.1471
FOCAL_PLANE_TEMPERATURE = 8.3794
INST_CMPRS_NAME = "DISCRETE COSINE TRANSFORMATION (DCT)"
INST_CMPRS_RATIO = 8.0679
INST_CMPRS_QUALITY = 0
INST_CMPRS_QUANTZ_TBL_ID = 0
INSTRUMENT_TEMPERATURE = 11.0301
LENS_TEMPERATURE = 8.3794
MACROPIXEL_SIZE = 4
MISSING_FRAMES = 0
PIXEL_SUBSAMPLING_FLAG = N
SIGNAL_CHAIN_ID = 2
/* RADIOMETRIC DATA ELEMENTS */
BANDWIDTH = 81.0
CENTER_FILTER_WAVELENGTH = 955.5
RADIANCE_OFFSET = 0.457052
RADIANCE_SCALING_FACTOR = 0.00365366
REFLECTANCE_SCALING_FACTOR = 0.000409792
MEX:REFLECTANCE_OFFSET = 0.0512627
/* IMAGE OBJECT DEFINITIONS */
OBJECT = IMAGE
  INTERCHANGE_FORMAT = BINARY
  LINES = 14734
  LINE_SAMPLES = 3238
  SAMPLE_TYPE = UNSIGNED_INTEGER
  SAMPLE_BITS = 8
  BANDS = 1
  BAND_STORAGE_TYPE = BAND_SEQUENTIAL
  MAXIMUM = 255
  MEAN = 115.642
  MINIMUM = 1
  STANDARD_DEVIATION = 34.0358
END_OBJECT = IMAGE
/* MAP OBJECT DEFINITIONS */
OBJECT = IMAGE_MAP_PROJECTION
  ^DATA_SET_MAP_PROJECTION_CATALOG= "DSMAP.CAT"
  A_AXIS_RADIUS = 3396.0
  B_AXIS_RADIUS = 3396.0
  C_AXIS_RADIUS = 3396.0
  CENTER_LATITUDE = 0.0
  CENTER_LONGITUDE = 93.0
  COORDINATE_SYSTEM_NAME = PLANETOGRAPHIC
  COORDINATE_SYSTEM_TYPE = "BODY-FIXED ROTATING"
  EASTERNMOST_LONGITUDE = 96.1486
  FIRST_STANDARD_PARALLEL = "N/A"
  LINE_FIRST_PIXEL = 1
  LINE_LAST_PIXEL = 14734
  LINE_PROJECTION_OFFSET = -70322.625
  MAP_PROJECTION_ROTATION = 0.0
  MAP_PROJECTION_TYPE = SINUSOIDAL
  MAP_RESOLUTION = 1185.42760773333
  MAP_SCALE = 0.05
  MAXIMUM_LATITUDE = -59.349
  MINIMUM_LATITUDE = -71.83369999999999
  POSITIVE_LONGITUDE_DIRECTION = EAST
  REFERENCE_LATITUDE = "N/A"
  REFERENCE_LONGITUDE = "N/A"
  SAMPLE_FIRST_PIXEL = 1
  SAMPLE_LAST_PIXEL = 3238
  SAMPLE_PROJECTION_OFFSET = 1301.625
  SECOND_STANDARD_PARALLEL = "N/A"
  WESTERNMOST_LONGITUDE = 89.59699999999999
END_OBJECT = IMAGE_MAP_PROJECTION
END
