PDS_VERSION_ID = PDS3
/* FILE DATA ELEMENTS */
RECORD_TYPE = UNDEFINED
/* POINTERS TO DATA OBJECTS */
^IMAGE = ("H2493_0001_S14.TIF")
/* IDENTIFICATION DATA ELEMENTS */
DATA_SET_ID = "MEX-M-HRSC-4-REFDR-MAPPROJECT-EXT1-V4.0"
DATA_SET_NAME = "MARS EXPRESS HRSC MAP PROJECTED REFDR EXTENSION1 V4.0"
DETECTOR_ID = MEX_HRSC_S1
EVENT_TYPE = "MARS-GLOBAL-MAPPING-Te-Im-Fl"
INSTRUMENT_HOST_ID = MEX
INSTRUMENT_HOST_NAME = "MARS EXPRESS"
INSTRUMENT_ID = HRSC
INSTRUMENT_NAME = "HIGH RESOLUTION STEREO CAMERA"
MISSION_NAME = "MARS EXPRESS"
MISSION_PHASE_NAME = ME_Phase_1
PROCESSING_LEVEL_ID = 4
PRODUCT_CREATION_TIME = 2023-02-08T07:05:14.000Z
PRODUCT_ID = "H2493_0001_S14.TIF"
RELEASE_ID = 0001
REVISION_ID = 0000
/* QUALITY DATA ELEMENTS */
DATA_QUALITY_ID = 1
DATA_QUALITY_DESC = "Data calculated based on original SPICE kernels"
/* TIME DATA ELEMENTS */
SPACECRAFT_CLOCK_START_COUNT = "1/0083269716.57950"
SPACECRAFT_CLOCK_STOP_COUNT = "1/0083270275.36042"
START_TIME = 2005-12-21T18:28:43.736Z
STOP_TIME = 2005-12-21T18:32:01.116Z
/* ORBITAL DATA ELEMENTS */
ASCENDING_NODE_LONGITUDE = 175.94
MAXIMUM_RESOLUTION = 0.065
FOOTPRINT_POINT_LATITUDE = (-27.7479,-27.7549,-27.7611,-27.766, -27.7674,-27.7648,-27.7583,-27.7578, -27.7256,-27.319,-26.8018,-26.4878, -26.0698,-25.6456,-25.1107,-24.6796, -24.2445,-24.0256,-23.8038,-23.5835, -23.3632,-23.1413,-22.8047,-22.4651, -22.2381,-22.0085,-21.6603,-21.3102, -21.0769,-20.8442,-20.4954,-20.2633, -20.0324,-19.8008,-19.5704,-19.225, -18.9962,-18.7681,-18.5405,-18.2005, -17.9734,-17.7452,-17.5197,-17.2946, -17.0718,-16.7365,-16.6221,-16.5207, -16.5397,-16.5565,-16.5644,-16.5803, -16.5857,-16.5913,-16.5955,-16.5975, -16.5972,-16.5969,-16.5977,-16.8201, -17.0437,-17.3784,-17.6023,-17.8267, -18.0517,-18.2763,-18.5014,-18.8401, -19.1798,-19.4067,-19.6348,-19.8652, -20.0978,-20.3301,-20.5565,-20.7853, -21.0128,-21.2419,-21.4718,-21.7024, -22.0472,-22.3902,-22.6173,-22.8427, -23.0667,-23.2893,-23.5107,-23.7332, -24.0613,-24.28,-24.6091,-25.1411, -25.5517,-25.9699,-26.3859,-26.7984, -27.2189,-27.5297,-27.6299,-27.7479)
FOOTPRINT_POINT_LONGITUDE = (325.308,325.658,326.066,326.561,327.26 ,327.726,328.281,328.31,328.33,328.338, 328.349,328.356,328.363,328.371,328.38, 328.387,328.394,328.397,328.4,328.403, 328.405,328.408,328.412,328.416,328.418 ,328.421,328.426,328.43,328.433,328.436 ,328.441,328.444,328.446,328.449, 328.452,328.456,328.458,328.46,328.462, 328.465,328.467,328.47,328.471,328.473, 328.474,328.476,328.477,328.479,328.046 ,327.612,327.145,326.786,326.498, 326.139,325.672,325.24,324.808,324.772, 324.759,324.774,324.788,324.809,324.823 ,324.837,324.851,324.864,324.878, 324.898,324.917,324.93,324.943,324.957, 324.971,324.984,324.996,325.008,325.019 ,325.031,325.042,325.053,325.07,325.087 ,325.098,325.109,325.119,325.129, 325.138,325.148,325.162,325.172,325.187 ,325.207,325.219,325.233,325.248, 325.263,325.28,325.293,325.296,325.308)
ORBIT_NUMBER = 2493
ORBITAL_ECCENTRICITY = 0.572
ORBITAL_INCLINATION = 86.63
ORBITAL_SEMIMAJOR_AXIS = 8528.69
PERIAPSIS_ALTITUDE = 276.76
PERIAPSIS_ARGUMENT_ANGLE = 280.13
PERIAPSIS_TIME = 2005-12-21T18:15:50.000Z
SPACECRAFT_ORIENTATION = (0.0,-1.0,0.0)
^MEX_ORIENTATION_DESC = "MEX_ORIENTATION_DESC.TXT"
SPACECRAFT_POINTING_MODE = NADIR
^MEX_POINTING_DESC = "MEX_POINTING_DESC.TXT"
RIGHT_ASCENSION = -1e+32
DECLINATION = -1e+32
OFFSET_ANGLE = -1e+32
SPACECRAFT_SOLAR_DISTANCE = 2.27081e+08
TARGET_NAME = MARS
/* CAMERA DATA ELEMENTS */
DETECTOR_TEMPERATURE = 18.7783
FOCAL_PLANE_TEMPERATURE = 8.5833
INST_CMPRS_NAME = "DISCRETE COSINE TRANSFORMATION (DCT)"
INST_CMPRS_RATIO = 11.0206
INST_CMPRS_QUALITY = 0
INST_CMPRS_QUANTZ_TBL_ID = 0
INSTRUMENT_TEMPERATURE = 12.8652
LENS_TEMPERATURE = 9.195
MACROPIXEL_SIZE = 2
MISSING_FRAMES = 0
PIXEL_SUBSAMPLING_FLAG = N
SIGNAL_CHAIN_ID = 1
/* RADIOMETRIC DATA ELEMENTS */
BANDWIDTH = 180.0
CENTER_FILTER_WAVELENGTH = 677.0
RADIANCE_OFFSET = 4.87754
RADIANCE_SCALING_FACTOR = 0.0166249
REFLECTANCE_SCALING_FACTOR = 0.000447272
MEX:REFLECTANCE_OFFSET = 0.131224
/* IMAGE OBJECT DEFINITIONS */
OBJECT = IMAGE
  INTERCHANGE_FORMAT = BINARY
  LINES = 13289
  LINE_SAMPLES = 4915
  SAMPLE_TYPE = UNSIGNED_INTEGER
  SAMPLE_BITS = 8
  BANDS = 1
  BAND_STORAGE_TYPE = BAND_SEQUENTIAL
  MAXIMUM = 255
  MEAN = 86.7113
  MINIMUM = 1
  STANDARD_DEVIATION = 25.8031
END_OBJECT = IMAGE
/* MAP OBJECT DEFINITIONS */
OBJECT = IMAGE_MAP_PROJECTION
  ^DATA_SET_MAP_PROJECTION_CATALOG= "DSMAP.CAT"
  A_AXIS_RADIUS = 3396.0
  B_AXIS_RADIUS = 3396.0
  C_AXIS_RADIUS = 3396.0
  CENTER_LATITUDE = 0.0
  CENTER_LONGITUDE = 327.0
  COORDINATE_SYSTEM_NAME = PLANETOGRAPHIC
  COORDINATE_SYSTEM_TYPE = "BODY-FIXED ROTATING"
  EASTERNMOST_LONGITUDE = 328.479
  FIRST_STANDARD_PARALLEL = "N/A"
  LINE_FIRST_PIXEL = 1
  LINE_LAST_PIXEL = 13289
  LINE_PROJECTION_OFFSET = -19602.75
  MAP_PROJECTION_ROTATION = 0.0
  MAP_PROJECTION_TYPE = SINUSOIDAL
  MAP_RESOLUTION = 1185.42760773333
  MAP_SCALE = 0.05
  MAXIMUM_LATITUDE = -16.5207
  MINIMUM_LATITUDE = -27.7674
  POSITIVE_LONGITUDE_DIRECTION = EAST
  REFERENCE_LATITUDE = "N/A"
  REFERENCE_LONGITUDE = "N/A"
  SAMPLE_FIRST_PIXEL = 1
  SAMPLE_LAST_PIXEL = 4915
  SAMPLE_PROJECTION_OFFSET = 2929.25
  SECOND_STANDARD_PARALLEL = "N/A"
  WESTERNMOST_LONGITUDE = 324.759
END_OBJECT = IMAGE_MAP_PROJECTION
END
