PDS_VERSION_ID = PDS3
/* FILE DATA ELEMENTS */
RECORD_TYPE = UNDEFINED
/* POINTERS TO DATA OBJECTS */
^IMAGE = ("H2491_0000_RE4.TIF")
/* IDENTIFICATION DATA ELEMENTS */
DATA_SET_ID = "MEX-M-HRSC-4-REFDR-MAPPROJECT-EXT1-V4.0"
DATA_SET_NAME = "MARS EXPRESS HRSC MAP PROJECTED REFDR EXTENSION1 V4.0"
DETECTOR_ID = MEX_HRSC_RED
EVENT_TYPE = "MARS-REGIONAL-STEREO-Gl-Pf-La"
INSTRUMENT_HOST_ID = MEX
INSTRUMENT_HOST_NAME = "MARS EXPRESS"
INSTRUMENT_ID = HRSC
INSTRUMENT_NAME = "HIGH RESOLUTION STEREO CAMERA"
MISSION_NAME = "MARS EXPRESS"
MISSION_PHASE_NAME = ME_Phase_1
PROCESSING_LEVEL_ID = 4
PRODUCT_CREATION_TIME = 2023-02-08T07:05:14.000Z
PRODUCT_ID = "H2491_0000_RE4.TIF"
RELEASE_ID = 0001
REVISION_ID = 0000
/* QUALITY DATA ELEMENTS */
DATA_QUALITY_ID = 1
DATA_QUALITY_DESC = "Data calculated based on original SPICE kernels"
/* TIME DATA ELEMENTS */
SPACECRAFT_CLOCK_START_COUNT = "1/0083220508.57955"
SPACECRAFT_CLOCK_STOP_COUNT = "1/0083220879.32247"
START_TIME = 2005-12-21T04:49:20.482Z
STOP_TIME = 2005-12-21T04:54:38.867Z
/* ORBITAL DATA ELEMENTS */
ASCENDING_NODE_LONGITUDE = 175.98
MAXIMUM_RESOLUTION = 0.091
FOOTPRINT_POINT_LATITUDE = (-81.5331,-81.7137,-81.9049,-81.908, -81.9814,-81.2496,-80.8735,-80.4963, -80.1189,-79.7411,-79.3622,-78.9832, -78.415,-78.0299,-77.6483,-77.265, -76.8819,-76.3058,-75.9223,-75.5389, -74.9631,-74.3863,-73.8039,-73.4053, -73.0091,-72.6095,-72.2131,-71.6192, -71.2218,-70.8279,-70.4152,-69.7956, -69.3835,-68.9715,-68.5697,-68.1451, -67.7219,-67.2991,-66.8797,-66.2385, -65.8047,-65.3743,-64.9417,-64.4987, -64.0542,-63.6103,-62.9305,-62.4738, -62.0193,-61.7926,-61.7108,-61.6623, -61.6024,-61.6011,-61.602,-62.0571, -62.5125,-62.9687,-63.421,-63.8627, -64.3069,-64.7554,-65.18,-65.6108, -66.0421,-66.4733,-66.8916,-67.5187, -67.9376,-68.3561,-68.7604,-69.1726, -69.7788,-70.187,-70.7954,-71.3861, -71.7794,-72.1704,-72.5648,-72.9588, -73.3511,-73.9359,-74.5029,-75.0703, -75.8251,-76.2018,-76.5782,-77.1423, -77.5172,-78.0782,-78.6313,-79.0004, -79.3678,-79.7334,-80.0967,-80.458, -80.8182,-81.3435,-81.5185,-81.5331)
FOOTPRINT_POINT_LONGITUDE = (139.568,142.098,145.186,145.241, 145.115,147.174,148.088,148.926,149.698 ,150.411,151.071,151.684,152.526, 153.045,153.528,153.982,154.408,155.001 ,155.369,155.715,156.201,156.65,157.07, 157.34,157.596,157.84,158.072,158.4, 158.607,158.804,159.0,159.277,159.452, 159.62,159.781,159.939,160.092,160.239, 160.38,160.584,160.716,160.842,160.964, 161.085,161.201,161.313,161.476,161.581 ,161.681,161.73,161.748,160.39,159.245, 159.221,159.205,159.091,158.974,158.852 ,158.727,158.601,158.466,158.32,158.19, 158.044,157.892,157.732,157.57,157.317, 157.138,156.951,156.764,156.55,156.243, 156.016,155.656,155.283,155.021,154.754 ,154.463,154.158,153.843,153.338, 152.807,152.227,151.378,150.916,150.424 ,149.624,149.048,148.108,147.101, 146.356,145.557,144.696,143.769,142.762 ,141.656,139.907,139.254,139.568)
ORBIT_NUMBER = 2491
ORBITAL_ECCENTRICITY = 0.572
ORBITAL_INCLINATION = 86.62
ORBITAL_SEMIMAJOR_AXIS = 8530.68
PERIAPSIS_ALTITUDE = 276.8
PERIAPSIS_ARGUMENT_ANGLE = 280.47
PERIAPSIS_TIME = 2005-12-21T04:49:47.000Z
SPACECRAFT_ORIENTATION = (0.0,-1.0,0.0)
^MEX_ORIENTATION_DESC = "MEX_ORIENTATION_DESC.TXT"
SPACECRAFT_POINTING_MODE = ACROSSTRACK
^MEX_POINTING_DESC = "MEX_POINTING_DESC.TXT"
RIGHT_ASCENSION = -1e+32
DECLINATION = -1e+32
OFFSET_ANGLE = 0.3
SPACECRAFT_SOLAR_DISTANCE = 2.26972e+08
TARGET_NAME = MARS
/* CAMERA DATA ELEMENTS */
DETECTOR_TEMPERATURE = 18.5744
FOCAL_PLANE_TEMPERATURE = 7.7677
INST_CMPRS_NAME = "DISCRETE COSINE TRANSFORMATION (DCT)"
INST_CMPRS_RATIO = 33.9383
INST_CMPRS_QUALITY = 0
INST_CMPRS_QUANTZ_TBL_ID = 0
INSTRUMENT_TEMPERATURE = 11.6418
LENS_TEMPERATURE = 8.7872
MACROPIXEL_SIZE = 8
MISSING_FRAMES = 0
PIXEL_SUBSAMPLING_FLAG = N
SIGNAL_CHAIN_ID = 2
/* RADIOMETRIC DATA ELEMENTS */
BANDWIDTH = 48.0
CENTER_FILTER_WAVELENGTH = 748.0
RADIANCE_OFFSET = 0.426465
RADIANCE_SCALING_FACTOR = 0.00401379
REFLECTANCE_SCALING_FACTOR = 0.000471871
MEX:REFLECTANCE_OFFSET = 0.0501363
/* IMAGE OBJECT DEFINITIONS */
OBJECT = IMAGE
  INTERCHANGE_FORMAT = BINARY
  LINES = 12089
  LINE_SAMPLES = 3078
  SAMPLE_TYPE = UNSIGNED_INTEGER
  SAMPLE_BITS = 8
  BANDS = 1
  BAND_STORAGE_TYPE = BAND_SEQUENTIAL
  MAXIMUM = 255
  MEAN = 127.493
  MINIMUM = 4
  STANDARD_DEVIATION = 56.6281
END_OBJECT = IMAGE
/* MAP OBJECT DEFINITIONS */
OBJECT = IMAGE_MAP_PROJECTION
  ^DATA_SET_MAP_PROJECTION_CATALOG= "DSMAP.CAT"
  A_AXIS_RADIUS = 3396.0
  B_AXIS_RADIUS = 3396.0
  C_AXIS_RADIUS = 3396.0
  CENTER_LATITUDE = 0.0
  CENTER_LONGITUDE = 156.0
  COORDINATE_SYSTEM_NAME = PLANETOGRAPHIC
  COORDINATE_SYSTEM_TYPE = "BODY-FIXED ROTATING"
  EASTERNMOST_LONGITUDE = 161.748
  FIRST_STANDARD_PARALLEL = "N/A"
  LINE_FIRST_PIXEL = 1
  LINE_LAST_PIXEL = 12089
  LINE_PROJECTION_OFFSET = -36528.8125
  MAP_PROJECTION_ROTATION = 0.0
  MAP_PROJECTION_TYPE = SINUSOIDAL
  MAP_RESOLUTION = 592.713803866667
  MAP_SCALE = 0.1
  MAXIMUM_LATITUDE = -61.6011
  MINIMUM_LATITUDE = -81.98139999999999
  POSITIVE_LONGITUDE_DIRECTION = EAST
  REFERENCE_LATITUDE = "N/A"
  REFERENCE_LONGITUDE = "N/A"
  SAMPLE_FIRST_PIXEL = 1
  SAMPLE_LAST_PIXEL = 3078
  SAMPLE_PROJECTION_OFFSET = 1477.6875
  SECOND_STANDARD_PARALLEL = "N/A"
  WESTERNMOST_LONGITUDE = 139.254
END_OBJECT = IMAGE_MAP_PROJECTION
END
