PDS_VERSION_ID = PDS3
/* FILE DATA ELEMENTS */
RECORD_TYPE = UNDEFINED
/* POINTERS TO DATA OBJECTS */
^IMAGE = ("H2491_0000_P14.TIF")
/* IDENTIFICATION DATA ELEMENTS */
DATA_SET_ID = "MEX-M-HRSC-4-REFDR-MAPPROJECT-EXT1-V4.0"
DATA_SET_NAME = "MARS EXPRESS HRSC MAP PROJECTED REFDR EXTENSION1 V4.0"
DETECTOR_ID = MEX_HRSC_P1
EVENT_TYPE = "MARS-REGIONAL-STEREO-Gl-Pf-La"
INSTRUMENT_HOST_ID = MEX
INSTRUMENT_HOST_NAME = "MARS EXPRESS"
INSTRUMENT_ID = HRSC
INSTRUMENT_NAME = "HIGH RESOLUTION STEREO CAMERA"
MISSION_NAME = "MARS EXPRESS"
MISSION_PHASE_NAME = ME_Phase_1
PROCESSING_LEVEL_ID = 4
PRODUCT_CREATION_TIME = 2023-02-08T07:05:14.000Z
PRODUCT_ID = "H2491_0000_P14.TIF"
RELEASE_ID = 0001
REVISION_ID = 0000
/* QUALITY DATA ELEMENTS */
DATA_QUALITY_ID = 1
DATA_QUALITY_DESC = "Data calculated based on original SPICE kernels"
/* TIME DATA ELEMENTS */
SPACECRAFT_CLOCK_START_COUNT = "1/0083220508.57955"
SPACECRAFT_CLOCK_STOP_COUNT = "1/0083220879.32247"
START_TIME = 2005-12-21T04:48:44.220Z
STOP_TIME = 2005-12-21T04:53:52.848Z
/* ORBITAL DATA ELEMENTS */
ASCENDING_NODE_LONGITUDE = 175.98
MAXIMUM_RESOLUTION = 0.0223
FOOTPRINT_POINT_LATITUDE = (-81.6657,-82.0874,-82.0911,-82.0433, -81.6796,-81.3093,-80.7569,-80.3855, -80.0112,-79.6345,-79.256,-78.8752, -78.4903,-77.7271,-77.3425,-76.9565, -76.57,-76.1826,-75.794,-75.4017, -75.0089,-74.4238,-73.8359,-73.4437, -73.0497,-72.6577,-72.066,-71.6712, -71.2637,-70.6463,-70.0352,-69.626, -69.2172,-68.8036,-68.1849,-67.7586, -67.118,-66.6907,-66.2647,-65.8369, -65.3932,-64.9509,-64.508,-64.0658, -63.3871,-62.9303,-62.4746,-62.0154, -61.7794,-61.7651,-61.6344,-61.6328, -61.6327,-62.095,-62.5475,-63.0008, -63.4554,-63.9042,-64.3414,-65.0036, -65.4429,-65.8761,-66.3009,-66.7247, -67.3626,-67.7863,-68.4122,-68.8215, -69.2238,-69.6366,-70.0418,-70.4467, -70.8518,-71.4583,-71.8482,-72.2401, -72.6282,-73.211,-73.5996,-74.179, -74.565,-74.949,-75.3371,-75.72, -76.1013,-76.4809,-76.8589,-77.2346, -77.6073,-77.98,-78.354,-78.9102, -79.2763,-79.6397,-79.9997,-80.7056, -81.0608,-81.4079,-81.5782,-81.6657)
FOOTPRINT_POINT_LONGITUDE = (139.014,144.699,144.757,145.003, 146.081,147.082,148.406,149.204,149.945 ,150.634,151.275,151.874,152.439, 153.441,153.899,154.33,154.736,155.118, 155.481,155.826,156.153,156.607,157.03, 157.294,157.547,157.786,158.127,158.342 ,158.553,158.857,159.134,159.311,159.48 ,159.646,159.879,160.032,160.251,160.39 ,160.523,160.651,160.78,160.903,161.022 ,161.136,161.303,161.41,161.512,161.612 ,161.662,161.665,159.306,159.283, 159.274,159.156,159.038,158.915,158.787 ,158.657,158.521,158.313,158.164, 158.012,157.857,157.693,157.439,157.257 ,156.977,156.785,156.574,156.369, 156.144,155.909,155.663,155.276,155.012 ,154.74,154.45,153.99,153.665,153.142, 152.771,152.379,151.958,151.521,151.059 ,150.568,150.048,149.494,148.904, 148.279,147.617,146.538,145.752,144.909 ,144.004,141.976,140.85,139.627,138.976 ,139.014)
ORBIT_NUMBER = 2491
ORBITAL_ECCENTRICITY = 0.572
ORBITAL_INCLINATION = 86.62
ORBITAL_SEMIMAJOR_AXIS = 8530.68
PERIAPSIS_ALTITUDE = 276.8
PERIAPSIS_ARGUMENT_ANGLE = 280.47
PERIAPSIS_TIME = 2005-12-21T04:49:47.000Z
SPACECRAFT_ORIENTATION = (0.0,-1.0,0.0)
^MEX_ORIENTATION_DESC = "MEX_ORIENTATION_DESC.TXT"
SPACECRAFT_POINTING_MODE = ACROSSTRACK
^MEX_POINTING_DESC = "MEX_POINTING_DESC.TXT"
RIGHT_ASCENSION = -1e+32
DECLINATION = -1e+32
OFFSET_ANGLE = 0.3
SPACECRAFT_SOLAR_DISTANCE = 2.26972e+08
TARGET_NAME = MARS
/* CAMERA DATA ELEMENTS */
DETECTOR_TEMPERATURE = 17.351
FOCAL_PLANE_TEMPERATURE = 7.7677
INST_CMPRS_NAME = "DISCRETE COSINE TRANSFORMATION (DCT)"
INST_CMPRS_RATIO = 16.495
INST_CMPRS_QUALITY = 0
INST_CMPRS_QUANTZ_TBL_ID = 0
INSTRUMENT_TEMPERATURE = 11.6418
LENS_TEMPERATURE = 8.7872
MACROPIXEL_SIZE = 2
PIXEL_SUBSAMPLING_FLAG = N
SIGNAL_CHAIN_ID = 3
/* RADIOMETRIC DATA ELEMENTS */
BANDWIDTH = 174.0
CENTER_FILTER_WAVELENGTH = 675.0
RADIANCE_OFFSET = 1.81327
RADIANCE_SCALING_FACTOR = 0.013891
REFLECTANCE_SCALING_FACTOR = 0.000384914
MEX:REFLECTANCE_OFFSET = 0.0502451
/* IMAGE OBJECT DEFINITIONS */
OBJECT = IMAGE
  INTERCHANGE_FORMAT = BINARY
  LINES = 48356
  LINE_SAMPLES = 12311
  SAMPLE_TYPE = UNSIGNED_INTEGER
  SAMPLE_BITS = 8
  BANDS = 1
  BAND_STORAGE_TYPE = BAND_SEQUENTIAL
  MAXIMUM = 255
  MEAN = 113.686
  MINIMUM = 1
  STANDARD_DEVIATION = 49.2325
END_OBJECT = IMAGE
/* MAP OBJECT DEFINITIONS */
OBJECT = IMAGE_MAP_PROJECTION
  ^DATA_SET_MAP_PROJECTION_CATALOG= "DSMAP.CAT"
  A_AXIS_RADIUS = 3396.0
  B_AXIS_RADIUS = 3396.0
  C_AXIS_RADIUS = 3396.0
  CENTER_LATITUDE = 0.0
  CENTER_LONGITUDE = 156.0
  COORDINATE_SYSTEM_NAME = PLANETOGRAPHIC
  COORDINATE_SYSTEM_TYPE = "BODY-FIXED ROTATING"
  EASTERNMOST_LONGITUDE = 161.665
  FIRST_STANDARD_PARALLEL = "N/A"
  LINE_FIRST_PIXEL = 1
  LINE_LAST_PIXEL = 48356
  LINE_PROJECTION_OFFSET = -146113.75
  MAP_PROJECTION_ROTATION = 0.0
  MAP_PROJECTION_TYPE = SINUSOIDAL
  MAP_RESOLUTION = 2370.85521546667
  MAP_SCALE = 0.025
  MAXIMUM_LATITUDE = -61.6327
  MINIMUM_LATITUDE = -82.0911
  POSITIVE_LONGITUDE_DIRECTION = EAST
  REFERENCE_LATITUDE = "N/A"
  REFERENCE_LONGITUDE = "N/A"
  SAMPLE_FIRST_PIXEL = 1
  SAMPLE_LAST_PIXEL = 12311
  SAMPLE_PROJECTION_OFFSET = 5912.25
  SECOND_STANDARD_PARALLEL = "N/A"
  WESTERNMOST_LONGITUDE = 138.976
END_OBJECT = IMAGE_MAP_PROJECTION
END
