PDS_VERSION_ID = PDS3
/* FILE DATA ELEMENTS */
RECORD_TYPE = UNDEFINED
/* POINTERS TO DATA OBJECTS */
^IMAGE = ("H2484_0000_P14.TIF")
/* IDENTIFICATION DATA ELEMENTS */
DATA_SET_ID = "MEX-M-HRSC-4-REFDR-MAPPROJECT-EXT1-V4.0"
DATA_SET_NAME = "MARS EXPRESS HRSC MAP PROJECTED REFDR EXTENSION1 V4.0"
DETECTOR_ID = MEX_HRSC_P1
EVENT_TYPE = "MARS-REGIONAL-MAPPING-Te-Fl-Gl"
INSTRUMENT_HOST_ID = MEX
INSTRUMENT_HOST_NAME = "MARS EXPRESS"
INSTRUMENT_ID = HRSC
INSTRUMENT_NAME = "HIGH RESOLUTION STEREO CAMERA"
MISSION_NAME = "MARS EXPRESS"
MISSION_PHASE_NAME = ME_Phase_1
PROCESSING_LEVEL_ID = 4
PRODUCT_CREATION_TIME = 2023-02-08T07:05:14.000Z
PRODUCT_ID = "H2484_0000_P14.TIF"
RELEASE_ID = 0001
REVISION_ID = 0000
/* QUALITY DATA ELEMENTS */
DATA_QUALITY_ID = 1
DATA_QUALITY_DESC = "Data calculated based on original SPICE kernels"
/* TIME DATA ELEMENTS */
SPACECRAFT_CLOCK_START_COUNT = "1/0083051440.57977"
SPACECRAFT_CLOCK_STOP_COUNT = "1/0083051767.49944"
START_TIME = 2005-12-19T05:50:56.268Z
STOP_TIME = 2005-12-19T05:55:02.988Z
/* ORBITAL DATA ELEMENTS */
ASCENDING_NODE_LONGITUDE = 176.13
MAXIMUM_RESOLUTION = 0.0478
FOOTPRINT_POINT_LATITUDE = (-67.2036,-67.2656,-67.3293,-67.3303, -67.276,-66.8556,-66.57,-66.14,-65.8499 ,-65.4217,-65.1349,-64.7048,-64.4115, -64.1131,-63.6661,-63.3693,-63.0741, -62.7766,-62.4718,-62.1643,-61.8579, -61.5512,-61.2446,-60.9377,-60.6205, -60.3028,-59.8282,-59.5112,-59.023, -58.6968,-58.37,-58.0442,-57.7188, -57.3951,-57.071,-56.584,-56.2591, -55.9316,-55.6099,-55.0607,-54.6761, -54.2902,-53.7136,-53.3285,-52.9446, -52.5616,-52.179,-51.7972,-51.2257, -51.0318,-50.9414,-50.9103,-50.8899, -50.8667,-50.8659,-50.8666,-51.442, -51.8197,-52.2014,-52.5772,-52.9595, -53.3455,-53.9207,-54.3063,-54.6944, -55.2734,-55.6095,-55.9305,-56.4165, -56.7405,-57.2262,-57.7127,-58.0373, -58.3623,-58.6882,-59.0136,-59.4964, -59.8126,-60.2865,-60.6037,-60.9186, -61.2239,-61.5299,-61.8349,-62.1409, -62.5987,-63.042,-63.3373,-63.6329, -63.9287,-64.2242,-64.5195,-65.0896, -65.3753,-65.8035,-66.0901,-66.3755, -66.9433,-67.0807,-67.2036)
FOOTPRINT_POINT_LONGITUDE = (126.137,127.241,128.582,128.605, 128.696,128.819,128.899,129.016,129.097 ,129.204,129.276,129.38,129.446,129.515 ,129.616,129.679,129.739,129.8,129.862, 129.922,129.98,130.036,130.091,130.145, 130.2,130.254,130.331,130.382,130.459, 130.507,130.555,130.601,130.646,130.689 ,130.731,130.793,130.834,130.877, 130.914,130.979,131.022,131.065,131.126 ,131.166,131.205,131.243,131.279, 131.315,131.366,131.383,131.391,130.305 ,129.762,129.179,129.158,129.151, 129.104,129.07,129.036,128.997,128.961, 128.925,128.865,128.825,128.784,128.717 ,128.676,128.633,128.57,128.526,128.457 ,128.384,128.334,128.283,128.23,128.175 ,128.092,128.036,127.947,127.886, 127.824,127.761,127.697,127.629,127.561 ,127.454,127.346,127.271,127.195, 127.116,127.034,126.951,126.782,126.694 ,126.558,126.465,126.368,126.166, 126.115,126.137)
ORBIT_NUMBER = 2484
ORBITAL_ECCENTRICITY = 0.572
ORBITAL_INCLINATION = 86.62
ORBITAL_SEMIMAJOR_AXIS = 8531.84
PERIAPSIS_ALTITUDE = 276.28
PERIAPSIS_ARGUMENT_ANGLE = 281.68
PERIAPSIS_TIME = 2005-12-19T05:48:31.000Z
SPACECRAFT_ORIENTATION = (0.0,-1.0,0.0)
^MEX_ORIENTATION_DESC = "MEX_ORIENTATION_DESC.TXT"
SPACECRAFT_POINTING_MODE = NADIR
^MEX_POINTING_DESC = "MEX_POINTING_DESC.TXT"
RIGHT_ASCENSION = -1e+32
DECLINATION = -1e+32
OFFSET_ANGLE = -1e+32
SPACECRAFT_SOLAR_DISTANCE = 2.26589e+08
TARGET_NAME = MARS
/* CAMERA DATA ELEMENTS */
DETECTOR_TEMPERATURE = 17.351
FOCAL_PLANE_TEMPERATURE = 8.7872
INST_CMPRS_NAME = "DISCRETE COSINE TRANSFORMATION (DCT)"
INST_CMPRS_RATIO = 15.7523
INST_CMPRS_QUALITY = 0
INST_CMPRS_QUANTZ_TBL_ID = 0
INSTRUMENT_TEMPERATURE = 11.234
LENS_TEMPERATURE = 8.7872
MACROPIXEL_SIZE = 4
MISSING_FRAMES = 0
PIXEL_SUBSAMPLING_FLAG = N
SIGNAL_CHAIN_ID = 3
/* RADIOMETRIC DATA ELEMENTS */
BANDWIDTH = 174.0
CENTER_FILTER_WAVELENGTH = 675.0
RADIANCE_OFFSET = 2.89437
RADIANCE_SCALING_FACTOR = 0.012826
REFLECTANCE_SCALING_FACTOR = 0.000354206
MEX:REFLECTANCE_OFFSET = 0.0799314
/* IMAGE OBJECT DEFINITIONS */
OBJECT = IMAGE
  INTERCHANGE_FORMAT = BINARY
  LINES = 19462
  LINE_SAMPLES = 3176
  SAMPLE_TYPE = UNSIGNED_INTEGER
  SAMPLE_BITS = 8
  BANDS = 1
  BAND_STORAGE_TYPE = BAND_SEQUENTIAL
  MAXIMUM = 255
  MEAN = 112.402
  MINIMUM = 1
  STANDARD_DEVIATION = 38.773
END_OBJECT = IMAGE
/* MAP OBJECT DEFINITIONS */
OBJECT = IMAGE_MAP_PROJECTION
  ^DATA_SET_MAP_PROJECTION_CATALOG= "DSMAP.CAT"
  A_AXIS_RADIUS = 3396.0
  B_AXIS_RADIUS = 3396.0
  C_AXIS_RADIUS = 3396.0
  CENTER_LATITUDE = 0.0
  CENTER_LONGITUDE = 129.0
  COORDINATE_SYSTEM_NAME = PLANETOGRAPHIC
  COORDINATE_SYSTEM_TYPE = "BODY-FIXED ROTATING"
  EASTERNMOST_LONGITUDE = 131.391
  FIRST_STANDARD_PARALLEL = "N/A"
  LINE_FIRST_PIXEL = 1
  LINE_LAST_PIXEL = 19462
  LINE_PROJECTION_OFFSET = -60283.125
  MAP_PROJECTION_ROTATION = 0.0
  MAP_PROJECTION_TYPE = SINUSOIDAL
  MAP_RESOLUTION = 1185.42760773333
  MAP_SCALE = 0.05
  MAXIMUM_LATITUDE = -50.8659
  MINIMUM_LATITUDE = -67.33029999999999
  POSITIVE_LONGITUDE_DIRECTION = EAST
  REFERENCE_LATITUDE = "N/A"
  REFERENCE_LONGITUDE = "N/A"
  SAMPLE_FIRST_PIXEL = 1
  SAMPLE_LAST_PIXEL = 3176
  SAMPLE_PROJECTION_OFFSET = 1348.125
  SECOND_STANDARD_PARALLEL = "N/A"
  WESTERNMOST_LONGITUDE = 126.115
END_OBJECT = IMAGE_MAP_PROJECTION
END
