PDS_VERSION_ID = PDS3
/* FILE DATA ELEMENTS */
RECORD_TYPE = UNDEFINED
/* POINTERS TO DATA OBJECTS */
^IMAGE = ("H2483_0000_GR4.TIF")
/* IDENTIFICATION DATA ELEMENTS */
DATA_SET_ID = "MEX-M-HRSC-4-REFDR-MAPPROJECT-EXT1-V4.0"
DATA_SET_NAME = "MARS EXPRESS HRSC MAP PROJECTED REFDR EXTENSION1 V4.0"
DETECTOR_ID = MEX_HRSC_GREEN
EVENT_TYPE = "MARS-REGIONAL-MAPPING-Te-Im"
INSTRUMENT_HOST_ID = MEX
INSTRUMENT_HOST_NAME = "MARS EXPRESS"
INSTRUMENT_ID = HRSC
INSTRUMENT_NAME = "HIGH RESOLUTION STEREO CAMERA"
MISSION_NAME = "MARS EXPRESS"
MISSION_PHASE_NAME = ME_Phase_1
PROCESSING_LEVEL_ID = 4
PRODUCT_CREATION_TIME = 2023-02-08T07:05:14.000Z
PRODUCT_ID = "H2483_0000_GR4.TIF"
RELEASE_ID = 0001
REVISION_ID = 0000
/* QUALITY DATA ELEMENTS */
DATA_QUALITY_ID = 1
DATA_QUALITY_DESC = "Data calculated based on original SPICE kernels"
/* TIME DATA ELEMENTS */
SPACECRAFT_CLOCK_START_COUNT = "1/0083027111.56206"
SPACECRAFT_CLOCK_STOP_COUNT = "1/0083027450.38170"
START_TIME = 2005-12-18T23:05:38.504Z
STOP_TIME = 2005-12-18T23:10:16.343Z
/* ORBITAL DATA ELEMENTS */
ASCENDING_NODE_LONGITUDE = 176.15
MAXIMUM_RESOLUTION = 0.0435
FOOTPRINT_POINT_LATITUDE = (-76.5472,-76.685,-76.7615,-76.7632, -76.7549,-76.4477,-76.1402,-75.6783, -75.37,-74.9071,-74.5982,-73.0366, -72.418,-72.1081,-71.6431,-71.1784, -70.4034,-70.083,-69.7609,-69.4387, -69.1154,-68.7931,-68.4711,-68.1504, -67.8279,-67.5064,-67.179,-66.8451, -66.5113,-66.1776,-65.8442,-65.511, -65.1781,-64.8379,-64.4385,-63.9217, -63.5711,-63.2274,-62.6975,-62.3421, -61.9871,-61.4551,-61.0889,-60.7227, -60.3571,-59.9918,-59.6172,-59.2409, -58.6704,-58.4824,-58.4464,-58.4213, -58.3844,-58.3504,-58.3493,-58.3498, -58.7309,-59.1056,-59.4809,-60.0374, -60.4007,-60.7666,-61.1317,-61.4918, -61.8453,-62.199,-62.5531,-63.0821, -63.4247,-63.7738,-64.2885,-64.6858, -65.0256,-65.357,-65.6887,-66.0203, -66.3523,-66.6843,-67.0164,-67.3434, -67.6634,-68.1435,-68.4637,-68.7824, -69.2622,-69.5818,-69.9018,-70.221, -71.1438,-71.7581,-72.8313,-74.3738, -74.6784,-74.9828,-75.2866,-75.7412, -76.0441,-76.346,-76.4965,-76.5472)
FOOTPRINT_POINT_LONGITUDE = (218.077,220.334,221.78,221.816,221.958 ,222.238,222.503,222.882,223.121,223.46 ,223.676,224.636,224.958,225.116, 225.341,225.552,225.884,226.011,226.134 ,226.256,226.381,226.495,226.604, 226.701,226.808,226.906,227.004,227.102 ,227.196,227.288,227.377,227.463, 227.546,227.629,227.724,227.841,227.918 ,227.99,228.098,228.168,228.236,228.334 ,228.4,228.464,228.526,228.587,228.647, 228.705,228.79,228.819,228.824,228.145, 227.272,226.571,226.55,226.543,226.481, 226.418,226.353,226.253,226.181,226.114 ,226.041,225.966,225.89,225.811,225.729 ,225.602,225.516,225.426,225.287, 225.175,225.075,224.975,224.871,224.763 ,224.653,224.538,224.419,224.299, 224.176,223.985,223.852,223.708,223.49, 223.338,223.181,223.018,222.516,222.147 ,221.431,220.207,219.933,219.648, 219.349,218.875,218.543,218.193,218.011 ,218.077)
ORBIT_NUMBER = 2483
ORBITAL_ECCENTRICITY = 0.572
ORBITAL_INCLINATION = 86.63
ORBITAL_SEMIMAJOR_AXIS = 8529.56
PERIAPSIS_ALTITUDE = 275.31
PERIAPSIS_ARGUMENT_ANGLE = 281.86
PERIAPSIS_TIME = 2005-12-18T23:05:26.000Z
SPACECRAFT_ORIENTATION = (0.0,-1.0,0.0)
^MEX_ORIENTATION_DESC = "MEX_ORIENTATION_DESC.TXT"
SPACECRAFT_POINTING_MODE = NADIR
^MEX_POINTING_DESC = "MEX_POINTING_DESC.TXT"
RIGHT_ASCENSION = -1e+32
DECLINATION = -1e+32
OFFSET_ANGLE = -1e+32
SPACECRAFT_SOLAR_DISTANCE = 2.26534e+08
TARGET_NAME = MARS
/* CAMERA DATA ELEMENTS */
DETECTOR_TEMPERATURE = 18.1666
FOCAL_PLANE_TEMPERATURE = 8.7872
INST_CMPRS_NAME = "DISCRETE COSINE TRANSFORMATION (DCT)"
INST_CMPRS_RATIO = 18.0296
INST_CMPRS_QUALITY = 0
INST_CMPRS_QUANTZ_TBL_ID = 0
INSTRUMENT_TEMPERATURE = 11.4379
LENS_TEMPERATURE = 8.7872
MACROPIXEL_SIZE = 4
PIXEL_SUBSAMPLING_FLAG = N
SIGNAL_CHAIN_ID = 2
/* RADIOMETRIC DATA ELEMENTS */
BANDWIDTH = 88.0
CENTER_FILTER_WAVELENGTH = 538.0
RADIANCE_OFFSET = 0.963827
RADIANCE_SCALING_FACTOR = 0.0028244
REFLECTANCE_SCALING_FACTOR = 0.000124791
MEX:REFLECTANCE_OFFSET = 0.0425848
/* IMAGE OBJECT DEFINITIONS */
OBJECT = IMAGE
  INTERCHANGE_FORMAT = BINARY
  LINES = 21811
  LINE_SAMPLES = 3982
  SAMPLE_TYPE = UNSIGNED_INTEGER
  SAMPLE_BITS = 8
  BANDS = 1
  BAND_STORAGE_TYPE = BAND_SEQUENTIAL
  MAXIMUM = 255
  MEAN = 120.513
  MINIMUM = 1
  STANDARD_DEVIATION = 41.1804
END_OBJECT = IMAGE
/* MAP OBJECT DEFINITIONS */
OBJECT = IMAGE_MAP_PROJECTION
  ^DATA_SET_MAP_PROJECTION_CATALOG= "DSMAP.CAT"
  A_AXIS_RADIUS = 3396.0
  B_AXIS_RADIUS = 3396.0
  C_AXIS_RADIUS = 3396.0
  CENTER_LATITUDE = 0.0
  CENTER_LONGITUDE = 226.0
  COORDINATE_SYSTEM_NAME = PLANETOGRAPHIC
  COORDINATE_SYSTEM_TYPE = "BODY-FIXED ROTATING"
  EASTERNMOST_LONGITUDE = 228.824
  FIRST_STANDARD_PARALLEL = "N/A"
  LINE_FIRST_PIXEL = 1
  LINE_LAST_PIXEL = 21811
  LINE_PROJECTION_OFFSET = -69174.875
  MAP_PROJECTION_ROTATION = 0.0
  MAP_PROJECTION_TYPE = SINUSOIDAL
  MAP_RESOLUTION = 1185.42760773333
  MAP_SCALE = 0.05
  MAXIMUM_LATITUDE = -58.3493
  MINIMUM_LATITUDE = -76.7632
  POSITIVE_LONGITUDE_DIRECTION = EAST
  REFERENCE_LATITUDE = "N/A"
  REFERENCE_LONGITUDE = "N/A"
  SAMPLE_FIRST_PIXEL = 1
  SAMPLE_LAST_PIXEL = 3982
  SAMPLE_PROJECTION_OFFSET = 2216.125
  SECOND_STANDARD_PARALLEL = "N/A"
  WESTERNMOST_LONGITUDE = 218.011
END_OBJECT = IMAGE_MAP_PROJECTION
END
