PDS_VERSION_ID = PDS3
/* FILE DATA ELEMENTS */
RECORD_TYPE = UNDEFINED
/* POINTERS TO DATA OBJECTS */
^IMAGE = ("H2482_0006_SR4.TIF")
/* IDENTIFICATION DATA ELEMENTS */
DATA_SET_ID = "MEX-M-HRSC-4-REFDR-MAPPROJECT-EXT1-V4.0"
DATA_SET_NAME = "MARS EXPRESS HRSC MAP PROJECTED REFDR EXTENSION1 V4.0"
DETECTOR_ID = MEX_HRSC_SRC
EVENT_TYPE = "MARS-REGIONAL-MAPPING-Im-Fl-Gl"
INSTRUMENT_HOST_ID = MEX
INSTRUMENT_HOST_NAME = "MARS EXPRESS"
INSTRUMENT_ID = HRSC
INSTRUMENT_NAME = "HIGH RESOLUTION STEREO CAMERA"
MISSION_NAME = "MARS EXPRESS"
MISSION_PHASE_NAME = ME_Phase_1
PROCESSING_LEVEL_ID = 4
PRODUCT_CREATION_TIME = 2023-02-08T07:05:14.000Z
PRODUCT_ID = "H2482_0006_SR4.TIF"
RELEASE_ID = 0001
REVISION_ID = 0000
/* QUALITY DATA ELEMENTS */
DATA_QUALITY_ID = 1
DATA_QUALITY_DESC = "Data calculated based on original SPICE kernels"
/* TIME DATA ELEMENTS */
SPACECRAFT_CLOCK_START_COUNT = "1/0083003037.57297"
SPACECRAFT_CLOCK_STOP_COUNT = "1/0083003366.16240"
IMAGE_TIME = 2005-12-18T16:26:57.226Z
START_TIME = 2005-12-18T16:26:57.224Z
STOP_TIME = 2005-12-18T16:26:57.229Z
/* ORBITAL DATA ELEMENTS */
ASCENDING_NODE_LONGITUDE = 176.17
MAXIMUM_RESOLUTION = 0.003081
FOOTPRINT_POINT_LATITUDE = (-59.8153,-59.8191,-59.8211,-59.8242, -59.8261,-59.8284,-59.8304,-59.8336, -59.8366,-59.839,-59.8409,-59.8441, -59.8465,-59.8495,-59.8519,-59.854, -59.8573,-59.8595,-59.8625,-59.8645, -59.866,-59.8677,-59.8678,-59.8678, -59.8676,-59.8674,-59.8673,-59.8671, -59.8669,-59.8667,-59.8666,-59.8664, -59.8662,-59.866,-59.8658,-59.8656, -59.8655,-59.8653,-59.8651,-59.8649, -59.8647,-59.8645,-59.8644,-59.8642, -59.864,-59.8638,-59.8637,-59.8635, -59.8633,-59.8633,-59.8633,-59.8609, -59.8583,-59.8564,-59.8548,-59.8526, -59.8495,-59.8475,-59.8455,-59.8436, -59.8417,-59.8389,-59.8357,-59.8337, -59.8305,-59.8275,-59.8253,-59.822, -59.8199,-59.8158,-59.8131,-59.8109, -59.8108,-59.8108,-59.8111,-59.8113, -59.8114,-59.8116,-59.8118,-59.812, -59.8121,-59.8123,-59.8125,-59.8126, -59.8128,-59.813,-59.8132,-59.8134, -59.8135,-59.8137,-59.814,-59.8141, -59.8143,-59.8146,-59.8148,-59.8149, -59.815,-59.8153,-59.8153,-59.8153)
FOOTPRINT_POINT_LONGITUDE = (325.735,325.734,325.734,325.734, 325.733,325.733,325.733,325.732,325.732 ,325.731,325.731,325.73,325.73,325.729, 325.729,325.729,325.728,325.728,325.727 ,325.727,325.727,325.726,325.726, 325.726,325.722,325.718,325.714,325.71, 325.705,325.701,325.697,325.693,325.689 ,325.685,325.681,325.675,325.672, 325.668,325.663,325.659,325.655,325.65, 325.646,325.642,325.638,325.634,325.63, 325.626,325.622,325.621,325.621,325.621 ,325.622,325.622,325.622,325.623, 325.623,325.623,325.624,325.624,325.624 ,325.625,325.626,325.626,325.626, 325.627,325.627,325.628,325.628,325.629 ,325.629,325.63,325.63,325.63,325.636, 325.64,325.643,325.649,325.653,325.657, 325.66,325.664,325.668,325.672,325.677, 325.681,325.685,325.689,325.693,325.697 ,325.703,325.708,325.712,325.718, 325.722,325.725,325.728,325.733,325.734 ,325.735)
ORBIT_NUMBER = 2482
ORBITAL_ECCENTRICITY = 0.572
ORBITAL_INCLINATION = 86.63
ORBITAL_SEMIMAJOR_AXIS = 8529.42
PERIAPSIS_ALTITUDE = 276.14
PERIAPSIS_ARGUMENT_ANGLE = 282.05
PERIAPSIS_TIME = 2005-12-18T16:22:27.000Z
SPACECRAFT_ORIENTATION = (0.0,-1.0,0.0)
^MEX_ORIENTATION_DESC = "MEX_ORIENTATION_DESC.TXT"
SPACECRAFT_POINTING_MODE = NADIR
^MEX_POINTING_DESC = "MEX_POINTING_DESC.TXT"
RIGHT_ASCENSION = -1e+32
DECLINATION = -1e+32
OFFSET_ANGLE = -1e+32
SPACECRAFT_SOLAR_DISTANCE = 2.26479e+08
TARGET_NAME = MARS
/* CAMERA DATA ELEMENTS */
BUFFER_MODE_ID = BUFFER_8
EXPOSURE_DURATION = 5.04
INST_CMPRS_NAME = NONE
INST_CMPRS_RATIO = 1.0
INST_CMPRS_QUALITY = -2147483648
INST_CMPRS_QUANTZ_TBL_ID = -2147483648
INSTRUMENT_TEMPERATURE = 11.2121
MISSING_FRAMES = 0
START_BIT = 0
/* RADIOMETRIC DATA ELEMENTS */
BANDWIDTH = 250.0
CENTER_FILTER_WAVELENGTH = 600.0
RADIANCE_OFFSET = -9.99e+31
RADIANCE_SCALING_FACTOR = -9.99e+31
REFLECTANCE_SCALING_FACTOR = -9.99e+31
MEX:REFLECTANCE_OFFSET = -9.99e+31
/* IMAGE OBJECT DEFINITIONS */
OBJECT = IMAGE
  INTERCHANGE_FORMAT = BINARY
  LINES = 1451
  LINE_SAMPLES = 1457
  SAMPLE_TYPE = UNSIGNED_INTEGER
  SAMPLE_BITS = 8
  BANDS = 1
  BAND_STORAGE_TYPE = BAND_SEQUENTIAL
  MAXIMUM = 243
  MEAN = 156.069
  MINIMUM = 4
  STANDARD_DEVIATION = 29.6488
END_OBJECT = IMAGE
/* MAP OBJECT DEFINITIONS */
OBJECT = IMAGE_MAP_PROJECTION
  ^DATA_SET_MAP_PROJECTION_CATALOG= "DSMAP.CAT"
  A_AXIS_RADIUS = 3396.19
  B_AXIS_RADIUS = 3396.19
  C_AXIS_RADIUS = 3396.19
  CENTER_LATITUDE = 0.0
  CENTER_LONGITUDE = 326.0
  COORDINATE_SYSTEM_NAME = PLANETOGRAPHIC
  COORDINATE_SYSTEM_TYPE = "BODY-FIXED ROTATING"
  EASTERNMOST_LONGITUDE = 325.735
  FIRST_STANDARD_PARALLEL = "N/A"
  LINE_FIRST_PIXEL = 1
  LINE_LAST_PIXEL = 1451
  LINE_PROJECTION_OFFSET = -1415636.0
  MAP_PROJECTION_ROTATION = 0.0
  MAP_PROJECTION_TYPE = SINUSOIDAL
  MAP_RESOLUTION = 23709.8786048756
  MAP_SCALE = 0.0025
  MAXIMUM_LATITUDE = -59.8108
  MINIMUM_LATITUDE = -59.8678
  POSITIVE_LONGITUDE_DIRECTION = EAST
  REFERENCE_LATITUDE = "N/A"
  REFERENCE_LONGITUDE = "N/A"
  SAMPLE_FIRST_PIXEL = 1
  SAMPLE_LAST_PIXEL = 1457
  SAMPLE_PROJECTION_OFFSET = 4552.0
  SECOND_STANDARD_PARALLEL = "N/A"
  WESTERNMOST_LONGITUDE = 325.621
END_OBJECT = IMAGE_MAP_PROJECTION
END
