PDS_VERSION_ID = PDS3
/* FILE DATA ELEMENTS */
RECORD_TYPE = UNDEFINED
/* POINTERS TO DATA OBJECTS */
^IMAGE = ("H2482_0002_SR4.TIF")
/* IDENTIFICATION DATA ELEMENTS */
DATA_SET_ID = "MEX-M-HRSC-4-REFDR-MAPPROJECT-EXT1-V4.0"
DATA_SET_NAME = "MARS EXPRESS HRSC MAP PROJECTED REFDR EXTENSION1 V4.0"
DETECTOR_ID = MEX_HRSC_SRC
EVENT_TYPE = "MARS-REGIONAL-MAPPING-Im-Fl-Gl"
INSTRUMENT_HOST_ID = MEX
INSTRUMENT_HOST_NAME = "MARS EXPRESS"
INSTRUMENT_ID = HRSC
INSTRUMENT_NAME = "HIGH RESOLUTION STEREO CAMERA"
MISSION_NAME = "MARS EXPRESS"
MISSION_PHASE_NAME = ME_Phase_1
PROCESSING_LEVEL_ID = 4
PRODUCT_CREATION_TIME = 2023-02-08T07:05:14.000Z
PRODUCT_ID = "H2482_0002_SR4.TIF"
RELEASE_ID = 0001
REVISION_ID = 0000
/* QUALITY DATA ELEMENTS */
DATA_QUALITY_ID = 1
DATA_QUALITY_DESC = "Data calculated based on original SPICE kernels"
/* TIME DATA ELEMENTS */
SPACECRAFT_CLOCK_START_COUNT = "1/0083003037.57297"
SPACECRAFT_CLOCK_STOP_COUNT = "1/0083003366.16240"
IMAGE_TIME = 2005-12-18T16:26:55.046Z
START_TIME = 2005-12-18T16:26:55.043Z
STOP_TIME = 2005-12-18T16:26:55.049Z
/* ORBITAL DATA ELEMENTS */
ASCENDING_NODE_LONGITUDE = 176.17
MAXIMUM_RESOLUTION = 0.003076
FOOTPRINT_POINT_LATITUDE = (-59.9561,-59.9579,-59.961,-59.9629, -59.9657,-59.9676,-59.9692,-59.9717, -59.9745,-59.9775,-59.9792,-59.9819, -59.9844,-59.9875,-59.991,-59.9929, -59.995,-59.9979,-60.0009,-60.0033, -60.0058,-60.0083,-60.0084,-60.0084, -60.0082,-60.008,-60.0078,-60.0076, -60.0075,-60.0074,-60.0072,-60.0071, -60.007,-60.0068,-60.0066,-60.0064, -60.0062,-60.006,-60.0059,-60.0056, -60.0054,-60.0052,-60.0051,-60.0049, -60.0048,-60.0047,-60.0045,-60.0043, -60.0041,-60.004,-60.0039,-60.0039, -60.0018,-59.9996,-59.9974,-59.9941, -59.9913,-59.9878,-59.9853,-59.9833, -59.9816,-59.9791,-59.9765,-59.9747, -59.972,-59.9699,-59.9666,-59.9641, -59.962,-59.9603,-59.9571,-59.9546, -59.9516,-59.9515,-59.9515,-59.9517, -59.952,-59.9521,-59.9523,-59.9524, -59.9526,-59.9528,-59.953,-59.9532, -59.9533,-59.9535,-59.9537,-59.954, -59.9541,-59.9543,-59.9545,-59.9547, -59.9548,-59.955,-59.9552,-59.9554, -59.9557,-59.956,-59.956,-59.9561)
FOOTPRINT_POINT_LONGITUDE = (325.711,325.711,325.71,325.71,325.709, 325.709,325.709,325.708,325.708,325.707 ,325.707,325.707,325.706,325.706, 325.705,325.705,325.704,325.704,325.703 ,325.703,325.703,325.702,325.702, 325.702,325.698,325.694,325.688,325.685 ,325.682,325.679,325.676,325.673,325.67 ,325.666,325.661,325.657,325.652, 325.648,325.644,325.639,325.633,325.629 ,325.626,325.622,325.618,325.615, 325.611,325.606,325.602,325.598,325.597 ,325.596,325.597,325.597,325.597, 325.598,325.599,325.599,325.6,325.6, 325.6,325.601,325.601,325.601,325.602, 325.602,325.603,325.603,325.604,325.604 ,325.604,325.605,325.605,325.605, 325.606,325.61,325.615,325.619,325.623, 325.626,325.629,325.634,325.639,325.643 ,325.646,325.651,325.655,325.662, 325.666,325.67,325.674,325.678,325.682, 325.686,325.691,325.695,325.702,325.709 ,325.71,325.711)
ORBIT_NUMBER = 2482
ORBITAL_ECCENTRICITY = 0.572
ORBITAL_INCLINATION = 86.63
ORBITAL_SEMIMAJOR_AXIS = 8529.42
PERIAPSIS_ALTITUDE = 276.14
PERIAPSIS_ARGUMENT_ANGLE = 282.05
PERIAPSIS_TIME = 2005-12-18T16:22:27.000Z
SPACECRAFT_ORIENTATION = (0.0,-1.0,0.0)
^MEX_ORIENTATION_DESC = "MEX_ORIENTATION_DESC.TXT"
SPACECRAFT_POINTING_MODE = NADIR
^MEX_POINTING_DESC = "MEX_POINTING_DESC.TXT"
RIGHT_ASCENSION = -1e+32
DECLINATION = -1e+32
OFFSET_ANGLE = -1e+32
SPACECRAFT_SOLAR_DISTANCE = 2.26479e+08
TARGET_NAME = MARS
/* CAMERA DATA ELEMENTS */
BUFFER_MODE_ID = BUFFER_8
EXPOSURE_DURATION = 5.04
INST_CMPRS_NAME = NONE
INST_CMPRS_RATIO = 1.0
INST_CMPRS_QUALITY = -2147483648
INST_CMPRS_QUANTZ_TBL_ID = -2147483648
INSTRUMENT_TEMPERATURE = 11.2121
MISSING_FRAMES = 0
START_BIT = 0
/* RADIOMETRIC DATA ELEMENTS */
BANDWIDTH = 250.0
CENTER_FILTER_WAVELENGTH = 600.0
RADIANCE_OFFSET = -9.99e+31
RADIANCE_SCALING_FACTOR = -9.99e+31
REFLECTANCE_SCALING_FACTOR = -9.99e+31
MEX:REFLECTANCE_OFFSET = -9.99e+31
/* IMAGE OBJECT DEFINITIONS */
OBJECT = IMAGE
  INTERCHANGE_FORMAT = BINARY
  LINES = 1450
  LINE_SAMPLES = 1455
  SAMPLE_TYPE = UNSIGNED_INTEGER
  SAMPLE_BITS = 8
  BANDS = 1
  BAND_STORAGE_TYPE = BAND_SEQUENTIAL
  MAXIMUM = 242
  MEAN = 136.955
  MINIMUM = 12
  STANDARD_DEVIATION = 29.14
END_OBJECT = IMAGE
/* MAP OBJECT DEFINITIONS */
OBJECT = IMAGE_MAP_PROJECTION
  ^DATA_SET_MAP_PROJECTION_CATALOG= "DSMAP.CAT"
  A_AXIS_RADIUS = 3396.19
  B_AXIS_RADIUS = 3396.19
  C_AXIS_RADIUS = 3396.19
  CENTER_LATITUDE = 0.0
  CENTER_LONGITUDE = 326.0
  COORDINATE_SYSTEM_NAME = PLANETOGRAPHIC
  COORDINATE_SYSTEM_TYPE = "BODY-FIXED ROTATING"
  EASTERNMOST_LONGITUDE = 325.711
  FIRST_STANDARD_PARALLEL = "N/A"
  LINE_FIRST_PIXEL = 1
  LINE_LAST_PIXEL = 1450
  LINE_PROJECTION_OFFSET = -1418957.0
  MAP_PROJECTION_ROTATION = 0.0
  MAP_PROJECTION_TYPE = SINUSOIDAL
  MAP_RESOLUTION = 23709.8786048756
  MAP_SCALE = 0.0025
  MAXIMUM_LATITUDE = -59.9515
  MINIMUM_LATITUDE = -60.0084
  POSITIVE_LONGITUDE_DIRECTION = EAST
  REFERENCE_LATITUDE = "N/A"
  REFERENCE_LONGITUDE = "N/A"
  SAMPLE_FIRST_PIXEL = 1
  SAMPLE_LAST_PIXEL = 1455
  SAMPLE_PROJECTION_OFFSET = 4821.0
  SECOND_STANDARD_PARALLEL = "N/A"
  WESTERNMOST_LONGITUDE = 325.596
END_OBJECT = IMAGE_MAP_PROJECTION
END
