PDS_VERSION_ID = PDS3
/* FILE DATA ELEMENTS */
RECORD_TYPE = UNDEFINED
/* POINTERS TO DATA OBJECTS */
^IMAGE = ("H2480_0000_P14.TIF")
/* IDENTIFICATION DATA ELEMENTS */
DATA_SET_ID = "MEX-M-HRSC-4-REFDR-MAPPROJECT-EXT1-V4.0"
DATA_SET_NAME = "MARS EXPRESS HRSC MAP PROJECTED REFDR EXTENSION1 V4.0"
DETECTOR_ID = MEX_HRSC_P1
EVENT_TYPE = "MARS-REGIONAL-MAPPING-Im-Fl"
INSTRUMENT_HOST_ID = MEX
INSTRUMENT_HOST_NAME = "MARS EXPRESS"
INSTRUMENT_ID = HRSC
INSTRUMENT_NAME = "HIGH RESOLUTION STEREO CAMERA"
MISSION_NAME = "MARS EXPRESS"
MISSION_PHASE_NAME = ME_Phase_1
PROCESSING_LEVEL_ID = 4
PRODUCT_CREATION_TIME = 2023-02-08T07:05:14.000Z
PRODUCT_ID = "H2480_0000_P14.TIF"
RELEASE_ID = 0001
REVISION_ID = 0000
/* QUALITY DATA ELEMENTS */
DATA_QUALITY_ID = 1
DATA_QUALITY_DESC = "Data calculated based on original SPICE kernels"
/* TIME DATA ELEMENTS */
SPACECRAFT_CLOCK_START_COUNT = "1/0082954754.57151"
SPACECRAFT_CLOCK_STOP_COUNT = "1/0082955162.04975"
START_TIME = 2005-12-18T02:59:30.835Z
STOP_TIME = 2005-12-18T03:04:39.339Z
/* ORBITAL DATA ELEMENTS */
ASCENDING_NODE_LONGITUDE = 176.21
MAXIMUM_RESOLUTION = 0.0498
FOOTPRINT_POINT_LATITUDE = (-63.8115,-63.8765,-63.9337,-63.9347, -63.8834,-63.2156,-62.8781,-62.037, -61.5252,-61.1771,-60.8304,-60.4832, -60.1365,-59.7823,-59.4234,-59.0651, -58.7069,-58.3451,-57.9724,-57.4199, -57.0495,-56.6795,-56.3103,-55.9417, -55.5737,-55.2067,-54.6563,-54.0334, -53.5968,-53.1591,-52.7229,-52.2874, -51.8531,-51.417,-50.9857,-50.3359, -49.6736,-49.2302,-48.7775,-48.0944, -47.6327,-47.1659,-46.6941,-46.2137, -45.4847,-44.7442,-43.9901,-43.7356, -43.7332,-43.7212,-43.699,-43.6784, -43.659,-43.6573,-43.6582,-44.1644, -44.6635,-45.4035,-46.131,-46.6106, -47.0815,-47.5481,-48.0088,-48.6906, -49.1425,-49.5838,-50.2427,-50.6717, -51.1112,-51.5432,-51.9759,-52.4098, -52.8434,-53.2751,-53.7107,-54.1492, -54.5534,-54.9197,-55.2872,-55.8385, -56.2062,-56.5751,-56.9431,-57.3118, -57.6811,-58.0501,-58.5889,-58.9461, -59.3066,-59.8446,-60.1931,-60.7148, -61.0627,-61.5776,-61.9151,-62.5811, -62.9202,-63.5911,-63.7527,-63.8115)
FOOTPRINT_POINT_LONGITUDE = (159.817,160.921,162.066,162.087, 162.142,162.294,162.369,162.544,162.644 ,162.711,162.774,162.837,162.897, 162.958,163.017,163.075,163.132,163.188 ,163.245,163.324,163.377,163.429, 163.478,163.527,163.573,163.619,163.685 ,163.756,163.805,163.854,163.9,163.945, 163.988,164.032,164.072,164.132,164.191 ,164.229,164.266,164.32,164.356,164.39, 164.424,164.458,164.508,164.555,164.601 ,164.616,164.617,164.101,163.389, 162.825,162.326,162.304,162.297,162.276 ,162.255,162.223,162.188,162.163, 162.137,162.11,162.081,162.036,162.005, 161.973,161.922,161.885,161.854,161.815 ,161.775,161.733,161.689,161.641, 161.593,161.545,161.498,161.453,161.407 ,161.335,161.284,161.233,161.179, 161.123,161.066,161.006,160.907,160.843 ,160.78,160.679,160.611,160.505,160.432 ,160.311,160.234,160.066,159.985, 159.805,159.76,159.817)
ORBIT_NUMBER = 2480
ORBITAL_ECCENTRICITY = 0.572
ORBITAL_INCLINATION = 86.62
ORBITAL_SEMIMAJOR_AXIS = 8531.77
PERIAPSIS_ALTITUDE = 276.64
PERIAPSIS_ARGUMENT_ANGLE = 282.39
PERIAPSIS_TIME = 2005-12-18T02:56:25.000Z
SPACECRAFT_ORIENTATION = (0.0,-1.0,0.0)
^MEX_ORIENTATION_DESC = "MEX_ORIENTATION_DESC.TXT"
SPACECRAFT_POINTING_MODE = ACROSSTRACK
^MEX_POINTING_DESC = "MEX_POINTING_DESC.TXT"
RIGHT_ASCENSION = -1e+32
DECLINATION = -1e+32
OFFSET_ANGLE = 0.15
SPACECRAFT_SOLAR_DISTANCE = 2.2637e+08
TARGET_NAME = MARS
/* CAMERA DATA ELEMENTS */
DETECTOR_TEMPERATURE = 16.9432
FOCAL_PLANE_TEMPERATURE = 8.7872
INST_CMPRS_NAME = "DISCRETE COSINE TRANSFORMATION (DCT)"
INST_CMPRS_RATIO = 17.7531
INST_CMPRS_QUALITY = 0
INST_CMPRS_QUANTZ_TBL_ID = 0
INSTRUMENT_TEMPERATURE = 11.4379
LENS_TEMPERATURE = 9.195
MACROPIXEL_SIZE = 4
MISSING_FRAMES = 0
PIXEL_SUBSAMPLING_FLAG = N
SIGNAL_CHAIN_ID = 3
/* RADIOMETRIC DATA ELEMENTS */
BANDWIDTH = 174.0
CENTER_FILTER_WAVELENGTH = 675.0
RADIANCE_OFFSET = 2.57286
RADIANCE_SCALING_FACTOR = 0.0197063
REFLECTANCE_SCALING_FACTOR = 0.000543162
MEX:REFLECTANCE_OFFSET = 0.0709152
/* IMAGE OBJECT DEFINITIONS */
OBJECT = IMAGE
  INTERCHANGE_FORMAT = BINARY
  LINES = 23975
  LINE_SAMPLES = 3157
  SAMPLE_TYPE = UNSIGNED_INTEGER
  SAMPLE_BITS = 8
  BANDS = 1
  BAND_STORAGE_TYPE = BAND_SEQUENTIAL
  MAXIMUM = 255
  MEAN = 118.454
  MINIMUM = 1
  STANDARD_DEVIATION = 40.8639
END_OBJECT = IMAGE
/* MAP OBJECT DEFINITIONS */
OBJECT = IMAGE_MAP_PROJECTION
  ^DATA_SET_MAP_PROJECTION_CATALOG= "DSMAP.CAT"
  A_AXIS_RADIUS = 3396.0
  B_AXIS_RADIUS = 3396.0
  C_AXIS_RADIUS = 3396.0
  CENTER_LATITUDE = 0.0
  CENTER_LONGITUDE = 163.0
  COORDINATE_SYSTEM_NAME = PLANETOGRAPHIC
  COORDINATE_SYSTEM_TYPE = "BODY-FIXED ROTATING"
  EASTERNMOST_LONGITUDE = 164.617
  FIRST_STANDARD_PARALLEL = "N/A"
  LINE_FIRST_PIXEL = 1
  LINE_LAST_PIXEL = 23975
  LINE_PROJECTION_OFFSET = -51745.375
  MAP_PROJECTION_ROTATION = 0.0
  MAP_PROJECTION_TYPE = SINUSOIDAL
  MAP_RESOLUTION = 1185.42760773333
  MAP_SCALE = 0.05
  MAXIMUM_LATITUDE = -43.6573
  MINIMUM_LATITUDE = -63.9347
  POSITIVE_LONGITUDE_DIRECTION = EAST
  REFERENCE_LATITUDE = "N/A"
  REFERENCE_LONGITUDE = "N/A"
  SAMPLE_FIRST_PIXEL = 1
  SAMPLE_LAST_PIXEL = 3157
  SAMPLE_PROJECTION_OFFSET = 1711.125
  SECOND_STANDARD_PARALLEL = "N/A"
  WESTERNMOST_LONGITUDE = 159.76
END_OBJECT = IMAGE_MAP_PROJECTION
END
