PDS_VERSION_ID = PDS3
/* FILE DATA ELEMENTS */
RECORD_TYPE = UNDEFINED
/* POINTERS TO DATA OBJECTS */
^IMAGE = ("H2473_0000_IR4.TIF")
/* IDENTIFICATION DATA ELEMENTS */
DATA_SET_ID = "MEX-M-HRSC-4-REFDR-MAPPROJECT-EXT1-V4.0"
DATA_SET_NAME = "MARS EXPRESS HRSC MAP PROJECTED REFDR EXTENSION1 V4.0"
DETECTOR_ID = MEX_HRSC_IR
EVENT_TYPE = "MARS-REGIONAL-MAPPING-Gl-Pf-La"
INSTRUMENT_HOST_ID = MEX
INSTRUMENT_HOST_NAME = "MARS EXPRESS"
INSTRUMENT_ID = HRSC
INSTRUMENT_NAME = "HIGH RESOLUTION STEREO CAMERA"
MISSION_NAME = "MARS EXPRESS"
MISSION_PHASE_NAME = ME_Phase_1
PROCESSING_LEVEL_ID = 4
PRODUCT_CREATION_TIME = 2023-02-08T07:05:14.000Z
PRODUCT_ID = "H2473_0000_IR4.TIF"
RELEASE_ID = 0001
REVISION_ID = 0000
/* QUALITY DATA ELEMENTS */
DATA_QUALITY_ID = 1
DATA_QUALITY_DESC = "Data calculated based on original SPICE kernels"
/* TIME DATA ELEMENTS */
SPACECRAFT_CLOCK_START_COUNT = "1/0082785208.57957"
SPACECRAFT_CLOCK_STOP_COUNT = "1/0082785493.50371"
START_TIME = 2005-12-16T03:53:40.226Z
STOP_TIME = 2005-12-16T03:57:29.891Z
/* ORBITAL DATA ELEMENTS */
ASCENDING_NODE_LONGITUDE = 176.36
MAXIMUM_RESOLUTION = 0.0456
FOOTPRINT_POINT_LATITUDE = (-80.1283,-80.3248,-80.4622,-80.5895, -80.5933,-80.5158,-80.0814,-79.7949, -79.5033,-79.0647,-78.7692,-78.3264, -78.0395,-77.6082,-77.1757,-76.7451, -76.4486,-76.157,-75.8652,-75.5729, -75.28,-74.9869,-74.5464,-74.2514, -73.956,-73.6605,-73.3646,-73.0704, -72.7761,-72.4742,-72.1756,-71.8735, -71.5745,-71.2754,-70.9773,-70.6771, -70.3657,-69.9159,-69.6158,-69.3252, -69.0203,-68.7042,-68.2295,-67.9156, -67.6009,-67.2877,-66.9735,-66.6589, -66.1879,-65.8736,-65.7166,-65.5608, -65.4831,-65.3503,-65.3477,-65.3476, -65.9704,-66.437,-66.7481,-67.0597, -67.6839,-68.1506,-68.4611,-68.7692, -69.0703,-69.3676,-69.6646,-69.9611, -70.2689,-70.5662,-70.862,-71.1581, -71.6008,-71.8977,-72.3399,-72.7787, -73.0707,-73.5064,-73.7965,-74.0872, -74.3797,-74.6644,-74.9507,-75.3798, -75.6655,-75.9502,-76.234,-76.6664, -77.0826,-77.3614,-77.6392,-77.9173, -78.2008,-78.4859,-78.7706,-79.1942, -79.4672,-79.7412,-79.8861,-80.1283)
FOOTPRINT_POINT_LONGITUDE = (108.592,110.56,112.066,113.577,113.625 ,113.694,114.737,115.381,115.991, 116.846,117.379,118.123,118.574,119.211 ,119.806,120.362,120.712,121.048,121.37 ,121.679,121.976,122.261,122.669, 122.928,123.177,123.417,123.648,123.872 ,124.089,124.295,124.496,124.689, 124.876,125.058,125.234,125.404,125.575 ,125.813,125.965,126.117,126.262, 126.405,126.612,126.746,126.876,127.003 ,127.126,127.245,127.418,127.529, 127.584,127.637,126.691,125.205,125.18, 125.172,124.909,124.701,124.558,124.411 ,124.107,123.865,123.696,123.518, 123.342,123.163,122.978,122.787,122.583 ,122.381,122.171,121.955,121.616, 121.384,121.017,120.625,120.353,119.922 ,119.622,119.314,118.999,118.656, 118.305,117.755,117.37,116.97,116.552, 115.91,115.195,114.698,114.179,113.639, 113.053,112.432,111.783,110.744,109.992 ,109.206,108.812,108.592)
ORBIT_NUMBER = 2473
ORBITAL_ECCENTRICITY = 0.572
ORBITAL_INCLINATION = 86.62
ORBITAL_SEMIMAJOR_AXIS = 8533.15
PERIAPSIS_ALTITUDE = 276.06
PERIAPSIS_ARGUMENT_ANGLE = 283.6
PERIAPSIS_TIME = 2005-12-16T03:55:13.000Z
SPACECRAFT_ORIENTATION = (0.0,-1.0,0.0)
^MEX_ORIENTATION_DESC = "MEX_ORIENTATION_DESC.TXT"
SPACECRAFT_POINTING_MODE = ACROSSTRACK
^MEX_POINTING_DESC = "MEX_POINTING_DESC.TXT"
RIGHT_ASCENSION = -1e+32
DECLINATION = -1e+32
OFFSET_ANGLE = 0.83
SPACECRAFT_SOLAR_DISTANCE = 2.25986e+08
TARGET_NAME = MARS
/* CAMERA DATA ELEMENTS */
DETECTOR_TEMPERATURE = 17.1471
FOCAL_PLANE_TEMPERATURE = 8.1755
INST_CMPRS_NAME = "DISCRETE COSINE TRANSFORMATION (DCT)"
INST_CMPRS_RATIO = 9.81549
INST_CMPRS_QUALITY = 0
INST_CMPRS_QUANTZ_TBL_ID = 0
INSTRUMENT_TEMPERATURE = 10.8262
LENS_TEMPERATURE = 8.5833
MACROPIXEL_SIZE = 4
PIXEL_SUBSAMPLING_FLAG = N
SIGNAL_CHAIN_ID = 2
/* RADIOMETRIC DATA ELEMENTS */
BANDWIDTH = 81.0
CENTER_FILTER_WAVELENGTH = 955.5
RADIANCE_OFFSET = 0.429659
RADIANCE_SCALING_FACTOR = 0.00353426
REFLECTANCE_SCALING_FACTOR = 0.000389395
MEX:REFLECTANCE_OFFSET = 0.0473386
/* IMAGE OBJECT DEFINITIONS */
OBJECT = IMAGE
  INTERCHANGE_FORMAT = BINARY
  LINES = 17889
  LINE_SAMPLES = 5577
  SAMPLE_TYPE = UNSIGNED_INTEGER
  SAMPLE_BITS = 8
  BANDS = 1
  BAND_STORAGE_TYPE = BAND_SEQUENTIAL
  MAXIMUM = 255
  MEAN = 124.749
  MINIMUM = 1
  STANDARD_DEVIATION = 51.1191
END_OBJECT = IMAGE
/* MAP OBJECT DEFINITIONS */
OBJECT = IMAGE_MAP_PROJECTION
  ^DATA_SET_MAP_PROJECTION_CATALOG= "DSMAP.CAT"
  A_AXIS_RADIUS = 3396.0
  B_AXIS_RADIUS = 3396.0
  C_AXIS_RADIUS = 3396.0
  CENTER_LATITUDE = 0.0
  CENTER_LONGITUDE = 122.0
  COORDINATE_SYSTEM_NAME = PLANETOGRAPHIC
  COORDINATE_SYSTEM_TYPE = "BODY-FIXED ROTATING"
  EASTERNMOST_LONGITUDE = 127.637
  FIRST_STANDARD_PARALLEL = "N/A"
  LINE_FIRST_PIXEL = 1
  LINE_LAST_PIXEL = 17889
  LINE_PROJECTION_OFFSET = -77503.625
  MAP_PROJECTION_ROTATION = 0.0
  MAP_PROJECTION_TYPE = SINUSOIDAL
  MAP_RESOLUTION = 1185.42760773333
  MAP_SCALE = 0.05
  MAXIMUM_LATITUDE = -65.3476
  MINIMUM_LATITUDE = -80.5933
  POSITIVE_LONGITUDE_DIRECTION = EAST
  REFERENCE_LATITUDE = "N/A"
  REFERENCE_LONGITUDE = "N/A"
  SAMPLE_FIRST_PIXEL = 1
  SAMPLE_LAST_PIXEL = 5577
  SAMPLE_PROJECTION_OFFSET = 2788.625
  SECOND_STANDARD_PARALLEL = "N/A"
  WESTERNMOST_LONGITUDE = 108.592
END_OBJECT = IMAGE_MAP_PROJECTION
END
