PDS_VERSION_ID = PDS3
/* FILE DATA ELEMENTS */
RECORD_TYPE = UNDEFINED
/* POINTERS TO DATA OBJECTS */
^IMAGE = ("H2469_0000_GR4.TIF")
/* IDENTIFICATION DATA ELEMENTS */
DATA_SET_ID = "MEX-M-HRSC-4-REFDR-MAPPROJECT-EXT1-V4.0"
DATA_SET_NAME = "MARS EXPRESS HRSC MAP PROJECTED REFDR EXTENSION1 V4.0"
DETECTOR_ID = MEX_HRSC_GREEN
EVENT_TYPE = "MARS-REGIONAL-MAPPING-Im-Fl-Gl"
INSTRUMENT_HOST_ID = MEX
INSTRUMENT_HOST_NAME = "MARS EXPRESS"
INSTRUMENT_ID = HRSC
INSTRUMENT_NAME = "HIGH RESOLUTION STEREO CAMERA"
MISSION_NAME = "MARS EXPRESS"
MISSION_PHASE_NAME = ME_Phase_1
PROCESSING_LEVEL_ID = 4
PRODUCT_CREATION_TIME = 2023-02-08T07:05:14.000Z
PRODUCT_ID = "H2469_0000_GR4.TIF"
RELEASE_ID = 0001
REVISION_ID = 0000
/* QUALITY DATA ELEMENTS */
DATA_QUALITY_ID = 1
DATA_QUALITY_DESC = "Data calculated based on original SPICE kernels"
/* TIME DATA ELEMENTS */
SPACECRAFT_CLOCK_START_COUNT = "1/0082688507.56182"
SPACECRAFT_CLOCK_STOP_COUNT = "1/0082688808.29717"
START_TIME = 2005-12-15T01:02:15.106Z
STOP_TIME = 2005-12-15T01:06:20.714Z
/* ORBITAL DATA ELEMENTS */
ASCENDING_NODE_LONGITUDE = 176.43
MAXIMUM_RESOLUTION = 0.0435
FOOTPRINT_POINT_LATITUDE = (-78.6881,-78.8162,-78.9479,-78.95, -78.943,-78.4731,-78.159,-77.8441, -77.5288,-77.213,-76.8967,-76.58, -76.2628,-75.9453,-75.6275,-75.1502, -74.8316,-74.5127,-74.0338,-73.7139, -73.3946,-73.0744,-72.754,-72.434, -72.1138,-71.6333,-71.3127,-70.8318, -70.3507,-69.8696,-69.549,-69.2284, -68.9075,-68.5863,-68.1,-67.7792, -67.4452,-67.112,-66.7787,-66.2792, -65.9462,-65.6133,-65.2806,-64.9481, -64.6157,-64.2749,-63.9298,-63.5851, -63.2406,-62.8963,-62.7243,-62.6893, -62.6283,-62.5861,-62.585,-62.5853, -62.9277,-63.2706,-63.6137,-63.9571, -64.4692,-64.9659,-65.4631,-65.7941, -66.2915,-66.6228,-66.9537,-67.2853, -67.937,-68.4199,-68.7394,-69.0587, -69.3769,-69.6947,-70.0129,-70.4881, -70.807,-71.284,-71.6011,-71.9186, -72.236,-72.7111,-73.1863,-73.66, -73.9755,-74.4479,-74.762,-75.0758, -75.3891,-75.8581,-76.1699,-76.4811, -76.7912,-77.1008,-77.4096,-77.7175, -78.0246,-78.4825,-78.6353,-78.6881)
FOOTPRINT_POINT_LONGITUDE = (150.424,152.439,154.844,154.887, 155.069,155.663,156.033,156.387,156.72, 157.036,157.337,157.624,157.897,158.158 ,158.406,158.758,158.981,159.194, 159.498,159.695,159.876,160.057,160.231 ,160.394,160.551,160.776,160.92,161.127 ,161.323,161.509,161.626,161.739, 161.852,161.963,162.116,162.217,162.317 ,162.413,162.507,162.641,162.729, 162.813,162.894,162.974,163.051,163.128 ,163.205,163.279,163.35,163.42,163.454, 163.461,162.03,161.203,161.182,161.175, 161.092,161.007,160.92,160.829,160.689, 160.547,160.398,160.293,160.131,160.017 ,159.899,159.777,159.524,159.324,159.19 ,159.051,158.903,158.75,158.592,158.339 ,158.17,157.9,157.709,157.513,157.31, 156.988,156.649,156.285,156.03,155.627, 155.343,155.046,154.735,154.243,153.895 ,153.529,153.145,152.742,152.319, 151.874,151.405,150.65,150.388,150.424)
ORBIT_NUMBER = 2469
ORBITAL_ECCENTRICITY = 0.572
ORBITAL_INCLINATION = 86.62
ORBITAL_SEMIMAJOR_AXIS = 8532.79
PERIAPSIS_ALTITUDE = 276.03
PERIAPSIS_ARGUMENT_ANGLE = 284.31
PERIAPSIS_TIME = 2005-12-15T01:03:13.000Z
SPACECRAFT_ORIENTATION = (0.0,-1.0,0.0)
^MEX_ORIENTATION_DESC = "MEX_ORIENTATION_DESC.TXT"
SPACECRAFT_POINTING_MODE = ACROSSTRACK
^MEX_POINTING_DESC = "MEX_POINTING_DESC.TXT"
RIGHT_ASCENSION = -1e+32
DECLINATION = -1e+32
OFFSET_ANGLE = -0.05
SPACECRAFT_SOLAR_DISTANCE = 2.25767e+08
TARGET_NAME = MARS
/* CAMERA DATA ELEMENTS */
DETECTOR_TEMPERATURE = 17.9627
FOCAL_PLANE_TEMPERATURE = 8.7872
INST_CMPRS_NAME = "DISCRETE COSINE TRANSFORMATION (DCT)"
INST_CMPRS_RATIO = 18.2807
INST_CMPRS_QUALITY = 0
INST_CMPRS_QUANTZ_TBL_ID = 0
INSTRUMENT_TEMPERATURE = 11.4379
LENS_TEMPERATURE = 8.7872
MACROPIXEL_SIZE = 4
PIXEL_SUBSAMPLING_FLAG = N
SIGNAL_CHAIN_ID = 2
/* RADIOMETRIC DATA ELEMENTS */
BANDWIDTH = 88.0
CENTER_FILTER_WAVELENGTH = 538.0
RADIANCE_OFFSET = 0.955292
RADIANCE_SCALING_FACTOR = 0.00368052
REFLECTANCE_SCALING_FACTOR = 0.000161518
MEX:REFLECTANCE_OFFSET = 0.0419225
/* IMAGE OBJECT DEFINITIONS */
OBJECT = IMAGE
  INTERCHANGE_FORMAT = BINARY
  LINES = 19387
  LINE_SAMPLES = 4142
  SAMPLE_TYPE = UNSIGNED_INTEGER
  SAMPLE_BITS = 8
  BANDS = 1
  BAND_STORAGE_TYPE = BAND_SEQUENTIAL
  MAXIMUM = 255
  MEAN = 129.366
  MINIMUM = 1
  STANDARD_DEVIATION = 53.4922
END_OBJECT = IMAGE
/* MAP OBJECT DEFINITIONS */
OBJECT = IMAGE_MAP_PROJECTION
  ^DATA_SET_MAP_PROJECTION_CATALOG= "DSMAP.CAT"
  A_AXIS_RADIUS = 3396.0
  B_AXIS_RADIUS = 3396.0
  C_AXIS_RADIUS = 3396.0
  CENTER_LATITUDE = 0.0
  CENTER_LONGITUDE = 160.0
  COORDINATE_SYSTEM_NAME = PLANETOGRAPHIC
  COORDINATE_SYSTEM_TYPE = "BODY-FIXED ROTATING"
  EASTERNMOST_LONGITUDE = 163.461
  FIRST_STANDARD_PARALLEL = "N/A"
  LINE_FIRST_PIXEL = 1
  LINE_LAST_PIXEL = 19387
  LINE_PROJECTION_OFFSET = -74184.125
  MAP_PROJECTION_ROTATION = 0.0
  MAP_PROJECTION_TYPE = SINUSOIDAL
  MAP_RESOLUTION = 1185.42760773333
  MAP_SCALE = 0.05
  MAXIMUM_LATITUDE = -62.585
  MINIMUM_LATITUDE = -78.95
  POSITIVE_LONGITUDE_DIRECTION = EAST
  REFERENCE_LATITUDE = "N/A"
  REFERENCE_LONGITUDE = "N/A"
  SAMPLE_FIRST_PIXEL = 1
  SAMPLE_LAST_PIXEL = 4142
  SAMPLE_PROJECTION_OFFSET = 2248.375
  SECOND_STANDARD_PARALLEL = "N/A"
  WESTERNMOST_LONGITUDE = 150.388
END_OBJECT = IMAGE_MAP_PROJECTION
END
