PDS_VERSION_ID = PDS3
/* FILE DATA ELEMENTS */
RECORD_TYPE = UNDEFINED
/* POINTERS TO DATA OBJECTS */
^IMAGE = ("H2467_0000_S24.TIF")
/* IDENTIFICATION DATA ELEMENTS */
DATA_SET_ID = "MEX-M-HRSC-4-REFDR-MAPPROJECT-EXT1-V4.0"
DATA_SET_NAME = "MARS EXPRESS HRSC MAP PROJECTED REFDR EXTENSION1 V4.0"
DETECTOR_ID = MEX_HRSC_S2
EVENT_TYPE = "MARS-REGIONAL-MAPPING-Im-Lc-Pf"
INSTRUMENT_HOST_ID = MEX
INSTRUMENT_HOST_NAME = "MARS EXPRESS"
INSTRUMENT_ID = HRSC
INSTRUMENT_NAME = "HIGH RESOLUTION STEREO CAMERA"
MISSION_NAME = "MARS EXPRESS"
MISSION_PHASE_NAME = ME_Phase_1
PROCESSING_LEVEL_ID = 4
PRODUCT_CREATION_TIME = 2023-02-08T07:05:14.000Z
PRODUCT_ID = "H2467_0000_S24.TIF"
RELEASE_ID = 0001
REVISION_ID = 0000
/* QUALITY DATA ELEMENTS */
DATA_QUALITY_ID = 1
DATA_QUALITY_DESC = "Data calculated based on original SPICE kernels"
/* TIME DATA ELEMENTS */
SPACECRAFT_CLOCK_START_COUNT = "1/0082640560.57973"
SPACECRAFT_CLOCK_STOP_COUNT = "1/0082640829.23467"
START_TIME = 2005-12-14T11:44:00.978Z
STOP_TIME = 2005-12-14T11:47:14.263Z
/* ORBITAL DATA ELEMENTS */
ASCENDING_NODE_LONGITUDE = 176.48
MAXIMUM_RESOLUTION = 0.0329
FOOTPRINT_POINT_LATITUDE = (-50.7387,-50.7549,-50.7704,-50.7853, -50.7995,-50.8132,-50.8309,-50.8317, -50.8947,-50.5177,-50.2322,-49.8633, -49.381,-49.1771,-48.9771,-48.5849, -48.2902,-48.0901,-47.6929,-47.4899, -47.1855,-46.983,-46.7763,-46.5698, -46.3634,-46.1545,-45.944,-45.7356, -45.5245,-45.3119,-44.9925,-44.6687, -44.4601,-44.2414,-44.0147,-43.7978, -43.5753,-43.2442,-42.9126,-42.5742, -42.347,-42.1145,-41.8817,-41.6521, -41.4197,-41.0758,-40.8416,-40.4866, -40.3638,-40.3217,-40.3148,-40.3078, -40.3032,-40.2954,-40.2829,-40.2767, -40.2569,-40.2561,-40.2564,-40.4962, -40.8467,-41.0814,-41.314,-41.5461, -41.8898,-42.1192,-42.3457,-42.5728, -42.7952,-43.0181,-43.2404,-43.5708, -43.7917,-44.0104,-44.2285,-44.5524, -44.7676,-44.9824,-45.1938,-45.5166, -45.7303,-45.9391,-46.2518,-46.6533, -46.8584,-47.1637,-47.3664,-47.669, -47.8679,-48.0675,-48.3624,-48.6561, -48.9425,-49.2324,-49.5206,-49.9984, -50.2822,-50.675,-50.7675,-50.7387)
FOOTPRINT_POINT_LONGITUDE = (359.944,360.291,360.64,360.991,361.344 ,361.699,362.191,362.214,362.267, 362.296,362.316,362.352,362.387,362.392 ,362.403,362.43,362.451,362.464,362.491 ,362.504,362.523,362.536,362.548, 362.561,362.573,362.585,362.597,362.609 ,362.622,362.634,362.651,362.669, 362.685,362.697,362.704,362.717,362.728 ,362.746,362.767,362.784,362.796, 362.804,362.814,362.826,362.837,362.857 ,362.87,362.886,362.89,362.892,362.498, 362.209,361.922,361.532,361.116,360.78, 360.24,360.214,360.205,360.204,360.204, 360.204,360.203,360.202,360.2,360.198, 360.196,360.194,360.192,360.189,360.187 ,360.182,360.179,360.175,360.171, 360.165,360.16,360.156,360.151,360.142, 360.136,360.13,360.121,360.111,360.105, 360.094,360.087,360.076,360.069,360.061 ,360.091,360.078,360.026,360.013, 359.999,359.975,359.96,359.936,359.93, 359.944)
ORBIT_NUMBER = 2467
ORBITAL_ECCENTRICITY = 0.572
ORBITAL_INCLINATION = 86.63
ORBITAL_SEMIMAJOR_AXIS = 8531.86
PERIAPSIS_ALTITUDE = 275.45
PERIAPSIS_ARGUMENT_ANGLE = 284.63
PERIAPSIS_TIME = 2005-12-14T11:37:11.000Z
SPACECRAFT_ORIENTATION = (0.0,-1.0,0.0)
^MEX_ORIENTATION_DESC = "MEX_ORIENTATION_DESC.TXT"
SPACECRAFT_POINTING_MODE = ACROSSTRACK
^MEX_POINTING_DESC = "MEX_POINTING_DESC.TXT"
RIGHT_ASCENSION = -1e+32
DECLINATION = -1e+32
OFFSET_ANGLE = -0.45
SPACECRAFT_SOLAR_DISTANCE = 2.25658e+08
TARGET_NAME = MARS
/* CAMERA DATA ELEMENTS */
DETECTOR_TEMPERATURE = 18.7783
FOCAL_PLANE_TEMPERATURE = 8.3794
INST_CMPRS_NAME = "DISCRETE COSINE TRANSFORMATION (DCT)"
INST_CMPRS_RATIO = 10.6017
INST_CMPRS_QUALITY = 0
INST_CMPRS_QUANTZ_TBL_ID = 0
INSTRUMENT_TEMPERATURE = 11.0301
LENS_TEMPERATURE = 8.9911
MACROPIXEL_SIZE = 2
MISSING_FRAMES = 0
PIXEL_SUBSAMPLING_FLAG = N
SIGNAL_CHAIN_ID = 1
/* RADIOMETRIC DATA ELEMENTS */
BANDWIDTH = 178.0
CENTER_FILTER_WAVELENGTH = 679.0
RADIANCE_OFFSET = 4.26187
RADIANCE_SCALING_FACTOR = 0.0159535
REFLECTANCE_SCALING_FACTOR = 0.000430218
MEX:REFLECTANCE_OFFSET = 0.11493
/* IMAGE OBJECT DEFINITIONS */
OBJECT = IMAGE
  INTERCHANGE_FORMAT = BINARY
  LINES = 25180
  LINE_SAMPLES = 4635
  SAMPLE_TYPE = UNSIGNED_INTEGER
  SAMPLE_BITS = 8
  BANDS = 1
  BAND_STORAGE_TYPE = BAND_SEQUENTIAL
  MAXIMUM = 255
  MEAN = 140.659
  MINIMUM = 1
  STANDARD_DEVIATION = 22.8737
END_OBJECT = IMAGE
/* MAP OBJECT DEFINITIONS */
OBJECT = IMAGE_MAP_PROJECTION
  ^DATA_SET_MAP_PROJECTION_CATALOG= "DSMAP.CAT"
  A_AXIS_RADIUS = 3396.0
  B_AXIS_RADIUS = 3396.0
  C_AXIS_RADIUS = 3396.0
  CENTER_LATITUDE = 0.0
  CENTER_LONGITUDE = 1.0
  COORDINATE_SYSTEM_NAME = PLANETOGRAPHIC
  COORDINATE_SYSTEM_TYPE = "BODY-FIXED ROTATING"
  EASTERNMOST_LONGITUDE = 2.892
  FIRST_STANDARD_PARALLEL = "N/A"
  LINE_FIRST_PIXEL = 1
  LINE_LAST_PIXEL = 25180
  LINE_PROJECTION_OFFSET = -95431.25
  MAP_PROJECTION_ROTATION = 0.0
  MAP_PROJECTION_TYPE = SINUSOIDAL
  MAP_RESOLUTION = 2370.85521546667
  MAP_SCALE = 0.025
  MAXIMUM_LATITUDE = -40.2561
  MINIMUM_LATITUDE = -50.8947
  POSITIVE_LONGITUDE_DIRECTION = EAST
  REFERENCE_LATITUDE = "N/A"
  REFERENCE_LONGITUDE = "N/A"
  SAMPLE_FIRST_PIXEL = 1
  SAMPLE_LAST_PIXEL = 4635
  SAMPLE_PROJECTION_OFFSET = 1504.25
  SECOND_STANDARD_PARALLEL = "N/A"
  WESTERNMOST_LONGITUDE = -0.07
END_OBJECT = IMAGE_MAP_PROJECTION
END
