PDS_VERSION_ID = PDS3
/* FILE DATA ELEMENTS */
RECORD_TYPE = UNDEFINED
/* POINTERS TO DATA OBJECTS */
^IMAGE = ("H2466_0000_P24.TIF")
/* IDENTIFICATION DATA ELEMENTS */
DATA_SET_ID = "MEX-M-HRSC-4-REFDR-MAPPROJECT-EXT1-V4.0"
DATA_SET_NAME = "MARS EXPRESS HRSC MAP PROJECTED REFDR EXTENSION1 V4.0"
DETECTOR_ID = MEX_HRSC_P2
EVENT_TYPE = "MARS-REGIONAL-MAPPING-Im-Fl-Pf"
INSTRUMENT_HOST_ID = MEX
INSTRUMENT_HOST_NAME = "MARS EXPRESS"
INSTRUMENT_ID = HRSC
INSTRUMENT_NAME = "HIGH RESOLUTION STEREO CAMERA"
MISSION_NAME = "MARS EXPRESS"
MISSION_PHASE_NAME = ME_Phase_1
PROCESSING_LEVEL_ID = 4
PRODUCT_CREATION_TIME = 2023-02-08T07:05:14.000Z
PRODUCT_ID = "H2466_0000_P24.TIF"
RELEASE_ID = 0001
REVISION_ID = 0000
/* QUALITY DATA ELEMENTS */
DATA_QUALITY_ID = 1
DATA_QUALITY_DESC = "Data calculated based on original SPICE kernels"
/* TIME DATA ELEMENTS */
SPACECRAFT_CLOCK_START_COUNT = "1/0082616244.57967"
SPACECRAFT_CLOCK_STOP_COUNT = "1/0082616715.32704"
START_TIME = 2005-12-14T04:58:17.788Z
STOP_TIME = 2005-12-14T05:04:55.412Z
/* ORBITAL DATA ELEMENTS */
ASCENDING_NODE_LONGITUDE = 176.5
MAXIMUM_RESOLUTION = 0.0531
FOOTPRINT_POINT_LATITUDE = (-59.8381,-59.9283,-59.929,-59.977, -59.0236,-58.4453,-57.6717,-57.2742, -56.8752,-56.4802,-56.0887,-55.6968, -55.3043,-54.9096,-54.5197,-54.106, -53.6423,-52.9541,-52.4937,-52.0348, -51.5809,-51.1267,-50.6737,-50.2235, -49.7625,-49.2942,-48.8264,-48.3481, -47.8704,-47.3827,-46.8923,-46.3965, -45.8913,-45.3834,-44.8695,-44.3482, -43.8194,-43.2928,-42.7674,-42.2446, -41.7254,-40.9571,-40.4427,-39.9239, -39.4223,-38.9172,-38.4177,-37.6712, -37.1742,-36.9273,-36.8741,-36.8795, -36.8708,-36.8629,-36.8578,-36.8573, -36.8582,-37.5862,-38.0753,-38.8291, -39.3349,-40.0931,-40.602,-41.1142, -41.6286,-42.1447,-42.6653,-43.1879, -43.7134,-44.5014,-45.0177,-45.5307, -46.0341,-46.7793,-47.2654,-47.7562, -48.2345,-48.7102,-49.1766,-49.8712, -50.3298,-50.7658,-51.231,-51.9157, -52.3723,-53.0564,-53.5167,-53.9784, -54.788,-55.3756,-55.7671,-56.1586, -56.7396,-57.138,-57.5344,-58.3111, -58.8891,-59.6525,-59.8412,-59.8381)
FOOTPRINT_POINT_LONGITUDE = (96.3766,98.5067,98.5268,98.5681, 98.7158,98.804,98.9186,98.9725,99.0232, 99.0745,99.1262,99.1755,99.2223,99.2657 ,99.3105,99.357,99.4067,99.4815,99.5271 ,99.5713,99.6164,99.659,99.7001,99.7428 ,99.7832,99.8196,99.8597,99.8961, 99.9339,99.9708,100.007,100.043,100.078 ,100.113,100.147,100.181,100.214, 100.248,100.279,100.309,100.339,100.385 ,100.411,100.433,100.462,100.487, 100.512,100.548,100.569,100.58,100.584, 100.084,99.4017,98.8476,97.9107,97.8854 ,97.877,97.8834,97.8864,97.8797,97.8741 ,97.8671,97.8609,97.8533,97.8447, 97.8355,97.8238,97.8111,97.7969,97.772, 97.755,97.735,97.7146,97.6823,97.6618, 97.6336,97.6069,97.5791,97.5521,97.506, 97.4742,97.4533,97.4075,97.3485,97.3083 ,97.2475,97.2021,97.1545,97.0667, 96.9959,96.9479,96.8989,96.8299,96.7712 ,96.7133,96.5954,96.502,96.3674,96.3321 ,96.3766)
ORBIT_NUMBER = 2466
ORBITAL_ECCENTRICITY = 0.572
ORBITAL_INCLINATION = 86.63
ORBITAL_SEMIMAJOR_AXIS = 8533.36
PERIAPSIS_ALTITUDE = 274.5
PERIAPSIS_ARGUMENT_ANGLE = 284.81
PERIAPSIS_TIME = 2005-12-14T04:54:13.000Z
SPACECRAFT_ORIENTATION = (0.0,-1.0,0.0)
^MEX_ORIENTATION_DESC = "MEX_ORIENTATION_DESC.TXT"
SPACECRAFT_POINTING_MODE = NADIR
^MEX_POINTING_DESC = "MEX_POINTING_DESC.TXT"
RIGHT_ASCENSION = -1e+32
DECLINATION = -1e+32
OFFSET_ANGLE = -1e+32
SPACECRAFT_SOLAR_DISTANCE = 2.25603e+08
TARGET_NAME = MARS
/* CAMERA DATA ELEMENTS */
DETECTOR_TEMPERATURE = 18.7783
FOCAL_PLANE_TEMPERATURE = 8.5833
INST_CMPRS_NAME = "DISCRETE COSINE TRANSFORMATION (DCT)"
INST_CMPRS_RATIO = 9.93651
INST_CMPRS_QUALITY = 0
INST_CMPRS_QUANTZ_TBL_ID = 0
INSTRUMENT_TEMPERATURE = 50.9945
LENS_TEMPERATURE = 8.7872
MACROPIXEL_SIZE = 4
MISSING_FRAMES = 0
PIXEL_SUBSAMPLING_FLAG = N
SIGNAL_CHAIN_ID = 3
/* RADIOMETRIC DATA ELEMENTS */
BANDWIDTH = 177.0
CENTER_FILTER_WAVELENGTH = 676.5
RADIANCE_OFFSET = 4.47551
RADIANCE_SCALING_FACTOR = 0.0184588
REFLECTANCE_SCALING_FACTOR = 0.000498143
MEX:REFLECTANCE_OFFSET = 0.120779
/* IMAGE OBJECT DEFINITIONS */
OBJECT = IMAGE
  INTERCHANGE_FORMAT = BINARY
  LINES = 27456
  LINE_SAMPLES = 2984
  SAMPLE_TYPE = UNSIGNED_INTEGER
  SAMPLE_BITS = 8
  BANDS = 1
  BAND_STORAGE_TYPE = BAND_SEQUENTIAL
  MAXIMUM = 255
  MEAN = 116.797
  MINIMUM = 1
  STANDARD_DEVIATION = 38.9469
END_OBJECT = IMAGE
/* MAP OBJECT DEFINITIONS */
OBJECT = IMAGE_MAP_PROJECTION
  ^DATA_SET_MAP_PROJECTION_CATALOG= "DSMAP.CAT"
  A_AXIS_RADIUS = 3396.0
  B_AXIS_RADIUS = 3396.0
  C_AXIS_RADIUS = 3396.0
  CENTER_LATITUDE = 0.0
  CENTER_LONGITUDE = 99.0
  COORDINATE_SYSTEM_NAME = PLANETOGRAPHIC
  COORDINATE_SYSTEM_TYPE = "BODY-FIXED ROTATING"
  EASTERNMOST_LONGITUDE = 100.584
  FIRST_STANDARD_PARALLEL = "N/A"
  LINE_FIRST_PIXEL = 1
  LINE_LAST_PIXEL = 27456
  LINE_PROJECTION_OFFSET = -43653.125
  MAP_PROJECTION_ROTATION = 0.0
  MAP_PROJECTION_TYPE = SINUSOIDAL
  MAP_RESOLUTION = 1185.42760773333
  MAP_SCALE = 0.05
  MAXIMUM_LATITUDE = -36.8573
  MINIMUM_LATITUDE = -59.977
  POSITIVE_LONGITUDE_DIRECTION = EAST
  REFERENCE_LATITUDE = "N/A"
  REFERENCE_LONGITUDE = "N/A"
  SAMPLE_FIRST_PIXEL = 1
  SAMPLE_LAST_PIXEL = 2984
  SAMPLE_PROJECTION_OFFSET = 1575.625
  SECOND_STANDARD_PARALLEL = "N/A"
  WESTERNMOST_LONGITUDE = 96.3321
END_OBJECT = IMAGE_MAP_PROJECTION
END
