PDS_VERSION_ID = PDS3
/* FILE DATA ELEMENTS */
RECORD_TYPE = UNDEFINED
/* POINTERS TO DATA OBJECTS */
^IMAGE = ("H2459_0003_SR4.TIF")
/* IDENTIFICATION DATA ELEMENTS */
DATA_SET_ID = "MEX-M-HRSC-4-REFDR-MAPPROJECT-EXT1-V4.0"
DATA_SET_NAME = "MARS EXPRESS HRSC MAP PROJECTED REFDR EXTENSION1 V4.0"
DETECTOR_ID = MEX_HRSC_SRC
EVENT_TYPE = "MARS-REGIONAL-MAPPING-Im-Gl-Pf"
INSTRUMENT_HOST_ID = MEX
INSTRUMENT_HOST_NAME = "MARS EXPRESS"
INSTRUMENT_ID = HRSC
INSTRUMENT_NAME = "HIGH RESOLUTION STEREO CAMERA"
MISSION_NAME = "MARS EXPRESS"
MISSION_PHASE_NAME = ME_Phase_1
PROCESSING_LEVEL_ID = 4
PRODUCT_CREATION_TIME = 2023-02-08T07:05:14.000Z
PRODUCT_ID = "H2459_0003_SR4.TIF"
RELEASE_ID = 0001
REVISION_ID = 0000
/* QUALITY DATA ELEMENTS */
DATA_QUALITY_ID = 1
DATA_QUALITY_DESC = "Data calculated based on original SPICE kernels"
/* TIME DATA ELEMENTS */
SPACECRAFT_CLOCK_START_COUNT = "1/0082446643.56188"
SPACECRAFT_CLOCK_STOP_COUNT = "1/0082446896.31492"
IMAGE_TIME = 2005-12-12T05:53:48.678Z
START_TIME = 2005-12-12T05:53:48.675Z
STOP_TIME = 2005-12-12T05:53:48.680Z
/* ORBITAL DATA ELEMENTS */
ASCENDING_NODE_LONGITUDE = 176.64
MAXIMUM_RESOLUTION = 0.002489
FOOTPRINT_POINT_LATITUDE = (-71.1822,-71.1836,-71.1858,-71.1873, -71.1898,-71.1925,-71.1952,-71.1976, -71.1991,-71.2003,-71.2023,-71.2038, -71.2055,-71.2085,-71.2106,-71.2125, -71.214,-71.2162,-71.2176,-71.2191, -71.2217,-71.224,-71.224,-71.224, -71.2237,-71.2234,-71.2231,-71.2228, -71.2225,-71.2222,-71.2219,-71.2216, -71.2213,-71.221,-71.2207,-71.2205, -71.2202,-71.2199,-71.2196,-71.2193, -71.219,-71.2187,-71.2184,-71.2181, -71.2178,-71.2175,-71.2172,-71.2169, -71.2166,-71.2165,-71.2165,-71.2142, -71.2113,-71.2094,-71.2073,-71.2045, -71.2028,-71.2007,-71.1977,-71.1963, -71.1945,-71.1924,-71.1898,-71.1879, -71.1863,-71.1838,-71.1816,-71.1799, -71.1786,-71.1766,-71.1747,-71.1747, -71.1747,-71.175,-71.1753,-71.1756, -71.1758,-71.1761,-71.1764,-71.1767, -71.177,-71.1773,-71.1776,-71.1779, -71.1782,-71.1785,-71.1788,-71.1791, -71.1794,-71.1797,-71.18,-71.1803, -71.1806,-71.1809,-71.1812,-71.1815, -71.1818,-71.1821,-71.1822,-71.1822)
FOOTPRINT_POINT_LONGITUDE = (60.9521,60.9513,60.9501,60.9493, 60.9479,60.9465,60.945,60.9437,60.9429, 60.9422,60.9411,60.9402,60.9393,60.9377 ,60.9365,60.9355,60.9347,60.9334, 60.9327,60.9319,60.9304,60.9292,60.9291 ,60.929,60.9238,60.9187,60.9135,60.9083 ,60.9032,60.898,60.8928,60.8877,60.8825 ,60.8773,60.8722,60.867,60.8618,60.8567 ,60.8515,60.8463,60.8412,60.836,60.8308 ,60.8257,60.8205,60.8153,60.8102,60.805 ,60.7998,60.7985,60.7977,60.799,60.8006 ,60.8017,60.8029,60.8044,60.8054, 60.8065,60.8082,60.809,60.8099,60.8111, 60.8126,60.8136,60.8145,60.8159,60.8171 ,60.8181,60.8188,60.8199,60.821,60.821, 60.8211,60.8263,60.8314,60.8366,60.8418 ,60.8469,60.8521,60.8572,60.8624, 60.8675,60.8727,60.8779,60.883,60.8882, 60.8933,60.8985,60.9036,60.9088,60.914, 60.9191,60.9243,60.9294,60.9346,60.9397 ,60.9449,60.95,60.9513,60.9521)
ORBIT_NUMBER = 2459
ORBITAL_ECCENTRICITY = 0.572
ORBITAL_INCLINATION = 86.63
ORBITAL_SEMIMAJOR_AXIS = 8533.91
PERIAPSIS_ALTITUDE = 274.45
PERIAPSIS_ARGUMENT_ANGLE = 286.05
PERIAPSIS_TIME = 2005-12-12T05:53:13.000Z
SPACECRAFT_ORIENTATION = (0.0,-1.0,0.0)
^MEX_ORIENTATION_DESC = "MEX_ORIENTATION_DESC.TXT"
SPACECRAFT_POINTING_MODE = ACROSSTRACK
^MEX_POINTING_DESC = "MEX_POINTING_DESC.TXT"
RIGHT_ASCENSION = -1e+32
DECLINATION = -1e+32
OFFSET_ANGLE = 0.23
SPACECRAFT_SOLAR_DISTANCE = 2.2522e+08
TARGET_NAME = MARS
/* CAMERA DATA ELEMENTS */
BUFFER_MODE_ID = BUFFER_8
EXPOSURE_DURATION = 5.04
INST_CMPRS_NAME = NONE
INST_CMPRS_RATIO = 1.0
INST_CMPRS_QUALITY = -2147483648
INST_CMPRS_QUANTZ_TBL_ID = -2147483648
INSTRUMENT_TEMPERATURE = 11.2121
MISSING_FRAMES = 0
START_BIT = 0
/* RADIOMETRIC DATA ELEMENTS */
BANDWIDTH = 250.0
CENTER_FILTER_WAVELENGTH = 600.0
RADIANCE_OFFSET = -9.99e+31
RADIANCE_SCALING_FACTOR = -9.99e+31
REFLECTANCE_SCALING_FACTOR = -9.99e+31
MEX:REFLECTANCE_OFFSET = -9.99e+31
/* IMAGE OBJECT DEFINITIONS */
OBJECT = IMAGE
  INTERCHANGE_FORMAT = BINARY
  LINES = 1288
  LINE_SAMPLES = 1296
  SAMPLE_TYPE = UNSIGNED_INTEGER
  SAMPLE_BITS = 8
  BANDS = 1
  BAND_STORAGE_TYPE = BAND_SEQUENTIAL
  MAXIMUM = 239
  MEAN = 137.348
  MINIMUM = 10
  STANDARD_DEVIATION = 23.1563
END_OBJECT = IMAGE
/* MAP OBJECT DEFINITIONS */
OBJECT = IMAGE_MAP_PROJECTION
  ^DATA_SET_MAP_PROJECTION_CATALOG= "DSMAP.CAT"
  A_AXIS_RADIUS = 3396.19
  B_AXIS_RADIUS = 3396.19
  C_AXIS_RADIUS = 3396.19
  CENTER_LATITUDE = 0.0
  CENTER_LONGITUDE = 61.0
  COORDINATE_SYSTEM_NAME = PLANETOGRAPHIC
  COORDINATE_SYSTEM_TYPE = "BODY-FIXED ROTATING"
  EASTERNMOST_LONGITUDE = 60.9521
  FIRST_STANDARD_PARALLEL = "N/A"
  LINE_FIRST_PIXEL = 1
  LINE_LAST_PIXEL = 1288
  LINE_PROJECTION_OFFSET = -1683656.0
  MAP_PROJECTION_ROTATION = 0.0
  MAP_PROJECTION_TYPE = SINUSOIDAL
  MAP_RESOLUTION = 23709.8786048756
  MAP_SCALE = 0.0025
  MAXIMUM_LATITUDE = -71.1747
  MINIMUM_LATITUDE = -71.224
  POSITIVE_LONGITUDE_DIRECTION = EAST
  REFERENCE_LATITUDE = "N/A"
  REFERENCE_LONGITUDE = "N/A"
  SAMPLE_FIRST_PIXEL = 1
  SAMPLE_LAST_PIXEL = 1296
  SAMPLE_PROJECTION_OFFSET = 2003.0
  SECOND_STANDARD_PARALLEL = "N/A"
  WESTERNMOST_LONGITUDE = 60.7977
END_OBJECT = IMAGE_MAP_PROJECTION
END
