PDS_VERSION_ID = PDS3
/* FILE DATA ELEMENTS */
RECORD_TYPE = UNDEFINED
/* POINTERS TO DATA OBJECTS */
^IMAGE = ("H2459_0001_SR4.TIF")
/* IDENTIFICATION DATA ELEMENTS */
DATA_SET_ID = "MEX-M-HRSC-4-REFDR-MAPPROJECT-EXT1-V4.0"
DATA_SET_NAME = "MARS EXPRESS HRSC MAP PROJECTED REFDR EXTENSION1 V4.0"
DETECTOR_ID = MEX_HRSC_SRC
EVENT_TYPE = "MARS-REGIONAL-MAPPING-Im-Gl-Pf"
INSTRUMENT_HOST_ID = MEX
INSTRUMENT_HOST_NAME = "MARS EXPRESS"
INSTRUMENT_ID = HRSC
INSTRUMENT_NAME = "HIGH RESOLUTION STEREO CAMERA"
MISSION_NAME = "MARS EXPRESS"
MISSION_PHASE_NAME = ME_Phase_1
PROCESSING_LEVEL_ID = 4
PRODUCT_CREATION_TIME = 2023-02-08T07:05:14.000Z
PRODUCT_ID = "H2459_0001_SR4.TIF"
RELEASE_ID = 0001
REVISION_ID = 0000
/* QUALITY DATA ELEMENTS */
DATA_QUALITY_ID = 1
DATA_QUALITY_DESC = "Data calculated based on original SPICE kernels"
/* TIME DATA ELEMENTS */
SPACECRAFT_CLOCK_START_COUNT = "1/0082446643.56188"
SPACECRAFT_CLOCK_STOP_COUNT = "1/0082446896.31492"
IMAGE_TIME = 2005-12-12T05:53:47.588Z
START_TIME = 2005-12-12T05:53:47.330Z
STOP_TIME = 2005-12-12T05:53:47.846Z
/* ORBITAL DATA ELEMENTS */
ASCENDING_NODE_LONGITUDE = 176.64
MAXIMUM_RESOLUTION = 0.002487
FOOTPRINT_POINT_LATITUDE = (-71.2542,-71.2555,-71.2578,-71.2599, -71.2625,-71.2646,-71.2674,-71.2692, -71.2705,-71.2723,-71.2754,-71.2777, -71.2797,-71.281,-71.2824,-71.2846, -71.2864,-71.288,-71.2902,-71.2929, -71.2946,-71.2959,-71.296,-71.296, -71.2957,-71.2954,-71.2951,-71.2948, -71.2945,-71.2942,-71.2939,-71.2936, -71.2933,-71.293,-71.2927,-71.2924, -71.2921,-71.2918,-71.2915,-71.2912, -71.2909,-71.2906,-71.2903,-71.29, -71.2897,-71.2894,-71.2891,-71.2888, -71.2885,-71.2884,-71.2884,-71.2869, -71.2851,-71.2836,-71.2818,-71.2797, -71.2784,-71.2763,-71.2732,-71.2719, -71.2689,-71.2668,-71.2641,-71.2624, -71.2607,-71.2578,-71.2552,-71.2533, -71.2506,-71.2489,-71.2466,-71.2466, -71.2466,-71.2469,-71.2472,-71.2475, -71.2478,-71.2481,-71.2484,-71.2487, -71.249,-71.2493,-71.2496,-71.2499, -71.2502,-71.2505,-71.2508,-71.2511, -71.2514,-71.2517,-71.252,-71.2523, -71.2526,-71.2529,-71.2532,-71.2535, -71.2538,-71.2541,-71.2541,-71.2542)
FOOTPRINT_POINT_LONGITUDE = (60.9123,60.9116,60.9104,60.9092, 60.9078,60.9066,60.9051,60.904,60.9033, 60.9023,60.9006,60.8993,60.8982,60.8975 ,60.8967,60.8955,60.8945,60.8936, 60.8924,60.8912,60.8902,60.8895,60.8895 ,60.8894,60.8842,60.879,60.8738,60.8686 ,60.8634,60.8583,60.8531,60.8479, 60.8427,60.8375,60.8323,60.8272,60.822, 60.8165,60.8113,60.8061,60.8009,60.7957 ,60.7906,60.7854,60.7802,60.775,60.7698 ,60.7646,60.7594,60.7581,60.7574, 60.7582,60.7592,60.7601,60.7611,60.7623 ,60.763,60.7642,60.7659,60.7666,60.7683 ,60.7695,60.771,60.772,60.7729,60.7745, 60.776,60.7771,60.7786,60.7795,60.7808, 60.7808,60.7809,60.7861,60.7913,60.7965 ,60.8016,60.8068,60.812,60.8172,60.8223 ,60.8275,60.8327,60.8379,60.843,60.8482 ,60.8534,60.8585,60.8637,60.8689, 60.8741,60.8792,60.8844,60.8896,60.8948 ,60.8999,60.9051,60.9103,60.9116, 60.9123)
ORBIT_NUMBER = 2459
ORBITAL_ECCENTRICITY = 0.572
ORBITAL_INCLINATION = 86.63
ORBITAL_SEMIMAJOR_AXIS = 8533.91
PERIAPSIS_ALTITUDE = 274.45
PERIAPSIS_ARGUMENT_ANGLE = 286.05
PERIAPSIS_TIME = 2005-12-12T05:53:13.000Z
SPACECRAFT_ORIENTATION = (0.0,-1.0,0.0)
^MEX_ORIENTATION_DESC = "MEX_ORIENTATION_DESC.TXT"
SPACECRAFT_POINTING_MODE = ACROSSTRACK
^MEX_POINTING_DESC = "MEX_POINTING_DESC.TXT"
RIGHT_ASCENSION = -1e+32
DECLINATION = -1e+32
OFFSET_ANGLE = 0.23
SPACECRAFT_SOLAR_DISTANCE = 2.2522e+08
TARGET_NAME = MARS
/* CAMERA DATA ELEMENTS */
BUFFER_MODE_ID = BUFFER_8
EXPOSURE_DURATION = 516.096
INST_CMPRS_NAME = NONE
INST_CMPRS_RATIO = 1.0
INST_CMPRS_QUALITY = -2147483648
INST_CMPRS_QUANTZ_TBL_ID = -2147483648
INSTRUMENT_TEMPERATURE = 11.2121
MISSING_FRAMES = 0
START_BIT = 0
/* RADIOMETRIC DATA ELEMENTS */
BANDWIDTH = 250.0
CENTER_FILTER_WAVELENGTH = 600.0
RADIANCE_OFFSET = -9.99e+31
RADIANCE_SCALING_FACTOR = -9.99e+31
REFLECTANCE_SCALING_FACTOR = -9.99e+31
MEX:REFLECTANCE_OFFSET = -9.99e+31
/* IMAGE OBJECT DEFINITIONS */
OBJECT = IMAGE
  INTERCHANGE_FORMAT = BINARY
  LINES = 1289
  LINE_SAMPLES = 1296
  SAMPLE_TYPE = UNSIGNED_INTEGER
  SAMPLE_BITS = 8
  BANDS = 1
  BAND_STORAGE_TYPE = BAND_SEQUENTIAL
  MAXIMUM = 255
  MEAN = 254.945
  MINIMUM = 84
  STANDARD_DEVIATION = 1.72249
END_OBJECT = IMAGE
/* MAP OBJECT DEFINITIONS */
OBJECT = IMAGE_MAP_PROJECTION
  ^DATA_SET_MAP_PROJECTION_CATALOG= "DSMAP.CAT"
  A_AXIS_RADIUS = 3396.19
  B_AXIS_RADIUS = 3396.19
  C_AXIS_RADIUS = 3396.19
  CENTER_LATITUDE = 0.0
  CENTER_LONGITUDE = 61.0
  COORDINATE_SYSTEM_NAME = PLANETOGRAPHIC
  COORDINATE_SYSTEM_TYPE = "BODY-FIXED ROTATING"
  EASTERNMOST_LONGITUDE = 60.9123
  FIRST_STANDARD_PARALLEL = "N/A"
  LINE_FIRST_PIXEL = 1
  LINE_LAST_PIXEL = 1289
  LINE_PROJECTION_OFFSET = -1685352.0
  MAP_PROJECTION_ROTATION = 0.0
  MAP_PROJECTION_TYPE = SINUSOIDAL
  MAP_RESOLUTION = 23709.8786048756
  MAP_SCALE = 0.0025
  MAXIMUM_LATITUDE = -71.2466
  MINIMUM_LATITUDE = -71.29600000000001
  POSITIVE_LONGITUDE_DIRECTION = EAST
  REFERENCE_LATITUDE = "N/A"
  REFERENCE_LONGITUDE = "N/A"
  SAMPLE_FIRST_PIXEL = 1
  SAMPLE_LAST_PIXEL = 1296
  SAMPLE_PROJECTION_OFFSET = 2303.0
  SECOND_STANDARD_PARALLEL = "N/A"
  WESTERNMOST_LONGITUDE = 60.7574
END_OBJECT = IMAGE_MAP_PROJECTION
END
